{"text_format":"1","workbook":"xlsx","n_sheets":9,"sheets":["見積　月額保険料","参考　控除対象保険料","入力","入力Real","データ","保険料（月額保険料）","保険料（控除対象）","年","元号"],"not_rendered":{"charts":0,"images":7,"macros":1,"external_links":0,"defined_names":5,"comments":4,"pivot_tables":0},"unopened":[],"bounds":{"document_bytes":16777216,"sheet_cells":100000,"rows_first":2000,"rows_last":500,"rows_between":2000,"halvings":0,"cell_chars":16384,"cell_head_chars":4096},"cells_cut":0,"cells_raw":0,"read":"whole","date_system":"1900"}

{"sheet":"見積　月額保険料","index":0,"n_rows":127,"n_cols":43,"rows_kept":127,"cut":false,"hidden":false,"merged":[[60,40,60,42],[61,40,61,42],[60,34,60,39],[61,34,61,39],[116,3,116,7],[116,8,116,12],[116,13,116,17],[90,3,90,42],[91,3,91,7],[91,8,91,12],[82,38,82,42],[84,18,84,22],[84,23,84,27],[84,28,84,32],[84,33,84,37],[84,38,84,42],[86,13,86,17],[86,18,86,22],[86,23,86,27],[86,28,86,32],[86,33,86,37],[86,38,86,42],[82,23,82,27],[82,28,82,32],[121,1,121,14],[122,1,122,7],[122,8,122,14],[91,13,91,17],[91,18,91,22],[91,23,91,27],[91,28,91,32],[91,33,91,37],[91,38,91,42],[96,18,96,22],[96,23,96,27],[96,28,96,32],[96,33,96,37],[96,38,96,42],[94,28,94,32],[94,33,94,37],[94,38,94,42],[95,3,95,42],[98,1,101,2],[98,3,98,42],[99,3,99,7],[99,8,99,12],[99,13,99,17],[99,18,99,22],[123,1,124,7],[125,1,125,7],[123,8,125,14],[117,3,117,42],[118,3,118,7],[118,8,118,12],[118,13,118,17],[118,18,118,22],[118,23,118,27],[118,28,118,32],[118,33,118,37],[118,38,118,42],[114,1,118,2],[114,3,114,42],[115,3,115,7],[115,8,115,12],[115,13,115,17],[115,18,115,22],[115,23,115,27],[115,28,115,32],[115,33,115,37],[115,38,115,42],[124,25,124,33],[125,25,125,33],[82,33,82,37],[85,3,85,12],[86,3,86,7],[86,8,86,12],[83,3,83,17],[116,28,116,32],[116,33,116,37],[116,38,116,42],[0,37,0,42],[16,35,16,38],[16,39,16,42],[32,1,32,10],[16,31,16,34],[18,35,18,38],[18,39,18,42],[32,35,33,38],[32,39,33,42],[16,11,16,14],[20,19,21,22],[20,23,21,26],[20,27,21,30],[20,31,21,34],[17,11,17,14],[16,27,16,30],[61,15,61,24],[60,15,60,24],[20,15,21,18],[28,15,28,18],[28,19,28,22],[31,15,31,18],[31,19,31,22],[44,15,45,18],[41,19,42,22],[29,15,30,18],[29,19,30,22],[52,23,52,26],[25,15,25,18],[25,19,25,22],[26,23,27,26],[35,11,36,14],[38,11,39,14],[41,11,42,14],[44,11,45,14],[38,15,39,18],[57,11,58,14],[55,23,55,26],[57,25,58,28],[50,19,51,22],[52,15,52,18],[50,27,51,30],[52,27,52,30],[53,23,54,26],[53,27,54,30],[49,27,49,30],[55,27,55,30],[47,19,48,22],[47,15,48,18],[47,27,48,30],[46,23,46,26],[41,15,42,18],[60,1,60,10],[58,1,58,10],[57,1,57,10],[49,11,49,14],[49,15,49,18],[49,19,49,22],[53,11,54,14],[53,15,54,18],[53,19,54,22],[55,11,55,14],[55,15,55,18],[55,19,55,22],[57,15,57,24],[60,11,61,14],[61,1,61,10],[50,1,51,10],[50,23,51,26],[52,19,52,22],[58,15,58,24],[49,23,49,26],[53,1,54,10],[50,11,51,14],[50,15,51,18],[52,11,52,14],[49,31,49,34],[49,35,49,38],[49,39,49,42],[53,35,54,38],[53,39,54,42],[55,31,55,34],[55,35,55,38],[55,39,55,42],[52,39,52,42],[50,39,51,42],[50,35,51,38],[52,31,52,34],[52,35,52,38],[53,31,54,34],[50,31,51,34],[47,39,48,42],[38,39,39,42],[41,39,42,42],[32,27,33,30],[35,35,36,38],[41,27,42,30],[41,31,42,34],[41,35,42,38],[38,27,39,30],[38,31,39,34],[38,35,39,38],[44,27,45,30],[44,35,45,38],[46,39,46,42],[46,27,46,30],[46,31,46,34],[44,31,45,34],[46,35,46,38],[47,35,48,38],[47,31,48,34],[44,39,45,42],[14,15,14,18],[13,1,13,42],[14,19,14,42],[15,11,15,14],[15,15,15,18],[17,1,17,10],[18,19,18,22],[16,1,16,10],[18,1,18,10],[16,15,16,18],[17,15,17,18],[18,27,18,30],[17,23,17,26],[16,19,16,22],[16,23,16,26],[15,27,15,30],[18,23,18,26],[0,1,1,12],[0,13,1,30],[18,15,18,18],[20,1,21,10],[20,11,21,14],[18,11,18,14],[26,15,27,18],[26,19,27,22],[15,39,15,42],[15,31,15,34],[15,35,15,38],[23,35,24,38],[17,27,17,30],[15,19,15,22],[17,39,17,42],[20,35,21,38],[20,39,21,42],[15,23,15,26],[17,35,17,38],[17,19,17,22],[17,31,17,34],[18,31,18,34],[23,39,24,42],[14,11,14,14],[23,31,24,34],[32,23,33,26],[32,31,33,34],[25,27,25,30],[26,39,27,42],[28,23,28,26],[29,23,30,26],[29,27,30,30],[29,31,30,34],[29,35,30,38],[29,39,30,42],[26,27,27,30],[26,31,27,34],[28,35,28,38],[31,23,31,26],[31,27,31,30],[31,31,31,34],[25,31,25,34],[25,39,25,42],[26,35,27,38],[28,39,28,42],[25,35,25,38],[28,31,28,34],[41,1,41,10],[42,1,42,10],[47,1,48,10],[38,1,39,10],[33,1,33,10],[46,11,46,14],[46,15,46,18],[46,19,46,22],[10,37,10,38],[11,37,11,42],[31,11,31,14],[32,11,33,14],[28,27,28,30],[35,39,36,42],[32,19,33,22],[35,27,36,30],[35,31,36,34],[35,19,36,22],[38,19,39,22],[38,23,39,26],[32,15,33,18],[31,35,31,38],[31,39,31,42],[23,27,24,30],[9,1,9,6],[10,1,11,6],[9,7,9,12],[10,7,11,8],[10,9,11,12],[9,13,9,18],[10,13,11,14],[10,15,11,18],[9,19,9,24],[10,19,11,20],[10,21,11,24],[6,29,7,35],[68,1,68,42],[69,1,69,42],[70,3,70,7],[70,8,70,12],[70,13,70,17],[70,18,70,22],[70,23,70,27],[70,28,70,32],[70,33,70,37],[70,38,70,42],[9,25,9,30],[10,25,11,30],[14,1,15,10],[29,1,30,10],[29,11,30,14],[9,31,9,36],[9,37,9,42],[10,31,11,36],[23,1,24,10],[26,1,27,10],[23,19,24,22],[23,23,24,26],[25,11,25,14],[71,3,71,7],[71,8,71,12],[71,13,71,17],[71,18,71,22],[71,23,71,27],[3,15,4,22],[6,1,7,7],[6,8,7,16],[6,18,7,19],[6,22,7,28],[23,11,24,14],[23,15,24,18],[26,11,27,14],[25,23,25,26],[35,1,36,10],[44,1,45,10],[47,11,48,14],[47,23,48,26],[44,19,45,22],[44,23,45,26],[28,11,28,14],[35,15,36,18],[41,23,42,26],[35,23,36,26],[73,1,74,2],[73,3,73,42],[74,3,74,7],[74,8,74,12],[74,13,74,17],[74,18,74,22],[74,23,74,27],[74,28,74,32],[74,33,74,37],[74,38,74,42],[79,3,79,7],[79,8,79,12],[79,13,79,17],[76,1,79,2],[76,3,76,42],[77,3,77,7],[77,8,77,12],[77,13,77,17],[77,18,77,22],[77,23,77,27],[77,28,77,32],[77,33,77,37],[77,38,77,42],[78,3,78,42],[84,3,84,7],[84,8,84,12],[84,13,84,17],[79,18,79,22],[79,23,79,27],[88,1,91,2],[88,3,88,42],[89,3,89,7],[89,8,89,12],[89,13,89,17],[89,18,89,22],[89,23,89,27],[89,28,89,32],[89,33,89,37],[89,38,89,42],[79,28,79,32],[79,33,79,37],[79,38,79,42],[81,1,86,2],[81,3,81,12],[82,3,82,7],[82,8,82,12],[82,13,82,17],[82,18,82,22],[100,3,100,42],[101,3,101,7],[101,8,101,12],[101,13,101,17],[101,18,101,22],[101,23,101,27],[101,28,101,32],[101,33,101,37],[101,38,101,42],[96,3,96,7],[96,8,96,12],[96,13,96,17],[93,1,96,2],[93,3,93,42],[94,3,94,7],[94,8,94,12],[94,13,94,17],[94,18,94,22],[94,23,94,27],[103,1,112,2],[103,3,103,42],[104,3,104,7],[104,8,104,12],[104,13,104,17],[104,18,104,22],[104,23,104,27],[104,28,104,32],[104,33,104,37],[104,38,104,42],[105,3,105,42],[112,3,112,7],[112,8,112,12],[112,13,112,17],[112,18,112,22],[112,23,112,27],[112,28,112,32],[112,33,112,37],[112,38,112,42],[106,18,106,22],[106,23,106,27],[106,28,106,32],[106,33,106,37],[106,38,106,42],[106,3,106,7],[106,8,106,12],[106,13,106,17],[109,3,109,42],[111,3,111,42],[110,3,110,7],[110,8,110,12],[110,13,110,17],[110,18,110,22],[110,23,110,27],[110,28,110,32],[110,33,110,37],[110,38,110,42],[107,3,107,42],[108,3,108,7],[108,8,108,12],[108,13,108,17],[108,18,108,22],[108,23,108,27],[108,28,108,32],[108,33,108,37],[108,38,108,42],[60,29,61,33],[116,18,116,22],[116,23,116,27],[126,25,126,33],[121,17,121,24],[122,17,122,24],[123,17,123,24],[121,34,121,42],[122,34,122,42],[123,34,123,42],[121,25,121,33],[122,25,122,33],[123,25,123,33],[126,17,126,24],[125,17,125,24],[124,17,124,24],[71,28,71,32],[71,33,71,37],[71,38,71,42],[60,25,61,28],[99,23,99,27],[99,28,99,32],[99,33,99,37],[99,38,99,42]]}
[null,null,null,null,null,null,null,null,null,null,null,null,null,{"$f":"\"ささえ愛　'\"&RIGHT(年!A2,2)&\"　お見積りシート\"","v":"ささえ愛　'25　お見積りシート"},null,null,null,null,null,null,null,null,null,null,null,null,null,null,null,null,null,null,null,null,null,null,"計算日：",{"$f":"TODAY()","v":"2025-08-14"}]
[]
[]
[null,null,null,null,null,null,null,null,null,null,null,null,null,null,null,{"$f":"入力!D86","v":0}]
[null,"あなたの毎月の合計保険料は",null,null,null,null,null,null,null,null,null,null,null,null,null,null,null,null,null,null,null,null,null,"　です"]
[]
[null,"【 基 本 契 約】",null,null,null,null,null,null,{"$f":"入力!E4","v":""},null,null,null,null,null,null,null,null,null,{"$f":"入力!B5","v":0},null,null,null,"基本契約            保険料/月",null,null,null,null,null,null,{"$f":"入力!D4+入力!D8","v":0}]
[]
[]
[null,"ｹｶﾞ死亡",null,null,null,null,null,"ｹｶﾞ後遺障害",null,null,null,null,null,"ｹｶﾞ入院",null,null,null,null,null,"ｹｶﾞ通院",null,null,null,null,null,"ｹｶﾞ手術",null,null,null,null,null,"賠償責任保障",null,null,null,null,null,"借りもの賠償責任"]
[null,{"$f":"入力!G2*入力!E5","v":{"$error":"#VALUE!"}},null,null,null,null,null,"最高",null,{"$f":"入力!G3*入力!E5","v":{"$error":"#VALUE!"}},null,null,null,"日額",null,{"$f":"入力!G4*入力!E5","v":{"$error":"#VALUE!"}},null,null,null,"日額",null,{"$f":"入力!G5*入力!E5","v":{"$error":"#VALUE!"}},null,null,null,{"$f":"P11*10/10000","v":{"$error":"#VALUE!"}},null,null,null,null,null,"3億円 限度",null,null,null,null,null,"実費"]
[null,null,null,null,null,null,null,null,null,null,null,null,null,null,null,null,null,null,null,null,null,null,null,null,null,null,null,null,null,null,null,null,null,null,null,null,null,"30万円 限度"]
[null,null,null,null,null,null,null,null,null,null,null,null,null,null,null,null,null,null,null,null,null,null,null,null,null,"（入院中以外の手術は半額）"]
[null,{"$f":"IF(入力!B4=\"ﾊﾟｰｿﾅﾙｾｯﾄ\",\"\", IF(入力!B4=\"ﾌｧﾐﾘｰｾｯﾄ\", \"上記保障内容はご家族も対象となります（家族の範囲はパンフレットをご参照ください）\", IF(入力!B4=\"夫婦ｾｯﾄ\", \"上記保障内容はご夫婦が対象となります\", \"\")))","v":""}]
[null,"【 医 療 オ プ シ ョ ン 】",null,null,null,null,null,null,null,null,null,"本人",null,null,null,"配偶者",null,null,null,"親　族"]
[]
[null,{"$f":"年!A2&\"年12月1日時点の年令\"","v":"2025年12月1日時点の年令"},null,null,null,null,null,null,null,null,null,{"$f":"IF(入力!B2=\"\",\"\",IF(入力!B2>=101,\"101才以上\",入力!B2 & \"才\"))","v":""},null,null,null,{"$f":"IF(入力!B9=\"\",\"\",入力!B9 & \"才\")","v":""},null,null,null,{"$f":"IF(入力!B10=\"\",\"\",入力!B10 & \"才\")","v":""},null,null,null,{"$f":"IF(入力!B11=\"\",\"\",入力!B11 & \"才\")","v":""},null,null,null,{"$f":"IF(入力!B12=\"\",\"\",入力!B12 & \"才\")","v":""},null,null,null,{"$f":"IF(入力!B13=\"\",\"\",入力!B13 & \"才\")","v":""},null,null,null,{"$f":"IF(入力!B14=\"\",\"\",入力!B14 & \"才\")","v":""},null,null,null,{"$f":"IF(入力!B15=\"\",\"\",入力!B15 & \"才\")","v":""}]
[null,"生年月日",null,null,null,null,null,null,null,null,null,{"$f":"入力!C90","v":""},null,null,null,{"$f":"入力!C91","v":""},null,null,null,{"$f":"入力!C92","v":""},null,null,null,{"$f":"入力!C93","v":""},null,null,null,{"$f":"入力!C94","v":""},null,null,null,{"$f":"入力!C95","v":""},null,null,null,{"$f":"入力!C96","v":""},null,null,null,{"$f":"入力!C97","v":""}]
[null,"特約保険料合計",null,null,null,null,null,null,null,null,null,{"$f":"SUM(L24,L27,L30,L33,L36,L42,L45,L48,L51,L58,Z58,L61,AO61,Z61,L54,L39)","v":0},null,null,null,{"$f":"SUM(P24,P27,P30,P33,P36,P42,P45,P48,P51,P39,P54,AO62)","v":0},null,null,null,{"$f":"SUM(T24,T27,T30,T33,T36,T42,T45,T48,T51,T39,T54)","v":0},null,null,null,{"$f":"SUM(X24,X27,X30,X33,X36,X42,X45,X48,X51,X39,X54)","v":0},null,null,null,{"$f":"SUM(AB24,AB27,AB30,AB33,AB36,AB42,AB45,AB48,AB51,AB39,AB54)","v":0},null,null,null,{"$f":"SUM(AF24,AF27,AF30,AF33,AF36,AF42,AF45,AF48,AF51,AF39,AF54)","v":0},null,null,null,{"$f":"SUM(AJ24,AJ27,AJ30,AJ33,AJ36,AJ42,AJ45,AJ48,AJ51,AJ39,AJ54)","v":0},null,null,null,{"$f":"SUM(AN24,AN27,AN30,AN33,AN36,AN42,AN45,AN48,AN51,AN39,AN54)","v":0}]
[]
[null,"特　約　名",null,null,null,null,null,null,null,null,null,"保険料\n(月)",null,null,null,"保険料\n(月)",null,null,null,"保険料\n(月)",null,null,null,"保険料\n(月)",null,null,null,"保険料\n(月)",null,null,null,"保険料\n(月)",null,null,null,"保険料\n(月)",null,null,null,"保険料\n(月)"]
[]
[]
[null,"医療保障",null,null,null,null,null,null,null,null,null,{"$f":"入力!D16","v":0},null,null,null,{"$f":"入力!D17","v":0},null,null,null,{"$f":"入力!D18","v":0},null,null,null,{"$f":"入力!D19","v":0},null,null,null,{"$f":"入力!D20","v":0},null,null,null,{"$f":"入力!D21","v":0},null,null,null,{"$f":"入力!D22","v":0},null,null,null,{"$f":"入力!D23","v":0}]
[]
[null,null,null,null,null,null,null,null,null,null,null,{"$f":"IF(OR(入力!B16=\"\",入力!B16=\"加入しない\"),\"\",MID(入力!$B16,1,8))","v":""},null,null,null,{"$f":"IF(OR(入力!B17=\"\",入力!B17=\"加入しない\"),\"\",MID(入力!$B17,1,8))","v":""},null,null,null,{"$f":"IF(OR(入力!B18=\"\",入力!B18=\"加入しない\"),\"\",MID(入力!$B18,1,8))","v":""},null,null,null,{"$f":"IF(OR(入力!B19=\"\",入力!B19=\"加入しない\"),\"\",MID(入力!$B19,1,8))","v":""},null,null,null,{"$f":"IF(OR(入力!B20=\"\",入力!B20=\"加入しない\"),\"\",MID(入力!$B20,1,8))","v":""},null,null,null,{"$f":"IF(OR(入力!B21=\"\",入力!B21=\"加入しない\"),\"\",MID(入力!$B21,1,8))","v":""},null,null,null,{"$f":"IF(OR(入力!B22=\"\",入力!B22=\"加入しない\"),\"\",MID(入力!$B22,1,8))","v":""},null,null,null,{"$f":"IF(OR(入力!B23=\"\",入力!B23=\"加入しない\"),\"\",MID(入力!$B23,1,8))","v":""}]
[null,"五大疾病入院保障",null,null,null,null,null,null,null,null,null,{"$f":"入力!D24","v":0},null,null,null,{"$f":"入力!D25","v":0},null,null,null,{"$f":"入力!D26","v":0},null,null,null,{"$f":"入力!D27","v":0},null,null,null,{"$f":"入力!D28","v":0},null,null,null,{"$f":"入力!D29","v":0},null,null,null,{"$f":"入力!D30","v":0},null,null,null,{"$f":"入力!D31","v":0}]
[]
[null,null,null,null,null,null,null,null,null,null,null,{"$f":"IF(OR(入力!B24=\"\",入力!B24=\"加入しない\"),\"\",MID(入力!$B24,1,8))","v":""},null,null,null,{"$f":"IF(OR(入力!B25=\"\",入力!B25=\"加入しない\"),\"\",MID(入力!$B25,1,8))","v":""},null,null,null,{"$f":"IF(OR(入力!B26=\"\",入力!B26=\"加入しない\"),\"\",MID(入力!$B26,1,8))","v":""},null,null,null,{"$f":"IF(OR(入力!B27=\"\",入力!B27=\"加入しない\"),\"\",MID(入力!$B27,1,8))","v":""},null,null,null,{"$f":"IF(OR(入力!B28=\"\",入力!B28=\"加入しない\"),\"\",MID(入力!$B28,1,8))","v":""},null,null,null,{"$f":"IF(OR(入力!B29=\"\",入力!B29=\"加入しない\"),\"\",MID(入力!$B29,1,8))","v":""},null,null,null,{"$f":"IF(OR(入力!B30=\"\",入力!B30=\"加入しない\"),\"\",MID(入力!$B30,1,8))","v":""},null,null,null,{"$f":"IF(OR(入力!B31=\"\",入力!B31=\"加入しない\"),\"\",MID(入力!$B31,1,8))","v":""}]
[null,"入院一時金保障",null,null,null,null,null,null,null,null,null,{"$f":"入力!D147","v":0},null,null,null,{"$f":"入力!D148","v":0},null,null,null,{"$f":"入力!D149","v":0},null,null,null,{"$f":"入力!D150","v":0},null,null,null,{"$f":"入力!D151","v":0},null,null,null,{"$f":"入力!D152","v":0},null,null,null,{"$f":"入力!D153","v":0},null,null,null,{"$f":"入力!D154","v":0}]
[]
[null,null,null,null,null,null,null,null,null,null,null,{"$f":"IF(OR(入力!B147=\"\",入力!B147=\"加入しない\"),\"\",入力!$B147)","v":""},null,null,null,{"$f":"IF(OR(入力!B148=\"\",入力!B148=\"加入しない\"),\"\",入力!$B148)","v":""},null,null,null,{"$f":"IF(OR(入力!B149=\"\",入力!B149=\"加入しない\"),\"\",入力!$B149)","v":""},null,null,null,{"$f":"IF(OR(入力!B150=\"\",入力!B150=\"加入しない\"),\"\",入力!$B150)","v":""},null,null,null,{"$f":"IF(OR(入力!B151=\"\",入力!B151=\"加入しない\"),\"\",入力!$B151)","v":""},null,null,null,{"$f":"IF(OR(入力!B152=\"\",入力!B152=\"加入しない\"),\"\",入力!$B152)","v":""},null,null,null,{"$f":"IF(OR(入力!B153=\"\",入力!B153=\"加入しない\"),\"\",入力!$B153)","v":""},null,null,null,{"$f":"IF(OR(入力!B154=\"\",入力!B154=\"加入しない\"),\"\",入力!$B154)","v":""}]
[null,"疾病手術保障",null,null,null,null,null,"－",2000,null,null,{"$f":"入力!D32","v":0},null,null,null,{"$f":"入力!D33","v":0},null,null,null,{"$f":"入力!D34","v":0},null,null,null,{"$f":"入力!D35","v":0},null,null,null,{"$f":"入力!D36","v":0},null,null,null,{"$f":"入力!D37","v":0},null,null,null,{"$f":"入力!D38","v":0},null,null,null,{"$f":"入力!D39","v":0}]
[null,"（実費100万円限度+臨時費用3万円）"]
[null,"※入院なし手術臨時費用1万5千円"]
[null,"ｶﾞﾝ・成人病保障",null,null,null,null,null,null,null,null,null,{"$f":"入力!$D64 + 入力!$D163","v":0},null,null,null,{"$f":"入力!$D65 + 入力!$D164","v":0},null,null,null,{"$f":"入力!$D66 + 入力!$D165","v":0},null,null,null,{"$f":"入力!$D67 + 入力!$D166","v":0},null,null,null,{"$f":"入力!$D68 + 入力!$D167","v":0},null,null,null,{"$f":"入力!$D69 + 入力!$D168","v":0},null,null,null,{"$f":"入力!$D70 + 入力!$D169","v":0},null,null,null,{"$f":"入力!$D71 + 入力!$D170","v":0}]
[]
[null,null,null,null,null,null,null,null,null,null,null,{"$f":"入力!$F$64 & IF(入力!$F$64=\"\",\"\", IF(入力!$F$163=\"\",\"\",\"+\")) & 入力!$F$163","v":""},null,null,null,{"$f":"入力!$F$65 & IF(入力!$F$65=\"\",\"\", IF(入力!$F$164=\"\",\"\",\"+\")) & 入力!$F$164","v":""},null,null,null,{"$f":"入力!$F$66 & IF(入力!$F$66=\"\",\"\", IF(入力!$F$165=\"\",\"\",\"+\")) & 入力!$F$165","v":""},null,null,null,{"$f":"入力!$F$67 & IF(入力!$F$67=\"\",\"\", IF(入力!$F$166=\"\",\"\",\"+\")) & 入力!$F$166","v":""},null,null,null,{"$f":"入力!$F$68 & IF(入力!$F$68=\"\",\"\", IF(入力!$F$167=\"\",\"\",\"+\")) & 入力!$F$167","v":""},null,null,null,{"$f":"入力!$F$69 & IF(入力!$F$69=\"\",\"\", IF(入力!$F$168=\"\",\"\",\"+\")) & 入力!$F$168","v":""},null,null,null,{"$f":"入力!$F$70 & IF(入力!$F$70=\"\",\"\", IF(入力!$F$169=\"\",\"\",\"+\")) & 入力!$F$169","v":""},null,null,null,{"$f":"入力!$F$71 & IF(入力!$F$71=\"\",\"\", IF(入力!$F$170=\"\",\"\",\"+\")) & 入力!$F$170","v":""}]
[null,"抗ガン剤治療保障",null,null,null,null,null,null,null,null,null,{"$f":"入力!D118","v":0},null,null,null,{"$f":"入力!D119","v":0},null,null,null,{"$f":"入力!D120","v":0},null,null,null,{"$f":"入力!D121","v":0},null,null,null,{"$f":"入力!D122","v":0},null,null,null,{"$f":"入力!D123","v":0},null,null,null,{"$f":"入力!D124","v":0},null,null,null,{"$f":"入力!D125","v":0}]
[]
[null,"※ホルモン療法は半額",null,null,null,null,null,null,null,null,null,{"$f":"入力!$F$118","v":""},null,null,null,{"$f":"入力!$F$119","v":""},null,null,null,{"$f":"入力!$F$120","v":""},null,null,null,{"$f":"入力!$F$121","v":""},null,null,null,{"$f":"入力!$F$122","v":""},null,null,null,{"$f":"入力!$F$123","v":""},null,null,null,{"$f":"入力!$F$124","v":""},null,null,null,{"$f":"入力!$F$125","v":""}]
[null,"高度医療保障",null,null,null,null,null,"－ ",null,null,null,{"$f":"入力!D40","v":0},null,null,null,{"$f":"入力!D41","v":0},null,null,null,{"$f":"入力!D42","v":0},null,null,null,{"$f":"入力!D43","v":0},null,null,null,{"$f":"入力!D44","v":0},null,null,null,{"$f":"入力!D45","v":0},null,null,null,{"$f":"入力!D46","v":0},null,null,null,{"$f":"入力!D47","v":0}]
[null,"（実費2,000万円限度）"]
[]
[null,"疾病退院後通院保障",null,null,null,null,null,null,null,null,null,{"$f":"入力!D48","v":0},null,null,null,{"$f":"入力!D49","v":0},null,null,null,{"$f":"入力!D50","v":0},null,null,null,{"$f":"入力!D51","v":0},null,null,null,{"$f":"入力!D52","v":0},null,null,null,{"$f":"入力!D53","v":0},null,null,null,{"$f":"入力!D54","v":0},null,null,null,{"$f":"入力!D55","v":0}]
[]
[null,null,null,null,null,null,null,null,null,null,null,{"$f":"IF(OR(入力!$B$48=\"\",入力!$B$48=\"加入しない\"),\"\",入力!$B$48)","v":""},null,null,null,{"$f":"IF(OR(入力!$B$49=\"\",入力!$B$49=\"加入しない\"),\"\",入力!$B$49)","v":""},null,null,null,{"$f":"IF(OR(入力!$B$50=\"\",入力!$B$50=\"加入しない\"),\"\",入力!$B$50)","v":""},null,null,null,{"$f":"IF(OR(入力!$B$51=\"\",入力!$B$51=\"加入しない\"),\"\",入力!$B$51)","v":""},null,null,null,{"$f":"IF(OR(入力!$B$52=\"\",入力!$B$52=\"加入しない\"),\"\",入力!$B$52)","v":""},null,null,null,{"$f":"IF(OR(入力!$B$53=\"\",入力!$B$53=\"加入しない\"),\"\",入力!$B$53)","v":""},null,null,null,{"$f":"IF(OR(入力!$B$54=\"\",入力!$B$54=\"加入しない\"),\"\",入力!$B$54)","v":""},null,null,null,{"$f":"IF(OR(入力!$B$55=\"\",入力!$B$55=\"加入しない\"),\"\",入力!$B$55)","v":""}]
[null,"療養保障",null,null,null,null,null,null,null,null,null,{"$f":"入力!D56","v":0},null,null,null,{"$f":"入力!D57","v":0},null,null,null,{"$f":"入力!D58","v":0},null,null,null,{"$f":"入力!D59","v":0},null,null,null,{"$f":"入力!D60","v":0},null,null,null,{"$f":"入力!D61","v":0},null,null,null,{"$f":"入力!D62","v":0},null,null,null,{"$f":"入力!D63","v":0}]
[]
[null,null,null,null,null,null,null,null,null,null,null,{"$f":"IF(OR(入力!B56=\"\",入力!B56=\"加入しない\"),\"\",\"一時金\"&MID(入力!$B56,1,4))","v":""},null,null,null,{"$f":"IF(OR(入力!B57=\"\",入力!B57=\"加入しない\"),\"\",\"一時金\"&MID(入力!$B57,1,4))","v":""},null,null,null,{"$f":"IF(OR(入力!B58=\"\",入力!B58=\"加入しない\"),\"\",\"一時金\"&MID(入力!$B58,1,4))","v":""},null,null,null,{"$f":"IF(OR(入力!B59=\"\",入力!B59=\"加入しない\"),\"\",\"一時金\"&MID(入力!$B59,1,4))","v":""},null,null,null,{"$f":"IF(OR(入力!B60=\"\",入力!B60=\"加入しない\"),\"\",\"一時金\"&MID(入力!$B60,1,4))","v":""},null,null,null,{"$f":"IF(OR(入力!B61=\"\",入力!B61=\"加入しない\"),\"\",\"一時金\"&MID(入力!$B61,1,4))","v":""},null,null,null,{"$f":"IF(OR(入力!B62=\"\",入力!B62=\"加入しない\"),\"\",\"一時金\"&MID(入力!$B62,1,4))","v":""},null,null,null,{"$f":"IF(OR(入力!B63=\"\",入力!B63=\"加入しない\"),\"\",\"一時金\"&MID(入力!$B63,1,4))","v":""}]
[null,"介護一時金保障",null,null,null,null,null,null,null,null,null,{"$f":"入力!D155","v":0},null,null,null,{"$f":"入力!D156","v":0},null,null,null,{"$f":"入力!D157","v":0},null,null,null,{"$f":"入力!D158","v":0},null,null,null,{"$f":"入力!D159","v":0},null,null,null,{"$f":"入力!D160","v":0},null,null,null,{"$f":"入力!D161","v":0},null,null,null,{"$f":"入力!D162","v":0}]
[]
[null,null,null,null,null,null,null,null,null,null,null,{"$f":"入力!$B$155","v":0},null,null,null,{"$f":"入力!$B$156","v":0},null,null,null,{"$f":"入力!$B$157","v":0},null,null,null,{"$f":"入力!$B$158","v":0},null,null,null,{"$f":"入力!$B$159","v":0},null,null,null,{"$f":"入力!$B$160","v":0},null,null,null,{"$f":"入力!$B$161","v":0},null,null,null,{"$f":"入力!$B$162","v":0}]
[null,"介護年金保障",null,null,null,null,null,null,null,null,null,{"$f":"入力!D110","v":0},null,null,null,{"$f":"入力!D111","v":0},null,null,null,{"$f":"入力!D112","v":0},null,null,null,{"$f":"入力!D113","v":0},null,null,null,{"$f":"入力!D114","v":0},null,null,null,{"$f":"入力!D115","v":0},null,null,null,{"$f":"入力!D116","v":0},null,null,null,{"$f":"入力!D117","v":0}]
[]
[null,null,null,null,null,null,null,null,null,null,null,{"$f":"入力!$F$110","v":""},null,null,null,{"$f":"入力!$F$111","v":""},null,null,null,{"$f":"入力!$F$112","v":""},null,null,null,{"$f":"入力!$F$113","v":""},null,null,null,{"$f":"入力!$F$114","v":""},null,null,null,{"$f":"入力!$F$115","v":""},null,null,null,{"$f":"入力!$F$116","v":""},null,null,null,{"$f":"入力!$F$117","v":""}]
[null,"【(本人向け）所得保障オプション】"]
[null,"所得保障 ",null,null,null,null,null,null,null,null,null,{"$f":"入力!D6","v":0},null,null,null,"長期所得保障",null,null,null,null,null,null,null,null,null,{"$f":"入力!D83","v":0}]
[null,{"$f":"入力!J6","v":""},null,null,null,null,null,null,null,null,null,null,null,null,null,{"$f":"入力!J83","v":""}]
[null,"【 その他 オ プ シ ョ ン 】"]
[null,"携行品損害保障",null,null,null,null,null,"－     ",null,null,null,{"$f":"入力!D80","v":0},null,null,null,"賃貸住宅保障",null,null,null,null,null,null,null,null,null,{"$f":"入力!D88","v":0},null,null,null,"ﾎｰﾙｲﾝﾜﾝ等費用保障",null,null,null,null,{"$f":"IF(入力!E81=0,\"\",\"本人/\" & LEFT(入力!E81,6))","v":""},null,null,null,null,null,{"$f":"入力!D81","v":0}]
[null,"（実費20万円限度）",null,null,null,null,null,null,null,null,null,null,null,null,null,{"$f":"IF(OR(入力!B88=\"\",入力!B88=\"加入しない\"),\"\",\"(借家人賠償\"&入力!B88&\")\")","v":""},null,null,null,null,null,null,null,null,null,null,null,null,null,null,null,null,null,null,{"$f":"IF(入力!E171=0,\"\",\"配偶者/\" & LEFT(入力!E171,6))","v":""},null,null,null,null,null,{"$f":"入力!D171","v":0}]
[]
[null," 備　考"]
[null,null,null,null,null,null,null,null,null,null,null,null,null,null,null,null,null,null,null,null,null,null,null,null,null,null,null,null,null,null,null,null,null,null,null,null,null,null,null,null,null,null,"中電クラビス株式会社"]
[null,null,null,null,null,null,null,null,null,null,null,null,null,null,null,null,null,null,null,null,null,null,null,null,null,null,null,null,null,null,null,null,null,null,null,null,null,null,null,null,null,null,"460-0008　名古屋市中区栄２－２－５　電気文化会館"]
[null,null,null,null,null,null,null,null,null,null,null,null,null,null,null,null,null,null,null,null,null,null,null,null,null,null,null,null,null,null,null,null,null,null,null,null,null,null,null,null,null,null,"ﾌﾘｰﾀﾞｲﾔﾙ　0120-555-547　 FAX　052-223-0809"]
[]
[null,{"$f":"\"ささえ愛'\"&RIGHT(年!A2,2)&\"　保障一覧\"","v":"ささえ愛'25　保障一覧"}]
[null,"下記の保障一覧の記載に関わらず、次の医療保障の被保険者　①別居の親　②基本契約がﾊﾟｰｿﾅﾙｾｯﾄもしくは夫婦ｾｯﾄの同居の親\nは基本契約の｢死亡（ｹｶﾞ）｣｢後遺障害（ｹｶﾞ）｣｢通院（ｹｶﾞ）｣は保障されません。　また、｢入院（ｹｶﾞ）｣は医療保障の入院日額、｢手術（ｹｶﾞ）｣\nは医療保障の入院日額×10倍（入院中以外の手術は5倍）の保険金のみ保障されます。"]
[null,null,null,{"$f":"'見積　月額保険料'!L16","v":0},null,null,null,null,{"$f":"'見積　月額保険料'!P16","v":0},null,null,null,null,{"$f":"'見積　月額保険料'!T16","v":0},null,null,null,null,{"$f":"'見積　月額保険料'!X16","v":0},null,null,null,null,{"$f":"'見積　月額保険料'!AB16","v":0},null,null,null,null,{"$f":"'見積　月額保険料'!AF16","v":0},null,null,null,null,{"$f":"'見積　月額保険料'!AJ16","v":0},null,null,null,null,{"$f":"'見積　月額保険料'!AN16","v":0}]
[null,null,null,{"$f":"IF(入力!B2=\"\",\"\",IF(入力!B2>=91,\"91才以上\",入力!B2 & \"才\"))","v":""},null,null,null,null,{"$f":"IF(入力!$B$9=\"\",\"\",入力!$B$9 & \"才\")","v":""},null,null,null,null,{"$f":"IF(入力!$B$10=\"\",\"\",入力!$B$10 & \"才\")","v":""},null,null,null,null,{"$f":"IF(入力!$B$11=\"\",\"\",入力!$B$11 & \"才\")","v":""},null,null,null,null,{"$f":"IF(入力!$B$12=\"\",\"\",入力!$B$12 & \"才\")","v":""},null,null,null,null,{"$f":"IF(入力!$B$13=\"\",\"\",入力!$B$13 & \"才\")","v":""},null,null,null,null,{"$f":"IF(入力!$B$14=\"\",\"\",入力!$B$14 & \"才\")","v":""},null,null,null,null,{"$f":"IF(入力!$B$15=\"\",\"\",入力!$B$15 & \"才\")","v":""}]
[]
[null,"死亡",null,"　　　　ケガによる死亡（一時金）"]
[null,null,null,{"$f":"入力!$G$2*入力!$E$5","v":{"$error":"#VALUE!"}},null,null,null,null,{"$f":"IF(OR(ISBLANK(入力!D171),入力!D171 = 0),入力!$G$2*入力!$E$9,入力!$G$2*入力!$E$9+20)","v":0},null,null,null,null,{"$f":"入力!$G$2*入力!$E$10","v":0},null,null,null,null,{"$f":"入力!$G$2*入力!$E$11","v":0},null,null,null,null,{"$f":"入力!$G$2*入力!$E$12","v":0},null,null,null,null,{"$f":"入力!$G$2*入力!$E$13","v":0},null,null,null,null,{"$f":"入力!$G$2*入力!$E$14","v":0},null,null,null,null,{"$f":"入力!$G$2*入力!$E$15","v":0}]
[]
[null,"後遺障害",null,"　　　　ケガによる後遺障害（一時金/最高）"]
[null,null,null,{"$f":"入力!$G$3*入力!$E$5","v":{"$error":"#VALUE!"}},null,null,null,null,{"$f":"IF(OR(ISBLANK(入力!D171),入力!D171=0),入力!$G$3*入力!$E$9,入力!$G$3*入力!$E$9+20)","v":0},null,null,null,null,{"$f":"入力!$G$3*入力!$E$10","v":0},null,null,null,null,{"$f":"入力!$G$3*入力!$E$11","v":0},null,null,null,null,{"$f":"入力!$G$3*入力!$E$12","v":0},null,null,null,null,{"$f":"入力!$G$3*入力!$E$13","v":0},null,null,null,null,{"$f":"入力!$G$3*入力!$E$14","v":0},null,null,null,null,{"$f":"入力!$G$3*入力!$E$15","v":0}]
[null,null,null,"　　　　疾病による後遺障害（一時金/最高）"]
[null,null,null,{"$f":"IF(入力!$E$16=0,\"\",IF(入力!$B$2>69,\"\",300))","v":""},null,null,null,null,{"$f":"IF(入力!$E$17=0,\"\",IF(入力!$B$9>69,\"\",300))","v":""},null,null,null,null,{"$f":"IF(入力!$E$18=0,\"\",IF(入力!$B$10>69,\"\",300))","v":""},null,null,null,null,{"$f":"IF(入力!$E$19=0,\"\",IF(入力!$B$11>69,\"\",300))","v":""},null,null,null,null,{"$f":"IF(入力!$E$20=0,\"\",IF(入力!$B$12>69,\"\",300))","v":""},null,null,null,null,{"$f":"IF(入力!$E$21=0,\"\",IF(入力!$B$13>69,\"\",300))","v":""},null,null,null,null,{"$f":"IF(入力!$E$22=0,\"\",IF(入力!$B$14>69,\"\",300))","v":""},null,null,null,null,{"$f":"IF(入力!$E$23=0,\"\",IF(入力!$B$15>69,\"\",300))","v":""}]
[]
[null,"入院",null,"　　　　ケガによる入院（日額）",null,null,null,null,null,null,null,null,null,null,null,null,null,null,{"$f":"入力!B7","v":0}]
[null,null,null,{"$f":"入力!$G$4*入力!$E$5+入力!E16+入力!E6/30","v":{"$error":"#VALUE!"}},null,null,null,null,{"$f":"入力!$G$4*入力!E9+入力!E17","v":0},null,null,null,null,{"$f":"入力!$G$4*入力!E10+入力!E18","v":0},null,null,null,null,{"$f":"入力!$G$4*入力!E11+入力!E19","v":0},null,null,null,null,{"$f":"入力!$G$4*入力!E12+入力!E20","v":0},null,null,null,null,{"$f":"入力!$G$4*入力!E13+入力!E21","v":0},null,null,null,null,{"$f":"入力!$G$4*入力!E14+入力!E22","v":0},null,null,null,null,{"$f":"入力!$G$4*入力!E15+入力!E23","v":0}]
[null,null,null,"　　　　疾病（五大疾病以外）による入院（日額）",null,null,null,null,null,null,null,null,null,null,null,null,null,null,{"$f":"入力!B7","v":0}]
[null,null,null,{"$f":"入力!E16+入力!E6/30","v":0},null,null,null,null,{"$f":"入力!E17","v":0},null,null,null,null,{"$f":"入力!E18","v":0},null,null,null,null,{"$f":"入力!E19","v":0},null,null,null,null,{"$f":"入力!E20","v":0},null,null,null,null,{"$f":"入力!E21","v":0},null,null,null,null,{"$f":"入力!E22","v":0},null,null,null,null,{"$f":"入力!E23","v":0}]
[null,null,null,"　　　　五大疾病による入院（日額）",null,null,null,null,null,null,null,null,null,null,null,null,null,null,{"$f":"入力!B7","v":0}]
[null,null,null,{"$f":"入力!E16+入力!E6/30+入力!E24","v":0},null,null,null,null,{"$f":"入力!E17+入力!E25","v":0},null,null,null,null,{"$f":"入力!E18+入力!E26","v":0},null,null,null,null,{"$f":"入力!E19+入力!E27","v":0},null,null,null,null,{"$f":"入力!E20+入力!E28","v":0},null,null,null,null,{"$f":"入力!E21+入力!E29","v":0},null,null,null,null,{"$f":"入力!E22+入力!E30","v":0},null,null,null,null,{"$f":"入力!E23+入力!E31","v":0}]
[]
[null,"通院",null,"　　　　ケガによる通院（日額）"]
[null,null,null,{"$f":"入力!$G$5*入力!$E$5","v":{"$error":"#VALUE!"}},null,null,null,null,{"$f":"入力!$G$5*入力!$E$9","v":0},null,null,null,null,{"$f":"入力!$G$5*入力!$E$10","v":0},null,null,null,null,{"$f":"入力!$G$5*入力!$E$11","v":0},null,null,null,null,{"$f":"入力!$G$5*入力!$E$12","v":0},null,null,null,null,{"$f":"入力!$G$5*入力!$E$13","v":0},null,null,null,null,{"$f":"入力!$G$5*入力!$E$14","v":0},null,null,null,null,{"$f":"入力!$G$5*入力!$E$15","v":0}]
[null,null,null,"　　　　疾病による退院後の通院（日額）"]
[null,null,null,{"$f":"入力!$E$48","v":0},null,null,null,null,{"$f":"入力!$E$49","v":0},null,null,null,null,{"$f":"入力!$E$50","v":0},null,null,null,null,{"$f":"入力!$E$51","v":0},null,null,null,null,{"$f":"入力!$E$52","v":0},null,null,null,null,{"$f":"入力!$E$53","v":0},null,null,null,null,{"$f":"入力!$E$54","v":0},null,null,null,null,{"$f":"入力!$E$55","v":0}]
[]
[null,"手術",null,"　　　　ケガによる入院中の手術（入院中以外の場合は半額）"]
[null,null,null,{"$f":"((入力!G4*入力!E5)+入力!E16)*10/10000","v":{"$error":"#VALUE!"}},null,null,null,null,{"$f":"((入力!G4*入力!E9)+入力!E17)*10/10000","v":0},null,null,null,null,{"$f":"((入力!G4*入力!E10)+入力!E18)*10/10000","v":0},null,null,null,null,{"$f":"((入力!G4*入力!E11)+入力!E19)*10/10000","v":0},null,null,null,null,{"$f":"((入力!G4*入力!E12)+入力!E20)*10/10000","v":0},null,null,null,null,{"$f":"((入力!G4*入力!E13)+入力!E21)*10/10000","v":0},null,null,null,null,{"$f":"((入力!G4*入力!E14)+入力!E22)*10/10000","v":0},null,null,null,null,{"$f":"((入力!G4*入力!E15)+入力!E23)*10/10000","v":0}]
[null,null,null,"　　　　疾病による手術（実費/限度額）および臨時費用（入院中の手術3万円・入院中以外の手術1万5千円）"]
[null,null,null,{"$f":"入力!$E$32","v":0},null,null,null,null,{"$f":"入力!$E$33","v":0},null,null,null,null,{"$f":"入力!$E$34","v":0},null,null,null,null,{"$f":"入力!$E$35","v":0},null,null,null,null,{"$f":"入力!$E$36","v":0},null,null,null,null,{"$f":"入力!$E$37","v":0},null,null,null,null,{"$f":"入力!$E$38","v":0},null,null,null,null,{"$f":"入力!$E$39","v":0}]
[]
[null,"診断給付金",null,"　　　　ガン（一時金）"]
[null,null,null,{"$f":"入力!$E$64+入力!$E$163","v":0},null,null,null,null,{"$f":"入力!$E$65+入力!$E$164","v":0},null,null,null,null,{"$f":"入力!$E$66+入力!$E$165","v":0},null,null,null,null,{"$f":"入力!$E$67+入力!$E$166","v":0},null,null,null,null,{"$f":"入力!$E$68+入力!$E$167","v":0},null,null,null,null,{"$f":"入力!$E$69+入力!$E$168","v":0},null,null,null,null,{"$f":"入力!$E$70+入力!$E$169","v":0},null,null,null,null,{"$f":"入力!$E$71+入力!$E$170","v":0}]
[null,null,null,"　　　　心疾患・脳血管疾患・糖尿病・高血圧性疾患（一時金）　※糖尿病・高血圧性疾患は20％の給付"]
[null,null,null,{"$f":"入力!$E$163","v":0},null,null,null,null,{"$f":"入力!$E$164","v":0},null,null,null,null,{"$f":"入力!$E$165","v":0},null,null,null,null,{"$f":"入力!$E$166","v":0},null,null,null,null,{"$f":"入力!$E$167","v":0},null,null,null,null,{"$f":"入力!$E$168","v":0},null,null,null,null,{"$f":"入力!$E$169","v":0},null,null,null,null,{"$f":"入力!$E$170","v":0}]
[]
[null,"その他医療",null,"　　　　高度医療（実費/限度額）"]
[null,null,null,{"$f":"入力!$E$40","v":0},null,null,null,null,{"$f":"入力!$E$41","v":0},null,null,null,null,{"$f":"入力!$E$42","v":0},null,null,null,null,{"$f":"入力!$E$43","v":0},null,null,null,null,{"$f":"入力!$E$44","v":0},null,null,null,null,{"$f":"入力!$E$45","v":0},null,null,null,null,{"$f":"入力!$E$46","v":0},null,null,null,null,{"$f":"入力!$E$47","v":0}]
[null,null,null,"　　　　抗ガン剤治療（治療月に給付・ホルモン療法は半額）"]
[null,null,null,{"$f":"入力!$E$118","v":0},null,null,null,null,{"$f":"入力!$E$119","v":0},null,null,null,null,{"$f":"入力!$E$120","v":0},null,null,null,null,{"$f":"入力!$E$121","v":0},null,null,null,null,{"$f":"入力!$E$122","v":0},null,null,null,null,{"$f":"入力!$E$123","v":0},null,null,null,null,{"$f":"入力!$E$124","v":0},null,null,null,null,{"$f":"入力!$E$125","v":0}]
[null,null,null,"　　　　放射線治療"]
[null,null,null,{"$f":"入力!E16*20/10000","v":0},null,null,null,null,{"$f":"入力!E17*20/10000","v":0},null,null,null,null,{"$f":"入力!E18*20/10000","v":0},null,null,null,null,{"$f":"入力!E19*20/10000","v":0},null,null,null,null,{"$f":"入力!E20*20/10000","v":0},null,null,null,null,{"$f":"入力!E21*20/10000","v":0},null,null,null,null,{"$f":"入力!E22*20/10000","v":0},null,null,null,null,{"$f":"入力!E23*20/10000","v":0}]
[null,null,null,"　　　　入院一時金"]
[null,null,null,{"$f":"入力!$E$147","v":0},null,null,null,null,{"$f":"入力!$E$148","v":0},null,null,null,null,{"$f":"入力!$E$149","v":0},null,null,null,null,{"$f":"入力!$E$150","v":0},null,null,null,null,{"$f":"入力!$E$151","v":0},null,null,null,null,{"$f":"入力!$E$152","v":0},null,null,null,null,{"$f":"入力!$E$153","v":0},null,null,null,null,{"$f":"入力!$E$154","v":0}]
[null,null,null,"　　　　療養（一時金）　継続して14日以上の入院後生存して退院した場合、または入院が365日を超えた場合"]
[null,null,null,{"$f":"入力!$G$15*入力!$E$56","v":0},null,null,null,null,{"$f":"入力!$G$15*入力!$E$57","v":0},null,null,null,null,{"$f":"入力!$G$15*入力!$E$58","v":0},null,null,null,null,{"$f":"入力!$G$15*入力!$E$59","v":0},null,null,null,null,{"$f":"入力!$G$15*入力!$E$60","v":0},null,null,null,null,{"$f":"入力!$G$15*入力!$E$61","v":0},null,null,null,null,{"$f":"入力!$G$15*入力!$E$62","v":0},null,null,null,null,{"$f":"入力!$G$15*入力!$E$63","v":0}]
[]
[null,"介護",null,"　　　　介護（一時金）"]
[null,null,null,{"$f":"入力!E155","v":0},null,null,null,null,{"$f":"入力!$E156","v":0},null,null,null,null,{"$f":"入力!$E157","v":0},null,null,null,null,{"$f":"入力!$E158","v":0},null,null,null,null,{"$f":"入力!$E159","v":0},null,null,null,null,{"$f":"入力!$E160","v":0},null,null,null,null,{"$f":"入力!$E161","v":0},null,null,null,null,{"$f":"入力!$E162","v":0}]
[null,null,null,{"$f":"入力!$F$155","v":""},null,null,null,null,{"$f":"入力!$F$156","v":""},null,null,null,null,{"$f":"入力!$F$157","v":""},null,null,null,null,{"$f":"入力!$F$158","v":""},null,null,null,null,{"$f":"入力!$F$159","v":""},null,null,null,null,{"$f":"入力!$F$160","v":""},null,null,null,null,{"$f":"入力!$F$161","v":""},null,null,null,null,{"$f":"入力!$F$162","v":""}]
[null,null,null,"　　　　介護(年金)　 ※要介護３"]
[null,null,null,{"$f":"入力!$E$110","v":0},null,null,null,null,{"$f":"入力!$E$111","v":0},null,null,null,null,{"$f":"入力!$E$112","v":0},null,null,null,null,{"$f":"入力!$E$113","v":0},null,null,null,null,{"$f":"入力!$E$114","v":0},null,null,null,null,{"$f":"入力!$E$115","v":0},null,null,null,null,{"$f":"入力!$E$116","v":0},null,null,null,null,{"$f":"入力!$E$117","v":0}]
[]
[null,null,null,null,null,null,null,null,null,null,null,null,null,null,null,null,null,"＊＊＊　　そ　の　他　の　保　障　　＊＊＊"]
[null,"就業不能",null,null,null,null,null,null,null,null,null,null,null,null,null,null,null," 携行品損害(免責金額3千円）",null,null,null,null,null,null,null,"賃貸住宅保障",null,null,null,null,null,null,null,null,"ホールインワン等費用"]
[null,"１年目",null,null,null,null,null,null,{"$f":"入力!G83","v":""},null,null,null,null,null,null,null,null,{"$f":"IF(入力!E80=0,\"\",MIDB(入力!E80,1,14))","v":""},null,null,null,null,null,null,null,{"$f":"IF(OR(入力!B88=\"加入しない\",入力!B88=\"\"),\"\",入力!B88)","v":""},null,null,null,null,null,null,null,null,{"$f":"IF(入力!E81=0,\"\",\"本人：\" & 入力!E81)","v":""}]
[null,{"$f":"入力!B6","v":0},null,null,null,null,null,null,{"$f":"入力!H83","v":""},null,null,null,null,null,null,null,null,{"$f":"IF(入力!E80=0,\"\",MIDB(入力!E80,15,31))","v":""},null,null,null,null,null,null,null,{"$f":"IF(OR(入力!B88=\"加入しない\",入力!B88=\"\"),\"\",\"(修理費用は100万円限度)\")","v":""},null,null,null,null,null,null,null,null,{"$f":"IF(入力!E171=0,\"\",\"配偶者：\" & 入力!E171)","v":""}]
[null,null,null,null,null,null,null,null,null,null,null,null,null,null,null,null,null,"賠償責任",null,null,null,null,null,null,null,"借りもの賠償 (免責金額5千円)"]
[null,{"$f":"IF(入力!E6=75000,\"(日額2,500円)\",IF(入力!E6=150000,\"(日額5,000円)\",IF(入力!E6=300000,\"(日額10,000円)\",\"\")))","v":""},null,null,null,null,null,null,null,null,null,null,null,null,null,null,null,"３億円限度",null,null,null,null,null,null,null,"実費30万円限度"]
[null,null,null,null,null,null,null,null,null,null,null,null,null,null,null,null,null,"（同居親族全員を保障）",null,null,null,null,null,null,null,"（同居親族全員を保障）"]

{"sheet":"参考　控除対象保険料","index":1,"n_rows":62,"n_cols":43,"rows_kept":62,"cut":false,"hidden":false,"merged":[[47,11,47,14],[47,15,47,18],[47,19,47,22],[47,23,47,26],[47,27,47,30],[47,31,47,34],[47,35,47,38],[47,39,47,42],[46,1,46,10],[46,11,46,14],[46,15,46,18],[46,19,46,22],[46,23,46,26],[46,27,46,30],[46,31,46,34],[46,35,46,38],[46,39,46,42],[42,1,42,10],[32,1,32,10],[32,11,32,14],[32,15,32,18],[32,19,32,22],[34,1,34,10],[34,11,34,14],[34,15,34,18],[34,31,34,34],[40,1,40,10],[40,11,40,14],[40,15,40,18],[40,19,40,22],[40,23,40,26],[40,27,40,30],[40,31,40,34],[36,31,36,34],[36,1,36,10],[36,11,36,14],[36,15,36,18],[36,19,36,22],[36,23,36,26],[36,27,36,30],[42,11,42,14],[28,39,28,42],[29,39,29,42],[32,39,32,42],[18,19,18,42],[19,39,19,42],[20,19,20,22],[20,23,20,26],[20,27,20,30],[20,39,20,42],[21,39,21,42],[23,39,24,42],[21,31,21,34],[21,35,21,38],[26,27,26,30],[26,31,26,34],[26,35,26,38],[32,23,32,26],[32,27,32,30],[32,31,32,34],[32,35,32,38],[31,19,31,22],[31,27,31,30],[31,31,31,34],[31,35,31,38],[23,1,24,10],[23,11,24,14],[23,31,24,34],[23,35,24,38],[19,19,19,22],[19,31,19,34],[19,35,19,38],[19,23,19,26],[19,27,19,30],[20,15,20,18],[20,31,20,34],[20,35,20,38],[21,1,21,10],[21,11,21,14],[21,15,21,18],[21,19,21,22],[20,1,20,10],[20,11,20,14],[23,15,24,18],[23,19,24,22],[23,23,24,26],[23,27,24,30],[21,23,21,26],[21,27,21,30],[0,1,1,11],[0,12,0,31],[0,37,0,43],[2,1,2,43],[5,2,5,3],[5,4,5,42],[6,4,9,43],[11,17,12,21],[11,29,12,35],[15,1,16,7],[15,8,16,15],[15,17,16,18],[15,19,16,22],[18,1,19,10],[18,11,18,14],[18,15,18,18],[19,11,19,14],[19,15,19,18],[26,1,26,10],[26,11,26,14],[26,15,26,18],[26,19,26,22],[26,39,26,42],[27,11,27,14],[27,15,27,18],[27,19,27,22],[27,23,27,26],[27,27,27,30],[27,31,27,34],[27,35,27,38],[27,39,27,42],[26,23,26,26],[28,1,28,10],[28,11,28,14],[28,15,28,18],[28,19,28,22],[28,23,28,26],[28,27,28,30],[28,31,28,34],[28,35,28,38],[29,23,29,26],[29,27,29,30],[29,31,29,34],[29,35,29,38],[29,11,29,14],[29,15,29,18],[29,19,29,22],[44,1,44,10],[44,11,44,14],[44,15,44,18],[44,19,44,22],[45,35,45,38],[45,39,45,42],[45,27,45,30],[45,31,45,34],[45,11,45,14],[45,15,45,18],[41,11,41,14],[52,25,52,28],[50,1,50,10],[50,15,50,24],[52,11,52,14],[52,29,52,38],[52,39,52,42],[52,1,52,10],[52,15,52,24],[49,1,49,10],[49,11,50,14],[49,15,49,24],[45,19,45,22],[45,23,45,26],[49,25,50,28],[44,39,44,42],[44,23,44,26],[44,27,44,30],[44,31,44,34],[44,35,44,38],[41,39,41,42],[41,15,41,18],[41,19,41,22],[41,23,41,26],[41,27,41,30],[41,31,41,34],[41,35,41,38],[40,35,40,38],[34,39,34,42],[38,23,38,26],[38,27,38,30],[38,31,38,34],[38,35,38,38],[36,35,36,38],[34,19,34,22],[34,23,34,26],[34,27,34,30],[38,1,38,10],[38,39,38,42],[36,39,36,42],[40,39,40,42],[30,31,30,34],[30,35,30,38],[30,39,30,42],[31,11,31,14],[31,15,31,18],[31,39,31,42],[31,23,31,26],[34,35,34,38],[38,11,38,14],[38,15,38,18],[38,19,38,22],[30,11,30,14],[30,15,30,18],[30,19,30,22],[30,23,30,26],[30,27,30,30],[30,1,30,10],[42,39,42,42],[43,11,43,14],[43,15,43,18],[43,19,43,22],[43,23,43,26],[43,27,43,30],[43,31,43,34],[43,35,43,38],[43,39,43,42],[42,15,42,18],[42,19,42,22],[42,23,42,26],[42,27,42,30],[42,31,42,34],[42,35,42,38]]}
[null,{"$f":"IF('見積　月額保険料'!L16<>\"\",'見積　月額保険料'!L16 & \" 様\", \"\")","v":""},null,null,null,null,null,null,null,null,null,null,{"$f":"\"ささえ愛　'\"&RIGHT(年!A2,2)","v":"ささえ愛　'25"},null,null,null,null,null,null,null,null,null,null,null,null,null,null,null,null,null,null,null,null,null,null,null,null,{"$f":"TODAY()","v":"2025-08-14"}]
[]
[null,"「生命保険料控除（介護医療保険料）」対象保険料(参考)　"]
[]
[]
[null,null,null,null,"印欄に記載の保険料　：　｢生命保険料控除（介護医療保険料)」対象月額保険料"]
[null,null,null,null,"※当シート記載の「生命保険料控除（介護医療保険料)」対象月額保険料は、パンフレットに記載されている実際の保険料のうち、\n　　「介護や病気医療の分野」に該当する保険料のみとなります。｣（「ケガ医療などの分野」に該当する保険料は対象外）"]
[]
[]
[]
[]
[null,null,null,null,null,null,null,null,null,null,null,null,null,null,null,null,null,{"$f":"入力!W86","v":0},null,null,null,null,null,null,null,null,null,null,null,{"$f":"R12*12","v":0}]
[null,null,null,null,null,null,null,null,null,null,null,null,null,null,null,null,"あなたの毎月の控除対象の月額保険料は",null,null,null,null,null,"です。",null,null,null,null,null,"年換算は",null,null,null,null,null,null,null,"の予定です。"]
[null,"※保険期間の途中で変更がある場合は、保険料控除対象となる保険料が異なりますので、ご注意ください。"]
[]
[null,"【 基本契約 】 ",null,null,null,null,null,null,{"$f":"入力!E4","v":""},null,null,null,null,null,null,null,null,{"$f":"入力!B5","v":0},null,"対象外"]
[]
[null,null,null,null,null,null,null,null,null,null,null,null,null,null,null,null,null,null,null,null,null,null,null,null,null,null,null,null,null,null,null,{"$f":"入力!E8","v":""}]
[null,"【 医 療 オ プ シ ョ ン 】 ",null,null,null,null,null,null,null,null,null,"本人",null,null,null,"配偶者",null,null,null,"親　族"]
[null,null,null,null,null,null,null,null,null,null,null,{"$f":"'見積　月額保険料'!L16","v":0},null,null,null,{"$f":"入力!B173","v":0},null,null,null,{"$f":"'見積　月額保険料'!T16","v":0},null,null,null,{"$f":"'見積　月額保険料'!X16","v":0},null,null,null,{"$f":"'見積　月額保険料'!AB16","v":0},null,null,null,{"$f":"'見積　月額保険料'!AF16","v":0},null,null,null,{"$f":"'見積　月額保険料'!AJ16","v":0},null,null,null,{"$f":"'見積　月額保険料'!AN16","v":0}]
[null,{"$f":"年!A2&\"年12月1日時点の年令 \"","v":"2025年12月1日時点の年令 "},null,null,null,null,null,null,null,null,null,{"$f":"'見積　月額保険料'!L17","v":""},null,null,null,{"$f":"IF(入力!$B$172=\"\",\"\",入力!$B$172 & \"才\")","v":""},null,null,null,{"$f":"'見積　月額保険料'!T17","v":""},null,null,null,{"$f":"'見積　月額保険料'!X17","v":""},null,null,null,{"$f":"'見積　月額保険料'!AB17","v":""},null,null,null,{"$f":"'見積　月額保険料'!AF17","v":""},null,null,null,{"$f":"'見積　月額保険料'!AJ17","v":""},null,null,null,{"$f":"'見積　月額保険料'!AN17","v":""}]
[null,"特約控除対象保険料合計 ",null,null,null,null,null,null,null,null,null,{"$f":"SUM(L27,L29,L33,L35,L39,L41,L43,L45,L50,Z50,L37,L31,L47)","v":0},null,null,null,{"$f":"SUM(P27,P29,P33,P39,P41,P43,P35,P45,P37,P31,P47)","v":0},null,null,null,{"$f":"SUM(T27,T29,T33,T39,T41,T43,T35,T45,T37,T31,T47)","v":0},null,null,null,{"$f":"SUM(X27,X29,X33,X39,X41,X43,X35,X45,X37,X31,X47)","v":0},null,null,null,{"$f":"SUM(AB27,AB29,AB33,AB39,AB41,AB43,AB35,AB45,AB37,AB31,AB47)","v":0},null,null,null,{"$f":"SUM(AF27,AF29,AF33,AF39,AF41,AF43,AF35,AF45,AF37,AF31,AF47)","v":0},null,null,null,{"$f":"SUM(AJ27,AJ29,AJ33,AJ39,AJ41,AJ43,AJ35,AJ45,AJ37,AJ31,AJ47)","v":0},null,null,null,{"$f":"SUM(AN27,AN29,AN33,AN39,AN41,AN43,AN35,AN45,AN37,AN31,AN47)","v":0}]
[]
[null,"特　約　名 ",null,null,null,null,null,null,null,null,null,"保険料\n(月) ",null,null,null,"保険料\n(月) ",null,null,null,"保険料\n(月) ",null,null,null,"保険料\n(月) ",null,null,null,"保険料\n(月) ",null,null,null,"保険料\n(月) ",null,null,null,"保険料\n(月) ",null,null,null,"保険料\n(月) "]
[]
[]
[null,"医療保障 ",null,null,null,null,null,null,null,null,null,{"$f":"入力!W16","v":0},null,null,null,{"$f":"入力!W17","v":0},null,null,null,{"$f":"入力!W18","v":0},null,null,null,{"$f":"入力!W19","v":0},null,null,null,{"$f":"入力!W20","v":0},null,null,null,{"$f":"入力!W21","v":0},null,null,null,{"$f":"入力!W22","v":0},null,null,null,{"$f":"入力!W23","v":0}]
[null,null,null,null,null,null,null,null,null,null,null,{"$f":"IF(入力!W16<>0,MID(入力!$B16,1,8),\"\")","v":""},null,null,null,{"$f":"IF(入力!W17<>0,MID(入力!$B17,1,8),\"\")","v":""},null,null,null,{"$f":"IF(入力!W18<>0,MID(入力!$B18,1,8),\"\")","v":""},null,null,null,{"$f":"IF(入力!W19<>0,MID(入力!$B19,1,8),\"\")","v":""},null,null,null,{"$f":"IF(入力!W20<>0,MID(入力!$B20,1,8),\"\")","v":""},null,null,null,{"$f":"IF(入力!W21<>0,MID(入力!$B21,1,8),\"\")","v":""},null,null,null,{"$f":"IF(入力!W22<>0,MID(入力!$B22,1,8),\"\")","v":""},null,null,null,{"$f":"IF(入力!W23<>0,MID(入力!$B23,1,8),\"\")","v":""}]
[null,"五大疾病入院保障 ",null,null,null,null,null,null,null,null,null,{"$f":"入力!W24","v":0},null,null,null,{"$f":"入力!W25","v":0},null,null,null,{"$f":"入力!W26","v":0},null,null,null,{"$f":"入力!W27","v":0},null,null,null,{"$f":"入力!W28","v":0},null,null,null,{"$f":"入力!W29","v":0},null,null,null,{"$f":"入力!W30","v":0},null,null,null,{"$f":"入力!W31","v":0}]
[null,null,null,null,null,null,null,null,null,null,null,{"$f":"IF(入力!W24<>0,MID(入力!$B24,1,8),\"\")","v":""},null,null,null,{"$f":"IF(入力!W25<>0,MID(入力!$B25,1,8),\"\")","v":""},null,null,null,{"$f":"IF(入力!W26<>0,MID(入力!$B26,1,8),\"\")","v":""},null,null,null,{"$f":"IF(入力!W27<>0,MID(入力!$B27,1,8),\"\")","v":""},null,null,null,{"$f":"IF(入力!W28<>0,MID(入力!$B28,1,8),\"\")","v":""},null,null,null,{"$f":"IF(入力!W29<>0,MID(入力!$B29,1,8),\"\")","v":""},null,null,null,{"$f":"IF(入力!W30<>0,MID(入力!$B30,1,8),\"\")","v":""},null,null,null,{"$f":"IF(入力!W31<>0,MID(入力!$B31,1,8),\"\")","v":""}]
[null,"入院一時金保障",null,null,null,null,null,null,null,null,null,{"$f":"入力!W147","v":0},null,null,null,{"$f":"入力!W148","v":0},null,null,null,{"$f":"入力!W149","v":0},null,null,null,{"$f":"入力!W150","v":0},null,null,null,{"$f":"入力!W151","v":0},null,null,null,{"$f":"入力!W152","v":0},null,null,null,{"$f":"入力!W153","v":0},null,null,null,{"$f":"入力!W154","v":0}]
[null,null,null,null,null,null,null,null,null,null,null,{"$f":"IF(入力!W147<>0,入力!$B147,\"\")","v":""},null,null,null,{"$f":"IF(入力!W148<>0,入力!$B148,\"\")","v":""},null,null,null,{"$f":"IF(入力!W149<>0,入力!$B149,\"\")","v":""},null,null,null,{"$f":"IF(入力!W150<>0,入力!$B150,\"\")","v":""},null,null,null,{"$f":"IF(入力!W151<>0,入力!$B151,\"\")","v":""},null,null,null,{"$f":"IF(入力!W152<>0,入力!$B152,\"\")","v":""},null,null,null,{"$f":"IF(入力!W153<>0,入力!$B153,\"\")","v":""},null,null,null,{"$f":"IF(入力!W154<>0,入力!$B154,\"\")","v":""}]
[null,"疾病手術保障 ",null,null,null,null,null,"－         ",2000,null,null,{"$f":"入力!W32","v":0},null,null,null,{"$f":"入力!W33","v":0},null,null,null,{"$f":"入力!W34","v":0},null,null,null,{"$f":"入力!W35","v":0},null,null,null,{"$f":"入力!W36","v":0},null,null,null,{"$f":"入力!W37","v":0},null,null,null,{"$f":"入力!W38","v":0},null,null,null,{"$f":"入力!W39","v":0}]
[]
[null,"ｶﾞﾝ・成人病保障 ",null,null,null,null,null,"－            ",null,null,null,{"$f":"入力!$W64+入力!$W163","v":0},null,null,null,{"$f":"入力!$W65+入力!$W164","v":0},null,null,null,{"$f":"入力!$W66+入力!$W165","v":0},null,null,null,{"$f":"入力!$W67+入力!$W166","v":0},null,null,null,{"$f":"入力!$W68+入力!$W167","v":0},null,null,null,{"$f":"入力!$W69+入力!$W168","v":0},null,null,null,{"$f":"入力!$W70+入力!$W169","v":0},null,null,null,{"$f":"入力!$W71+入力!$W170","v":0}]
[null,null,null,null,null,null,null,null,null,null,null,{"$f":"入力!$F$64 & IF(入力!$F$64=\"\",\"\", IF(入力!$F$163=\"\",\"\",\"+\")) & 入力!$F$163","v":""},null,null,null,{"$f":"入力!$F$65 & IF(入力!$F$65=\"\",\"\", IF(入力!$F$164=\"\",\"\",\"+\")) & 入力!$F$164","v":""},null,null,null,{"$f":"入力!$F$66 & IF(入力!$F$66=\"\",\"\", IF(入力!$F$165=\"\",\"\",\"+\")) & 入力!$F$165","v":""},null,null,null,{"$f":"入力!$F$67 & IF(入力!$F$67=\"\",\"\", IF(入力!$F$166=\"\",\"\",\"+\")) & 入力!$F$166","v":""},null,null,null,{"$f":"入力!$F$68 & IF(入力!$F$68=\"\",\"\", IF(入力!$F$167=\"\",\"\",\"+\")) & 入力!$F$167","v":""},null,null,null,{"$f":"入力!$F$69 & IF(入力!$F$69=\"\",\"\", IF(入力!$F$168=\"\",\"\",\"+\")) & 入力!$F$168","v":""},null,null,null,{"$f":"入力!$F$70 & IF(入力!$F$70=\"\",\"\", IF(入力!$F$169=\"\",\"\",\"+\")) & 入力!$F$169","v":""},null,null,null,{"$f":"入力!$F$71 & IF(入力!$F$71=\"\",\"\", IF(入力!$F$170=\"\",\"\",\"+\")) & 入力!$F$170","v":""}]
[null,"抗ガン剤治療保障",null,null,null,null,null,"－          ",null,null,null,{"$f":"入力!W118","v":0},null,null,null,{"$f":"入力!W119","v":0},null,null,null,{"$f":"入力!W120","v":0},null,null,null,{"$f":"入力!W121","v":0},null,null,null,{"$f":"入力!W122","v":0},null,null,null,{"$f":"入力!W123","v":0},null,null,null,{"$f":"入力!W124","v":0},null,null,null,{"$f":"入力!W125","v":0}]
[null,null,null,null,null,null,null,null,null,null,null,{"$f":"入力!$F$118","v":""},null,null,null,{"$f":"入力!$F$119","v":""},null,null,null,{"$f":"入力!$F$120","v":""},null,null,null,{"$f":"入力!$F$121","v":""},null,null,null,{"$f":"入力!$F$122","v":""},null,null,null,{"$f":"入力!$F$123","v":""},null,null,null,{"$f":"入力!$F$124","v":""},null,null,null,{"$f":"入力!$F$125","v":""}]
[null,"高度医療保障 ",null,null,null,null,null,"－          ",null,null,null,{"$f":"入力!W40","v":0},null,null,null,{"$f":"入力!W41","v":0},null,null,null,{"$f":"入力!W42","v":0},null,null,null,{"$f":"入力!W43","v":0},null,null,null,{"$f":"入力!W44","v":0},null,null,null,{"$f":"入力!W45","v":0},null,null,null,{"$f":"入力!W46","v":0},null,null,null,{"$f":"入力!W47","v":0}]
[]
[null,"疾病退院後通院保障 ",null,null,null,null,null,"－           ",null,null,null,{"$f":"入力!W48","v":0},null,null,null,{"$f":"入力!W49","v":0},null,null,null,{"$f":"入力!W50","v":0},null,null,null,{"$f":"入力!W51","v":0},null,null,null,{"$f":"入力!W52","v":0},null,null,null,{"$f":"入力!W53","v":0},null,null,null,{"$f":"入力!W54","v":0},null,null,null,{"$f":"入力!W55","v":0}]
[null,null,null,null,null,null,null,null,null,null,null,{"$f":"IF(入力!$W$48<>0,入力!$B$48,\"\")","v":""},null,null,null,{"$f":"IF(入力!$W$49<>0,入力!$B$49,\"\")","v":""},null,null,null,{"$f":"IF(入力!$W$50<>0,入力!$B$50,\"\")","v":""},null,null,null,{"$f":"IF(入力!$W$51<>0,入力!$B$51,\"\")","v":""},null,null,null,{"$f":"IF(入力!$W$52<>0,入力!$B$52,\"\")","v":""},null,null,null,{"$f":"IF(入力!$W$53<>0,入力!$B$53,\"\")","v":""},null,null,null,{"$f":"IF(入力!$W$54<>0,入力!$B$54,\"\")","v":""},null,null,null,{"$f":"IF(入力!$W$55<>0,入力!$B$55,\"\")","v":""}]
[null,"療養保障 ",null,null,null,null,null,null,null,null,null,{"$f":"入力!W56","v":0},null,null,null,{"$f":"入力!W57","v":0},null,null,null,{"$f":"入力!W58","v":0},null,null,null,{"$f":"入力!W59","v":0},null,null,null,{"$f":"入力!W60","v":0},null,null,null,{"$f":"入力!W61","v":0},null,null,null,{"$f":"入力!W62","v":0},null,null,null,{"$f":"入力!W63","v":0}]
[null,null,null,null,null,null,null,null,null,null,null,{"$f":"IF(入力!W56<>0,\"一時金\"&MID(入力!$B56,1,4),\"\")","v":""},null,null,null,{"$f":"IF(入力!W57<>0,\"一時金\"&MID(入力!$B57,1,4),\"\")","v":""},null,null,null,{"$f":"IF(入力!W58<>0,\"一時金\"&MID(入力!$B58,1,4),\"\")","v":""},null,null,null,{"$f":"IF(入力!W59<>0,\"一時金\"&MID(入力!$B59,1,4),\"\")","v":""},null,null,null,{"$f":"IF(入力!W60<>0,\"一時金\"&MID(入力!$B60,1,4),\"\")","v":""},null,null,null,{"$f":"IF(入力!W61<>0,\"一時金\"&MID(入力!$B61,1,4),\"\")","v":""},null,null,null,{"$f":"IF(入力!W62<>0,\"一時金\"&MID(入力!$B62,1,4),\"\")","v":""},null,null,null,{"$f":"IF(入力!W63<>0,\"一時金\"&MID(入力!$B63,1,4),\"\")","v":""}]
[null,"介護一時金保障",null,null,null,null,null,"－             ",null,null,null,{"$f":"入力!$W$155","v":0},null,null,null,{"$f":"入力!$W$156","v":0},null,null,null,{"$f":"入力!$W$157","v":0},null,null,null,{"$f":"入力!$W$158","v":0},null,null,null,{"$f":"入力!$W$159","v":0},null,null,null,{"$f":"入力!$W$160","v":0},null,null,null,{"$f":"入力!$W$161","v":0},null,null,null,{"$f":"入力!$W$162","v":0}]
[null,null,null,null,null,null,null,null,null,null,null,{"$f":"入力!$B$155","v":0},null,null,null,{"$f":"入力!$B$156","v":0},null,null,null,{"$f":"入力!$B$157","v":0},null,null,null,{"$f":"入力!$B$158","v":0},null,null,null,{"$f":"入力!$B$159","v":0},null,null,null,{"$f":"入力!$B$160","v":0},null,null,null,{"$f":"入力!$B$161","v":0},null,null,null,{"$f":"入力!$B$162","v":0}]
[null,"介護年金保障",null,null,null,null,null,"－             ",null,null,null,{"$f":"入力!$W$110","v":0},null,null,null,{"$f":"入力!$W$111","v":0},null,null,null,{"$f":"入力!$W$112","v":0},null,null,null,{"$f":"入力!$W$113","v":0},null,null,null,{"$f":"入力!$W$114","v":0},null,null,null,{"$f":"入力!$W$115","v":0},null,null,null,{"$f":"入力!$W$116","v":0},null,null,null,{"$f":"入力!$W$117","v":0}]
[null,null,null,null,null,null,null,null,null,null,null,{"$f":"入力!$F$110","v":""},null,null,null,{"$f":"入力!$F$111","v":""},null,null,null,{"$f":"入力!$F$112","v":""},null,null,null,{"$f":"入力!$F$113","v":""},null,null,null,{"$f":"入力!$F$114","v":""},null,null,null,{"$f":"入力!$F$115","v":""},null,null,null,{"$f":"入力!$F$116","v":""},null,null,null,{"$f":"入力!$F$117","v":""}]
[null,"【(本人向け）所得保障のオプション】"]
[null,"所得保障 ",null,null,null,null,null,null,null,null,null,{"$f":"入力!W4","v":0},null,null,null,"長期所得保障",null,null,null,null,null,null,null,null,null,{"$f":"入力!W83","v":0}]
[null,{"$f":"入力!J6","v":""},null,null,null,null,null,null,null,null,null,null,null,null,null,{"$f":"入力!J83","v":""}]
[null,"【 その他 オ プ シ ョ ン 】"]
[null,"携行品損害保障",null,null,null,null,null,null,null,null,null,"対象外 ",null,null,null,"ﾎｰﾙｲﾝﾜﾝ等費用保障",null,null,null,null,null,null,null,null,null,"対象外 ",null,null,null,"賃貸住宅保障",null,null,null,null,null,null,null,null,null,"対象外 "]
[]
[]
[]
[]
[]
[null," 備　考"]
[null,null,null,null,null,null,null,null,null,null,null,null,null,null,null,null,null,null,null,null,null,null,null,null,null,null,null,null,null,null,null,null,null,null,null,null,null,null,null,null,null,null,"中電クラビス株式会社"]
[null,null,null,null,null,null,null,null,null,null,null,null,null,null,null,null,null,null,null,null,null,null,null,null,null,null,null,null,null,null,null,null,null,null,null,null,null,null,null,null,null,null,"460-0008　名古屋市中区栄２－２－５　電気文化会館"]
[null,null,null,null,null,null,null,null,null,null,null,null,null,null,null,null,null,null,null,null,null,null,null,null,null,null,null,null,null,null,null,null,null,null,null,null,null,null,null,null,null,null,"ﾌﾘｰﾀﾞｲﾔﾙ　0120-555-547　 FAX　052-223-0809"]

{"sheet":"入力","index":2,"n_rows":173,"n_cols":24,"rows_kept":173,"cut":false,"hidden":true,"merged":[]}
[null,null,null,"保険料（月額保険料）","見積シート出力用","保険料計算や枠外文言出力用",null,null,null,null,null,null,null,null,null,null,null,null,null,null,null,null,"保険料（控除対象）"]
["年齢",null,null,null,null,"ケガ死亡",350,"万円"]
["性別",null,null,null,null,"ケガ後遺障害",350,"万円"]
["タイプ",null,{"$f":"IF(B4<>\"\",IF(B4=\"ﾌｧﾐﾘｰｾｯﾄ\",\"ﾌｧﾐﾘｰ\"&E5,IF(B4=\"夫婦ｾｯﾄ\",\"ｼﾆｱ\"&E5,\"ﾊﾟｰｿﾅﾙ\"&E5)),\"\")","v":""},{"$f":"IF(ISERROR(HLOOKUP($C4,'保険料（月額保険料）'!$B$3:$DU$115,B2+3,FALSE))=TRUE,0,HLOOKUP($C4,'保険料（月額保険料）'!$B$3:$DU$115,B2+3,FALSE))","v":0},{"$f":"DBCS(B4)","v":""},"ケガ入院",5000,"円",null,null,null,null,null,null,null,null,null,null,null,null,null,null,{"$f":"IF(ISERROR(HLOOKUP($C$6,'保険料（控除対象）'!$B$3:$DU$115,$B$2+3,FALSE))=TRUE,0,HLOOKUP($C$6,'保険料（控除対象）'!$B$3:$DU$115,$B$2+3,FALSE))","v":0},{"$f":"IF(B4=\"ﾌｧﾐﾘｰ (家族契約)\",\"ﾌｧﾐﾘｰｾｯﾄ\"&C6,\"ﾊﾟｰｿﾅﾙｾｯﾄ\"&C6)","v":"ﾊﾟｰｿﾅﾙｾｯﾄ"}]
["口数",null,null,null,{"$f":"LEFTB(B5,1)","v":""},"ケガ通院",2000,"円",null,null,null,null,null,null,null,null,null,null,null,null,null,null,null,{"$f":"LEFTB(B5,1)","v":""}]
["所得",null,{"$f":"IF(E6=0,\"\",IF(E6=75000,\"ｴｺﾉﾐｰ\"&E7,IF(E6=150000,\"ﾍﾞｰｼｯｸ\"&E7,\"ﾜｲﾄﾞ\"&E7)))","v":""},{"$f":"IF(ISERROR(HLOOKUP($C6,'保険料（月額保険料）'!$B$3:$DU$115,$B$2+3,FALSE))=TRUE,0,HLOOKUP($C6,'保険料（月額保険料）'!$B$3:$DU$115,$B$2+3,FALSE))","v":0},{"$f":"VALUE(IF(OR(B6=\"\",B6=\"加入しない\"),0,IF(B6=\"月額75,000円\",75000,IF(B6=\"月額150,000円\",150000,300000))))","v":0},"賠償責任",3,"億円",null,{"$f":"IF(E6<>0,IF(E6=75000,\"(月額7.5万円/\"&B7&\")\",IF(E6=150000,\"(月額15万円/\"&B7&\")\",\"(月額30万円/\"&B7&\")\")),\"\")","v":""},null,null,null,null,null,null,null,null,null,null,null,null,{"$f":"IF(OR(B6=\"加入しない\",B6=\"\"),0,LEFTB(B6,5))","v":0},{"$f":"VALUE(IF(OR(B6=\"\",B6=\"加入しない\"),0,MIDB(B6,11,7)))","v":0}]
["免責",null,null,null,{"$f":"VALUE(IF(B7=\"\",\"\",MIDB(B7,9,1)))","v":{"$error":"#VALUE!"}},"疾病・ケガ入院",3000,"円"]
[null,null,null,null,{"$f":"IF(B8=\"はい\",\"※所得保障は妊娠障害も担保されます\",\"\")","v":""},"疾病後遺障害",300,"万円",null,null,null,null,null,null,null,null,null,null,null,null,null,null,null,{"$f":"IF(B8=\"はい\",\"※所得保障は妊娠障害も担保されます\",\"\")","v":""}]
["配偶者年齢",null,null,null,{"$f":"VALUE(IF(B9<>\"\",LEFTB($B$5,1),0))","v":0},"シニア疾病・ケガ入院",3000,"円",null,null,null,null,null,null,null,null,null,null,null,null,null,null,null,{"$f":"VALUE(IF(B9<>\"\",LEFTB($B$5,1),0))","v":0}]
["家族①年齢",null,null,null,{"$f":"VALUE(IF(B10<>\"\",LEFTB($B$5,1),0) * IF(AND(DBCS($B$4)=\"ファミリーセット\", B141<>\"別居の親\"), 1, 0))","v":0},"シニア疾病・ケガ入院",5000,"円",null,null,null,null,null,null,null,null,null,null,null,null,null,null,null,0]
["家族②年齢",null,null,null,0,"疾病手術",100,"万円",null,null,null,null,null,null,null,null,null,null,null,null,null,null,null,0]
["家族③年齢",null,null,null,0,"疾病手術臨時費用",10,"万円",null,null,null,null,null,null,null,null,null,null,null,null,null,null,null,0]
["家族④年齢",null,null,null,0,"高度先進医療",300,"万円",null,null,null,null,null,null,null,null,null,null,null,null,null,null,null,0]
["家族⑤年齢",null,null,null,0,"疾病入院後通院",3000,"円",null,null,null,null,null,null,null,null,null,null,null,null,null,null,null,0]
["家族⑥年齢",null,null,null,0,"療養",10,"万円",null,null,null,null,null,null,null,null,null,null,null,null,null,null,null,0]
["本人医療",null,{"$f":"IF(B16=\"日額9,000円(3口)\",\"医療保障3\",IF(B16=\"日額6,000円(2口)\",\"医療保障2\",IF(B16=\"日額5,000円\",\"医療保障2シニア\",IF(B16=\"日額3,000円(1口)\",\"医療保障1\",IF(B16=\"日額3,000円\",\"医療保障1シニア\",\"\")))))","v":""},{"$f":"IF(C16=\"\",0,IF(ISERROR(HLOOKUP(C16,'保険料（月額保険料）'!$B$3:$DU$115,$B$2+3,FALSE))=TRUE,0,HLOOKUP(C16,'保険料（月額保険料）'!$B$3:$DU$115,$B$2+3,FALSE)))","v":0},{"$f":"IF(B16=\"日額9,000円(3口)\",9000,IF(B16=\"日額6,000円(2口)\",6000,IF(B16=\"日額5,000円\",5000,IF(OR(B16=\"日額3,000円(1口)\",B16=\"日額3,000円\"),3000,0))))","v":0},"ガン",100,"万円",null,null,null,null,null,null,null,null,null,null,null,null,null,null,{"$f":"IF(C16=\"\",0,IF(ISERROR(HLOOKUP(C16,'保険料（控除対象）'!$B$3:$DU$115,$B$2+3,FALSE))=TRUE,0,HLOOKUP(C16,'保険料（控除対象）'!$B$3:$DU$115,$B$2+3,FALSE)))","v":0}]
["配偶者医療",null,"",{"$f":"IF(C17=\"\",0,IF(ISERROR(HLOOKUP(C17,'保険料（月額保険料）'!$B$3:$DU$115,$B$9+3,FALSE))=TRUE,0,HLOOKUP(C17,'保険料（月額保険料）'!$B$3:$DU$115,$B$9+3,FALSE)))","v":0},0,"ガン",200,"万円",null,null,null,null,null,null,null,null,null,null,null,null,null,null,{"$f":"IF(C17=\"\",0,IF(ISERROR(HLOOKUP(C17,'保険料（控除対象）'!$B$3:$DU$115,$B9+3,FALSE))=TRUE,0,HLOOKUP(C17,'保険料（控除対象）'!$B$3:$DU$115,$B9+3,FALSE)))","v":0}]
["家族①医療",null,"",{"$f":"IF(C18=\"\",0,IF(ISERROR(HLOOKUP(C18,'保険料（月額保険料）'!$B$3:$DU$115,$B$10+3,FALSE))=TRUE,0,HLOOKUP(C18,'保険料（月額保険料）'!$B$3:$DU$115,$B$10+3,FALSE)))","v":0},{"$f":"IF(B18=\"日額9,000円(3口)\",9000,IF(B18=\"日額6,000円(2口)\",6000,IF(B18=\"日額5,000円\",5000,IF(OR(B18=\"日額3,000円(1口)\",B18=\"日額3,000円\"),3000,0))))","v":0},"ガン",300,"万円",null,null,null,null,null,null,null,null,null,null,null,null,null,null,{"$f":"IF(C18=\"\",0,IF(ISERROR(HLOOKUP(C18,'保険料（控除対象）'!$B$3:$DU$115,$B10+3,FALSE))=TRUE,0,HLOOKUP(C18,'保険料（控除対象）'!$B$3:$DU$115,$B10+3,FALSE)))","v":0}]
["家族②医療",null,"",{"$f":"IF(C19=\"\",0,IF(ISERROR(HLOOKUP(C19,'保険料（月額保険料）'!$B$3:$DU$115,$B$11+3,FALSE))=TRUE,0,HLOOKUP(C19,'保険料（月額保険料）'!$B$3:$DU$115,$B$11+3,FALSE)))","v":0},0,"三大",100,"万円",null,null,null,null,null,null,null,null,null,null,null,null,null,null,{"$f":"IF(C19=\"\",0,IF(ISERROR(HLOOKUP(C19,'保険料（控除対象）'!$B$3:$DU$115,$B11+3,FALSE))=TRUE,0,HLOOKUP(C19,'保険料（控除対象）'!$B$3:$DU$115,$B11+3,FALSE)))","v":0}]
["家族③医療",null,"",{"$f":"IF(C20=\"\",0,IF(ISERROR(HLOOKUP(C20,'保険料（月額保険料）'!$B$3:$DU$115,$B$12+3,FALSE))=TRUE,0,HLOOKUP(C20,'保険料（月額保険料）'!$B$3:$DU$115,$B$12+3,FALSE)))","v":0},0,"三大",200,"万円",null,null,null,null,null,null,null,null,null,null,null,null,null,null,{"$f":"IF(C20=\"\",0,IF(ISERROR(HLOOKUP(C20,'保険料（控除対象）'!$B$3:$DU$115,$B12+3,FALSE))=TRUE,0,HLOOKUP(C20,'保険料（控除対象）'!$B$3:$DU$115,$B12+3,FALSE)))","v":0}]
["家族④医療",null,"",{"$f":"IF(C21=\"\",0,IF(ISERROR(HLOOKUP(C21,'保険料（月額保険料）'!$B$3:$DU$115,$B$13+3,FALSE))=TRUE,0,HLOOKUP(C21,'保険料（月額保険料）'!$B$3:$DU$115,$B$13+3,FALSE)))","v":0},0,"三大",300,"万円",null,null,null,null,null,null,null,null,null,null,null,null,null,null,{"$f":"IF(C21=\"\",0,IF(ISERROR(HLOOKUP(C21,'保険料（控除対象）'!$B$3:$DU$115,$B13+3,FALSE))=TRUE,0,HLOOKUP(C21,'保険料（控除対象）'!$B$3:$DU$115,$B13+3,FALSE)))","v":0}]
["家族⑤医療",null,"",{"$f":"IF(C22=\"\",0,IF(ISERROR(HLOOKUP(C22,'保険料（月額保険料）'!$B$3:$DU$115,$B$14+3,FALSE))=TRUE,0,HLOOKUP(C22,'保険料（月額保険料）'!$B$3:$DU$115,$B$14+3,FALSE)))","v":0},0,"介護一時",100,"万円",null,null,null,null,null,null,null,null,null,null,null,null,null,null,{"$f":"IF(C22=\"\",0,IF(ISERROR(HLOOKUP(C22,'保険料（控除対象）'!$B$3:$DU$115,$B14+3,FALSE))=TRUE,0,HLOOKUP(C22,'保険料（控除対象）'!$B$3:$DU$115,$B14+3,FALSE)))","v":0}]
["家族⑥医療",null,"",{"$f":"IF(C23=\"\",0,IF(ISERROR(HLOOKUP(C23,'保険料（月額保険料）'!$B$3:$DU$115,$B$15+3,FALSE))=TRUE,0,HLOOKUP(C23,'保険料（月額保険料）'!$B$3:$DU$115,$B$15+3,FALSE)))","v":0},0,"介護年金",60,"万円",null,null,null,null,null,null,null,null,null,null,null,null,null,null,{"$f":"IF(C23=\"\",0,IF(ISERROR(HLOOKUP(C23,'保険料（控除対象）'!$B$3:$DU$115,$B15+3,FALSE))=TRUE,0,HLOOKUP(C23,'保険料（控除対象）'!$B$3:$DU$115,$B15+3,FALSE)))","v":0}]
["本人五大疾病",null,{"$f":"IF(B24=\"日額6,000円(2口)\",\"五大疾病入院保障2\",IF(B24=\"日額6,000円\",\"五大疾病入院保障2\",IF(B24=\"日額3,000円(1口)\",\"五大疾病入院保障1\",IF(B24=\"日額3,000円\",\"五大疾病入院保障1\",\"\"))))","v":""},{"$f":"IF(C24=\"\",0,IF(ISERROR(HLOOKUP(C24,'保険料（月額保険料）'!$B$3:$DU$115,$B$2+3,FALSE))=TRUE,0,HLOOKUP(C24,'保険料（月額保険料）'!$B$3:$DU$115,$B$2+3,FALSE)))","v":0},{"$f":"IF(B24=\"日額6,000円(2口)\",6000,IF(B24=\"日額5,000円\",5000,IF(OR(B24=\"日額3,000円(1口)\",B24=\"日額3,000円\"),3000,0)))","v":0},"携行品",20,"万円",null,null,null,null,null,null,null,null,null,null,null,null,null,null,{"$f":"IF(C24=\"\",0,IF(ISERROR(HLOOKUP(C24,'保険料（控除対象）'!$B$3:$DU$115,$B$2+3,FALSE))=TRUE,0,HLOOKUP(C24,'保険料（控除対象）'!$B$3:$DU$115,$B$2+3,FALSE)))","v":0}]
["配偶者五大疾病",null,{"$f":"IF(B25=\"日額6,000円(2口)\",\"五大疾病入院保障2\",IF(B25=\"日額6,000円\",\"五大疾病入院保障2\",IF(B25=\"日額3,000円(1口)\",\"五大疾病入院保障1\",IF(B25=\"日額3,000円\",\"五大疾病入院保障1\",\"\"))))","v":""},{"$f":"IF(C25=\"\",0,IF(ISERROR(HLOOKUP(C25,'保険料（月額保険料）'!$B$3:$DU$115,$B$9+3,FALSE))=TRUE,0,HLOOKUP(C25,'保険料（月額保険料）'!$B$3:$DU$115,$B$9+3,FALSE)))","v":0},0,"ホールインワン",20,"万円",null,null,null,null,null,null,null,null,null,null,null,null,null,null,{"$f":"IF(C25=\"\",0,IF(ISERROR(HLOOKUP(C25,'保険料（控除対象）'!$B$3:$DU$115,$B9+3,FALSE))=TRUE,0,HLOOKUP(C25,'保険料（控除対象）'!$B$3:$DU$115,$B9+3,FALSE)))","v":0}]
["家族①五大疾病",null,"",{"$f":"IF(C26=\"\",0,IF(ISERROR(HLOOKUP(C26,'保険料（月額保険料）'!$B$3:$DU$115,$B$10+3,FALSE))=TRUE,0,HLOOKUP(C26,'保険料（月額保険料）'!$B$3:$DU$115,$B$10+3,FALSE)))","v":0},0,"ホールインワン",50,"万円",null,null,null,null,null,null,null,null,null,null,null,null,null,null,{"$f":"IF(C26=\"\",0,IF(ISERROR(HLOOKUP(C26,'保険料（控除対象）'!$B$3:$DU$115,$B10+3,FALSE))=TRUE,0,HLOOKUP(C26,'保険料（控除対象）'!$B$3:$DU$115,$B10+3,FALSE)))","v":0}]
["家族②五大疾病",null,"",{"$f":"IF(C27=\"\",0,IF(ISERROR(HLOOKUP(C27,'保険料（月額保険料）'!$B$3:$DU$115,$B$11+3,FALSE))=TRUE,0,HLOOKUP(C27,'保険料（月額保険料）'!$B$3:$DU$115,$B$11+3,FALSE)))","v":0},0,"ホールインワン",80,"万円",null,null,null,null,null,null,null,null,null,null,null,null,null,null,{"$f":"IF(C27=\"\",0,IF(ISERROR(HLOOKUP(C27,'保険料（控除対象）'!$B$3:$DU$115,$B11+3,FALSE))=TRUE,0,HLOOKUP(C27,'保険料（控除対象）'!$B$3:$DU$115,$B11+3,FALSE)))","v":0}]
["家族③五大疾病",null,"",{"$f":"IF(C28=\"\",0,IF(ISERROR(HLOOKUP(C28,'保険料（月額保険料）'!$B$3:$DU$115,$B$12+3,FALSE))=TRUE,0,HLOOKUP(C28,'保険料（月額保険料）'!$B$3:$DU$115,$B$12+3,FALSE)))","v":0},0,"長期所得",5,"万円",null,null,null,null,null,null,null,null,null,null,null,null,null,null,{"$f":"IF(C28=\"\",0,IF(ISERROR(HLOOKUP(C28,'保険料（控除対象）'!$B$3:$DU$115,$B12+3,FALSE))=TRUE,0,HLOOKUP(C28,'保険料（控除対象）'!$B$3:$DU$115,$B12+3,FALSE)))","v":0}]
["家族④五大疾病",null,"",{"$f":"IF(C29=\"\",0,IF(ISERROR(HLOOKUP(C29,'保険料（月額保険料）'!$B$3:$DU$115,$B$13+3,FALSE))=TRUE,0,HLOOKUP(C29,'保険料（月額保険料）'!$B$3:$DU$115,$B$13+3,FALSE)))","v":0},0,"施設賠責",1,"億円",null,null,null,null,null,null,null,null,null,null,null,null,null,null,{"$f":"IF(C29=\"\",0,IF(ISERROR(HLOOKUP(C29,'保険料（控除対象）'!$B$3:$DU$115,$B13+3,FALSE))=TRUE,0,HLOOKUP(C29,'保険料（控除対象）'!$B$3:$DU$115,$B13+3,FALSE)))","v":0}]
["家族⑤五大疾病",null,"",{"$f":"IF(C30=\"\",0,IF(ISERROR(HLOOKUP(C30,'保険料（月額保険料）'!$B$3:$DU$115,$B$14+3,FALSE))=TRUE,0,HLOOKUP(C30,'保険料（月額保険料）'!$B$3:$DU$115,$B$14+3,FALSE)))","v":0},0,null,null,null,null,null,null,null,null,null,null,null,null,null,null,null,null,null,{"$f":"IF(C30=\"\",0,IF(ISERROR(HLOOKUP(C30,'保険料（控除対象）'!$B$3:$DU$115,$B14+3,FALSE))=TRUE,0,HLOOKUP(C30,'保険料（控除対象）'!$B$3:$DU$115,$B14+3,FALSE)))","v":0}]
["家族⑥五大疾病",null,"",{"$f":"IF(C31=\"\",0,IF(ISERROR(HLOOKUP(C31,'保険料（月額保険料）'!$B$3:$DU$115,$B$15+3,FALSE))=TRUE,0,HLOOKUP(C31,'保険料（月額保険料）'!$B$3:$DU$115,$B$15+3,FALSE)))","v":0},0,null,null,null,null,null,null,null,null,null,null,null,null,null,null,null,null,null,{"$f":"IF(C31=\"\",0,IF(ISERROR(HLOOKUP(C31,'保険料（控除対象）'!$B$3:$DU$115,$B15+3,FALSE))=TRUE,0,HLOOKUP(C31,'保険料（控除対象）'!$B$3:$DU$115,$B15+3,FALSE)))","v":0}]
["本人手術",null,{"$f":"IF(B32=\"実費100万円限度\",\"疾病手術保障\",\"\")","v":""},{"$f":"IF(C32=\"\",0,IF(ISERROR(HLOOKUP(C32,'保険料（月額保険料）'!$B$3:$DU$115,$B$2+3,FALSE))=TRUE,0,HLOOKUP(C32,'保険料（月額保険料）'!$B$3:$DU$115,$B$2+3,FALSE)))","v":0},{"$f":"IF(B32=\"実費100万円限度\",100,0)","v":0},null,null,null,null,null,null,null,null,null,null,null,null,null,null,null,null,null,{"$f":"IF(C32=\"\",0,IF(ISERROR(HLOOKUP(C32,'保険料（控除対象）'!$B$3:$DU$115,$B$2+3,FALSE))=TRUE,0,HLOOKUP(C32,'保険料（控除対象）'!$B$3:$DU$115,$B$2+3,FALSE)))","v":0}]
["配偶者手術",null,"",{"$f":"IF(C33=\"\",0,IF(ISERROR(HLOOKUP(C33,'保険料（月額保険料）'!$B$3:$DU$115,$B$9+3,FALSE))=TRUE,0,HLOOKUP(C33,'保険料（月額保険料）'!$B$3:$DU$115,$B$9+3,FALSE)))","v":0},0,null,null,null,null,null,null,null,null,null,null,null,null,null,null,null,null,null,{"$f":"IF(C33=\"\",0,IF(ISERROR(HLOOKUP(C33,'保険料（控除対象）'!$B$3:$DU$115,$B9+3,FALSE))=TRUE,0,HLOOKUP(C33,'保険料（控除対象）'!$B$3:$DU$115,$B9+3,FALSE)))","v":0}]
["家族①手術",null,"",{"$f":"IF(C34=\"\",0,IF(ISERROR(HLOOKUP(C34,'保険料（月額保険料）'!$B$3:$DU$115,$B$10+3,FALSE))=TRUE,0,HLOOKUP(C34,'保険料（月額保険料）'!$B$3:$DU$115,$B$10+3,FALSE)))","v":0},0,null,null,null,null,null,null,null,null,null,null,null,null,null,null,null,null,null,{"$f":"IF(C34=\"\",0,IF(ISERROR(HLOOKUP(C34,'保険料（控除対象）'!$B$3:$DU$115,$B10+3,FALSE))=TRUE,0,HLOOKUP(C34,'保険料（控除対象）'!$B$3:$DU$115,$B10+3,FALSE)))","v":0}]
["家族②手術",null,"",{"$f":"IF(C35=\"\",0,IF(ISERROR(HLOOKUP(C35,'保険料（月額保険料）'!$B$3:$DU$115,$B$11+3,FALSE))=TRUE,0,HLOOKUP(C35,'保険料（月額保険料）'!$B$3:$DU$115,$B$11+3,FALSE)))","v":0},0,null,null,null,null,null,null,null,null,null,null,null,null,null,null,null,null,null,{"$f":"IF(C35=\"\",0,IF(ISERROR(HLOOKUP(C35,'保険料（控除対象）'!$B$3:$DU$115,$B11+3,FALSE))=TRUE,0,HLOOKUP(C35,'保険料（控除対象）'!$B$3:$DU$115,$B11+3,FALSE)))","v":0}]
["家族③手術",null,"",{"$f":"IF(C36=\"\",0,IF(ISERROR(HLOOKUP(C36,'保険料（月額保険料）'!$B$3:$DU$115,$B$12+3,FALSE))=TRUE,0,HLOOKUP(C36,'保険料（月額保険料）'!$B$3:$DU$115,$B$12+3,FALSE)))","v":0},0,null,null,null,null,null,null,null,null,null,null,null,null,null,null,null,null,null,{"$f":"IF(C36=\"\",0,IF(ISERROR(HLOOKUP(C36,'保険料（控除対象）'!$B$3:$DU$115,$B12+3,FALSE))=TRUE,0,HLOOKUP(C36,'保険料（控除対象）'!$B$3:$DU$115,$B12+3,FALSE)))","v":0}]
["家族④手術",null,"",{"$f":"IF(C37=\"\",0,IF(ISERROR(HLOOKUP(C37,'保険料（月額保険料）'!$B$3:$DU$115,$B$13+3,FALSE))=TRUE,0,HLOOKUP(C37,'保険料（月額保険料）'!$B$3:$DU$115,$B$13+3,FALSE)))","v":0},0,null,null,null,null,null,null,null,null,null,null,null,null,null,null,null,null,null,{"$f":"IF(C37=\"\",0,IF(ISERROR(HLOOKUP(C37,'保険料（控除対象）'!$B$3:$DU$115,$B13+3,FALSE))=TRUE,0,HLOOKUP(C37,'保険料（控除対象）'!$B$3:$DU$115,$B13+3,FALSE)))","v":0}]
["家族⑤手術",null,"",{"$f":"IF(C38=\"\",0,IF(ISERROR(HLOOKUP(C38,'保険料（月額保険料）'!$B$3:$DU$115,$B$14+3,FALSE))=TRUE,0,HLOOKUP(C38,'保険料（月額保険料）'!$B$3:$DU$115,$B$14+3,FALSE)))","v":0},0,null,null,null,null,null,null,null,null,null,null,null,null,null,null,null,null,null,{"$f":"IF(C38=\"\",0,IF(ISERROR(HLOOKUP(C38,'保険料（控除対象）'!$B$3:$DU$115,$B14+3,FALSE))=TRUE,0,HLOOKUP(C38,'保険料（控除対象）'!$B$3:$DU$115,$B14+3,FALSE)))","v":0}]
["家族⑥手術",null,"",{"$f":"IF(C39=\"\",0,IF(ISERROR(HLOOKUP(C39,'保険料（月額保険料）'!$B$3:$DU$115,$B$15+3,FALSE))=TRUE,0,HLOOKUP(C39,'保険料（月額保険料）'!$B$3:$DU$115,$B$15+3,FALSE)))","v":0},0,null,null,null,null,null,null,null,null,null,null,null,null,null,null,null,null,null,{"$f":"IF(C39=\"\",0,IF(ISERROR(HLOOKUP(C39,'保険料（控除対象）'!$B$3:$DU$115,$B15+3,FALSE))=TRUE,0,HLOOKUP(C39,'保険料（控除対象）'!$B$3:$DU$115,$B15+3,FALSE)))","v":0}]
["本人高度",null,{"$f":"IF(B40=\"実費2000万円限度\",\"高度医療保障\",\"\")","v":""},{"$f":"IF(C40=\"\",0,IF(ISERROR(HLOOKUP(C40,'保険料（月額保険料）'!$B$3:$DU$115,$B$2+3,FALSE))=TRUE,0,HLOOKUP(C40,'保険料（月額保険料）'!$B$3:$DU$115,$B$2+3,FALSE)))","v":0},{"$f":"IF(B40=\"実費2000万円限度\",2000,0)","v":0},null,null,null,null,null,null,null,null,null,null,null,null,null,null,null,null,null,{"$f":"IF(C40=\"\",0,IF(ISERROR(HLOOKUP(C40,'保険料（控除対象）'!$B$3:$DU$115,$B$2+3,FALSE))=TRUE,0,HLOOKUP(C40,'保険料（控除対象）'!$B$3:$DU$115,$B$2+3,FALSE)))","v":0}]
["配偶者高度",null,{"$f":"IF(B41=\"実費2000万円限度\",\"高度医療保障\",\"\")","v":""},{"$f":"IF(C41=\"\",0,IF(ISERROR(HLOOKUP(C41,'保険料（月額保険料）'!$B$3:$DU$115,$B$9+3,FALSE))=TRUE,0,HLOOKUP(C41,'保険料（月額保険料）'!$B$3:$DU$115,$B$9+3,FALSE)))","v":0},{"$f":"IF(B41=\"実費2000万円限度\",2000,0)","v":0},null,null,null,null,null,null,null,null,null,null,null,null,null,null,null,null,null,{"$f":"IF(C41=\"\",0,IF(ISERROR(HLOOKUP(C41,'保険料（控除対象）'!$B$3:$DU$115,$B9+3,FALSE))=TRUE,0,HLOOKUP(C41,'保険料（控除対象）'!$B$3:$DU$115,$B9+3,FALSE)))","v":0}]
["家族①高度",null,{"$f":"IF(B42=\"実費2000万円限度\",\"高度医療保障\",\"\")","v":""},{"$f":"IF(C42=\"\",0,IF(ISERROR(HLOOKUP(C42,'保険料（月額保険料）'!$B$3:$DU$115,$B$10+3,FALSE))=TRUE,0,HLOOKUP(C42,'保険料（月額保険料）'!$B$3:$DU$115,$B$10+3,FALSE)))","v":0},{"$f":"IF(B42=\"実費2000万円限度\",2000,0)","v":0},null,null,null,null,null,null,null,null,null,null,null,null,null,null,null,null,null,{"$f":"IF(C42=\"\",0,IF(ISERROR(HLOOKUP(C42,'保険料（控除対象）'!$B$3:$DU$115,$B10+3,FALSE))=TRUE,0,HLOOKUP(C42,'保険料（控除対象）'!$B$3:$DU$115,$B10+3,FALSE)))","v":0}]
["家族②高度",null,"",{"$f":"IF(C43=\"\",0,IF(ISERROR(HLOOKUP(C43,'保険料（月額保険料）'!$B$3:$DU$115,$B$11+3,FALSE))=TRUE,0,HLOOKUP(C43,'保険料（月額保険料）'!$B$3:$DU$115,$B$11+3,FALSE)))","v":0},0,null,null,null,null,null,null,null,null,null,null,null,null,null,null,null,null,null,{"$f":"IF(C43=\"\",0,IF(ISERROR(HLOOKUP(C43,'保険料（控除対象）'!$B$3:$DU$115,$B11+3,FALSE))=TRUE,0,HLOOKUP(C43,'保険料（控除対象）'!$B$3:$DU$115,$B11+3,FALSE)))","v":0}]
["家族③高度",null,"",{"$f":"IF(C44=\"\",0,IF(ISERROR(HLOOKUP(C44,'保険料（月額保険料）'!$B$3:$DU$115,$B$12+3,FALSE))=TRUE,0,HLOOKUP(C44,'保険料（月額保険料）'!$B$3:$DU$115,$B$12+3,FALSE)))","v":0},0,null,null,null,null,null,null,null,null,null,null,null,null,null,null,null,null,null,{"$f":"IF(C44=\"\",0,IF(ISERROR(HLOOKUP(C44,'保険料（控除対象）'!$B$3:$DU$115,$B12+3,FALSE))=TRUE,0,HLOOKUP(C44,'保険料（控除対象）'!$B$3:$DU$115,$B12+3,FALSE)))","v":0}]
["家族④高度",null,"",{"$f":"IF(C45=\"\",0,IF(ISERROR(HLOOKUP(C45,'保険料（月額保険料）'!$B$3:$DU$115,$B$13+3,FALSE))=TRUE,0,HLOOKUP(C45,'保険料（月額保険料）'!$B$3:$DU$115,$B$13+3,FALSE)))","v":0},0,null,null,null,null,null,null,null,null,null,null,null,null,null,null,null,null,null,{"$f":"IF(C45=\"\",0,IF(ISERROR(HLOOKUP(C45,'保険料（控除対象）'!$B$3:$DU$115,$B13+3,FALSE))=TRUE,0,HLOOKUP(C45,'保険料（控除対象）'!$B$3:$DU$115,$B13+3,FALSE)))","v":0}]
["家族⑤高度",null,"",{"$f":"IF(C46=\"\",0,IF(ISERROR(HLOOKUP(C46,'保険料（月額保険料）'!$B$3:$DU$115,$B$14+3,FALSE))=TRUE,0,HLOOKUP(C46,'保険料（月額保険料）'!$B$3:$DU$115,$B$14+3,FALSE)))","v":0},0,null,null,null,null,null,null,null,null,null,null,null,null,null,null,null,null,null,{"$f":"IF(C46=\"\",0,IF(ISERROR(HLOOKUP(C46,'保険料（控除対象）'!$B$3:$DU$115,$B14+3,FALSE))=TRUE,0,HLOOKUP(C46,'保険料（控除対象）'!$B$3:$DU$115,$B14+3,FALSE)))","v":0}]
["家族⑥高度",null,"",{"$f":"IF(C47=\"\",0,IF(ISERROR(HLOOKUP(C47,'保険料（月額保険料）'!$B$3:$DU$115,$B$15+3,FALSE))=TRUE,0,HLOOKUP(C47,'保険料（月額保険料）'!$B$3:$DU$115,$B$15+3,FALSE)))","v":0},0,null,null,null,null,null,null,null,null,null,null,null,null,null,null,null,null,null,{"$f":"IF(C47=\"\",0,IF(ISERROR(HLOOKUP(C47,'保険料（控除対象）'!$B$3:$DU$115,$B15+3,FALSE))=TRUE,0,HLOOKUP(C47,'保険料（控除対象）'!$B$3:$DU$115,$B15+3,FALSE)))","v":0}]
["本人通院",null,{"$f":"IF(B48=\"日額3,000円\",\"疾病退院後通院保障\",IF(B48=\"日額1,500円\",\"疾病退院後通院保障1500\",\"\"))","v":""},{"$f":"IF(C48=\"\",0,IF(ISERROR(HLOOKUP(C48,'保険料（月額保険料）'!$B$3:$DU$115,$B$2+3,FALSE))=TRUE,0,HLOOKUP(C48,'保険料（月額保険料）'!$B$3:$DU$115,$B$2+3,FALSE)))","v":0},{"$f":"IF(B48=\"日額3,000円\",3000,IF(B48=\"日額1,500円\",1500,0))","v":0},null,null,null,null,null,null,null,null,null,null,null,null,null,null,null,null,null,{"$f":"IF(C48=\"\",0,IF(ISERROR(HLOOKUP(C48,'保険料（控除対象）'!$B$3:$DU$115,$B$2+3,FALSE))=TRUE,0,HLOOKUP(C48,'保険料（控除対象）'!$B$3:$DU$115,$B$2+3,FALSE)))","v":0}]
["配偶者通院",null,{"$f":"IF(B49=\"日額3,000円\",\"疾病退院後通院保障\",IF(B49=\"日額1,500円\",\"疾病退院後通院保障1500\",\"\"))","v":""},{"$f":"IF(C49=\"\",0,IF(ISERROR(HLOOKUP(C49,'保険料（月額保険料）'!$B$3:$DU$115,$B$9+3,FALSE))=TRUE,0,HLOOKUP(C49,'保険料（月額保険料）'!$B$3:$DU$115,$B$9+3,FALSE)))","v":0},0,null,null,null,null,null,null,null,null,null,null,null,null,null,null,null,null,null,{"$f":"IF(C49=\"\",0,IF(ISERROR(HLOOKUP(C49,'保険料（控除対象）'!$B$3:$DU$115,$B9+3,FALSE))=TRUE,0,HLOOKUP(C49,'保険料（控除対象）'!$B$3:$DU$115,$B9+3,FALSE)))","v":0}]
["家族①通院",null,"",{"$f":"IF(C50=\"\",0,IF(ISERROR(HLOOKUP(C50,'保険料（月額保険料）'!$B$3:$DU$115,$B$10+3,FALSE))=TRUE,0,HLOOKUP(C50,'保険料（月額保険料）'!$B$3:$DU$115,$B$10+3,FALSE)))","v":0},0,null,null,null,null,null,null,null,null,null,null,null,null,null,null,null,null,null,{"$f":"IF(C50=\"\",0,IF(ISERROR(HLOOKUP(C50,'保険料（控除対象）'!$B$3:$DU$115,$B10+3,FALSE))=TRUE,0,HLOOKUP(C50,'保険料（控除対象）'!$B$3:$DU$115,$B10+3,FALSE)))","v":0}]
["家族②通院",null,"",{"$f":"IF(C51=\"\",0,IF(ISERROR(HLOOKUP(C51,'保険料（月額保険料）'!$B$3:$DU$115,$B$11+3,FALSE))=TRUE,0,HLOOKUP(C51,'保険料（月額保険料）'!$B$3:$DU$115,$B$11+3,FALSE)))","v":0},0,null,null,null,null,null,null,null,null,null,null,null,null,null,null,null,null,null,{"$f":"IF(C51=\"\",0,IF(ISERROR(HLOOKUP(C51,'保険料（控除対象）'!$B$3:$DU$115,$B11+3,FALSE))=TRUE,0,HLOOKUP(C51,'保険料（控除対象）'!$B$3:$DU$115,$B11+3,FALSE)))","v":0}]
["家族③通院",null,"",{"$f":"IF(C52=\"\",0,IF(ISERROR(HLOOKUP(C52,'保険料（月額保険料）'!$B$3:$DU$115,$B$12+3,FALSE))=TRUE,0,HLOOKUP(C52,'保険料（月額保険料）'!$B$3:$DU$115,$B$12+3,FALSE)))","v":0},0,null,null,null,null,null,null,null,null,null,null,null,null,null,null,null,null,null,{"$f":"IF(C52=\"\",0,IF(ISERROR(HLOOKUP(C52,'保険料（控除対象）'!$B$3:$DU$115,$B12+3,FALSE))=TRUE,0,HLOOKUP(C52,'保険料（控除対象）'!$B$3:$DU$115,$B12+3,FALSE)))","v":0}]
["家族④通院",null,"",{"$f":"IF(C53=\"\",0,IF(ISERROR(HLOOKUP(C53,'保険料（月額保険料）'!$B$3:$DU$115,$B$13+3,FALSE))=TRUE,0,HLOOKUP(C53,'保険料（月額保険料）'!$B$3:$DU$115,$B$13+3,FALSE)))","v":0},0,null,null,null,null,null,null,null,null,null,null,null,null,null,null,null,null,null,{"$f":"IF(C53=\"\",0,IF(ISERROR(HLOOKUP(C53,'保険料（控除対象）'!$B$3:$DU$115,$B13+3,FALSE))=TRUE,0,HLOOKUP(C53,'保険料（控除対象）'!$B$3:$DU$115,$B13+3,FALSE)))","v":0}]
["家族⑤通院",null,"",{"$f":"IF(C54=\"\",0,IF(ISERROR(HLOOKUP(C54,'保険料（月額保険料）'!$B$3:$DU$115,$B$14+3,FALSE))=TRUE,0,HLOOKUP(C54,'保険料（月額保険料）'!$B$3:$DU$115,$B$14+3,FALSE)))","v":0},0,null,null,null,null,null,null,null,null,null,null,null,null,null,null,null,null,null,{"$f":"IF(C54=\"\",0,IF(ISERROR(HLOOKUP(C54,'保険料（控除対象）'!$B$3:$DU$115,$B14+3,FALSE))=TRUE,0,HLOOKUP(C54,'保険料（控除対象）'!$B$3:$DU$115,$B14+3,FALSE)))","v":0}]
["家族⑥通院",null,"",{"$f":"IF(C55=\"\",0,IF(ISERROR(HLOOKUP(C55,'保険料（月額保険料）'!$B$3:$DU$115,$B$15+3,FALSE))=TRUE,0,HLOOKUP(C55,'保険料（月額保険料）'!$B$3:$DU$115,$B$15+3,FALSE)))","v":0},0,null,null,null,null,null,null,null,null,null,null,null,null,null,null,null,null,null,{"$f":"IF(C55=\"\",0,IF(ISERROR(HLOOKUP(C55,'保険料（控除対象）'!$B$3:$DU$115,$B15+3,FALSE))=TRUE,0,HLOOKUP(C55,'保険料（控除対象）'!$B$3:$DU$115,$B15+3,FALSE)))","v":0}]
["本人療養",null,{"$f":"IF(OR(B56=\"加入しない\",B56=\"\"),\"\",\"療養保障\"&MIDB(B56,8,1))","v":""},{"$f":"IF(C56=\"\",0,IF(ISERROR(HLOOKUP(C56,'保険料（月額保険料）'!$B$3:$DU$115,$B$2+3,FALSE))=TRUE,0,HLOOKUP(C56,'保険料（月額保険料）'!$B$3:$DU$115,$B$2+3,FALSE)))","v":0},{"$f":"IF(B56=\"10万円(1口)\",1,IF(B56=\"20万円(2口)\",2,0))","v":0},null,null,null,null,null,null,null,null,null,null,null,null,null,null,null,null,null,{"$f":"IF(C56=\"\",0,IF(ISERROR(HLOOKUP(C56,'保険料（控除対象）'!$B$3:$DU$115,$B$2+3,FALSE))=TRUE,0,HLOOKUP(C56,'保険料（控除対象）'!$B$3:$DU$115,$B$2+3,FALSE)))","v":0}]
["配偶者療養",null,"",{"$f":"IF(C57=\"\",0,IF(ISERROR(HLOOKUP(C57,'保険料（月額保険料）'!$B$3:$DU$115,$B$9+3,FALSE))=TRUE,0,HLOOKUP(C57,'保険料（月額保険料）'!$B$3:$DU$115,$B$9+3,FALSE)))","v":0},0,null,null,null,null,null,null,null,null,null,null,null,null,null,null,null,null,null,{"$f":"IF(C57=\"\",0,IF(ISERROR(HLOOKUP(C57,'保険料（控除対象）'!$B$3:$DU$115,$B9+3,FALSE))=TRUE,0,HLOOKUP(C57,'保険料（控除対象）'!$B$3:$DU$115,$B9+3,FALSE)))","v":0}]
["家族①療養",null,"",{"$f":"IF(C58=\"\",0,IF(ISERROR(HLOOKUP(C58,'保険料（月額保険料）'!$B$3:$DU$115,$B$10+3,FALSE))=TRUE,0,HLOOKUP(C58,'保険料（月額保険料）'!$B$3:$DU$115,$B$10+3,FALSE)))","v":0},0,null,null,null,null,null,null,null,null,null,null,null,null,null,null,null,null,null,{"$f":"IF(C58=\"\",0,IF(ISERROR(HLOOKUP(C58,'保険料（控除対象）'!$B$3:$DU$115,$B10+3,FALSE))=TRUE,0,HLOOKUP(C58,'保険料（控除対象）'!$B$3:$DU$115,$B10+3,FALSE)))","v":0}]
["家族②療養",null,"",{"$f":"IF(C59=\"\",0,IF(ISERROR(HLOOKUP(C59,'保険料（月額保険料）'!$B$3:$DU$115,$B$11+3,FALSE))=TRUE,0,HLOOKUP(C59,'保険料（月額保険料）'!$B$3:$DU$115,$B$11+3,FALSE)))","v":0},0,null,null,null,null,null,null,null,null,null,null,null,null,null,null,null,null,null,{"$f":"IF(C59=\"\",0,IF(ISERROR(HLOOKUP(C59,'保険料（控除対象）'!$B$3:$DU$115,$B11+3,FALSE))=TRUE,0,HLOOKUP(C59,'保険料（控除対象）'!$B$3:$DU$115,$B11+3,FALSE)))","v":0}]
["家族③療養",null,"",{"$f":"IF(C60=\"\",0,IF(ISERROR(HLOOKUP(C60,'保険料（月額保険料）'!$B$3:$DU$115,$B$12+3,FALSE))=TRUE,0,HLOOKUP(C60,'保険料（月額保険料）'!$B$3:$DU$115,$B$12+3,FALSE)))","v":0},0,null,null,null,null,null,null,null,null,null,null,null,null,null,null,null,null,null,{"$f":"IF(C60=\"\",0,IF(ISERROR(HLOOKUP(C60,'保険料（控除対象）'!$B$3:$DU$115,$B12+3,FALSE))=TRUE,0,HLOOKUP(C60,'保険料（控除対象）'!$B$3:$DU$115,$B12+3,FALSE)))","v":0}]
["家族④療養",null,"",{"$f":"IF(C61=\"\",0,IF(ISERROR(HLOOKUP(C61,'保険料（月額保険料）'!$B$3:$DU$115,$B$13+3,FALSE))=TRUE,0,HLOOKUP(C61,'保険料（月額保険料）'!$B$3:$DU$115,$B$13+3,FALSE)))","v":0},0,null,null,null,null,null,null,null,null,null,null,null,null,null,null,null,null,null,{"$f":"IF(C61=\"\",0,IF(ISERROR(HLOOKUP(C61,'保険料（控除対象）'!$B$3:$DU$115,$B13+3,FALSE))=TRUE,0,HLOOKUP(C61,'保険料（控除対象）'!$B$3:$DU$115,$B13+3,FALSE)))","v":0}]
["家族⑤療養",null,"",{"$f":"IF(C62=\"\",0,IF(ISERROR(HLOOKUP(C62,'保険料（月額保険料）'!$B$3:$DU$115,$B$14+3,FALSE))=TRUE,0,HLOOKUP(C62,'保険料（月額保険料）'!$B$3:$DU$115,$B$14+3,FALSE)))","v":0},0,null,null,null,null,null,null,null,null,null,null,null,null,null,null,null,null,null,{"$f":"IF(C62=\"\",0,IF(ISERROR(HLOOKUP(C62,'保険料（控除対象）'!$B$3:$DU$115,$B14+3,FALSE))=TRUE,0,HLOOKUP(C62,'保険料（控除対象）'!$B$3:$DU$115,$B14+3,FALSE)))","v":0}]
["家族⑥療養",null,"",{"$f":"IF(C63=\"\",0,IF(ISERROR(HLOOKUP(C63,'保険料（月額保険料）'!$B$3:$DU$115,$B$15+3,FALSE))=TRUE,0,HLOOKUP(C63,'保険料（月額保険料）'!$B$3:$DU$115,$B$15+3,FALSE)))","v":0},0,null,null,null,null,null,null,null,null,null,null,null,null,null,null,null,null,null,{"$f":"IF(C63=\"\",0,IF(ISERROR(HLOOKUP(C63,'保険料（控除対象）'!$B$3:$DU$115,$B15+3,FALSE))=TRUE,0,HLOOKUP(C63,'保険料（控除対象）'!$B$3:$DU$115,$B15+3,FALSE)))","v":0}]
["本人ガン",null,null,{"$f":"IF(OR($B64=\"\",$B64=\"加入しない\"),0,IF(ISERROR(HLOOKUP($B64,'保険料（月額保険料）'!$B$3:$DU$115,$B$2+3,FALSE))=TRUE,0,HLOOKUP($B64,'保険料（月額保険料）'!$B$3:$DU$115,$B$2+3,FALSE)))","v":0},{"$f":"IF($B64=\"ｶﾞﾝ50万円\",50, IF($B64=\"ｶﾞﾝ100万円\",100, IF($B64=\"ｶﾞﾝ150万円\",150, IF($B64=\"ｶﾞﾝ200万円\",200, IF($B64=\"ｶﾞﾝ250万円\",250, IF($B64=\"ｶﾞﾝ300万円\",300,IF($B64=\"ｶﾞﾝ350万円\",350,0)))))))","v":0},{"$f":"IF(E64<>0,\"ｶﾞﾝ\"&E64,\"\")","v":""},null,null,null,null,null,null,null,null,null,null,null,null,null,null,null,null,{"$f":"IF(OR(B64=\"\",B64=\"加入しない\"),0,IF(ISERROR(HLOOKUP(B64,'保険料（控除対象）'!$B$3:$DU$115,$B$2+3,FALSE))=TRUE,0,HLOOKUP(B64,'保険料（控除対象）'!$B$3:$DU$115,$B$2+3,FALSE)))","v":0}]
["配偶者ガン",null,null,{"$f":"IF(OR($B65=\"\",$B65=\"加入しない\"),0,IF(ISERROR(HLOOKUP($B65,'保険料（月額保険料）'!$B$3:$DU$115,$B$9+3,FALSE))=TRUE,0,HLOOKUP($B65,'保険料（月額保険料）'!$B$3:$DU$115,$B$9+3,FALSE)))","v":0},0,{"$f":"IF(E65<>0,\"ｶﾞﾝ\"&E65,\"\")","v":""},null,null,null,null,null,null,null,null,null,null,null,null,null,null,null,null,{"$f":"IF(OR(B65=\"\",B65=\"加入しない\"),0,IF(ISERROR(HLOOKUP(B65,'保険料（控除対象）'!$B$3:$DU$115,$B9+3,FALSE))=TRUE,0,HLOOKUP(B65,'保険料（控除対象）'!$B$3:$DU$115,$B9+3,FALSE)))","v":0}]
["家族①ガン",null,null,{"$f":"IF(OR($B66=\"\",$B66=\"加入しない\"),0,IF(ISERROR(HLOOKUP($B66,'保険料（月額保険料）'!$B$3:$DU$115,$B$10+3,FALSE))=TRUE,0,HLOOKUP($B66,'保険料（月額保険料）'!$B$3:$DU$115,$B$10+3,FALSE)))","v":0},0,"",null,null,null,null,null,null,null,null,null,null,null,null,null,null,null,null,{"$f":"IF(OR(B66=\"\",B66=\"加入しない\"),0,IF(ISERROR(HLOOKUP(B66,'保険料（控除対象）'!$B$3:$DU$115,$B10+3,FALSE))=TRUE,0,HLOOKUP(B66,'保険料（控除対象）'!$B$3:$DU$115,$B10+3,FALSE)))","v":0}]
["家族②ガン",null,null,{"$f":"IF(OR($B67=\"\",$B67=\"加入しない\"),0,IF(ISERROR(HLOOKUP($B67,'保険料（月額保険料）'!$B$3:$DU$115,$B$11+3,FALSE))=TRUE,0,HLOOKUP($B67,'保険料（月額保険料）'!$B$3:$DU$115,$B$11+3,FALSE)))","v":0},0,"",null,null,null,null,null,null,null,null,null,null,null,null,null,null,null,null,{"$f":"IF(OR(B67=\"\",B67=\"加入しない\"),0,IF(ISERROR(HLOOKUP(B67,'保険料（控除対象）'!$B$3:$DU$115,$B11+3,FALSE))=TRUE,0,HLOOKUP(B67,'保険料（控除対象）'!$B$3:$DU$115,$B11+3,FALSE)))","v":0}]
["家族③ガン",null,null,{"$f":"IF(OR($B68=\"\",$B68=\"加入しない\"),0,IF(ISERROR(HLOOKUP($B68,'保険料（月額保険料）'!$B$3:$DU$115,$B$12+3,FALSE))=TRUE,0,HLOOKUP($B68,'保険料（月額保険料）'!$B$3:$DU$115,$B$12+3,FALSE)))","v":0},0,"",null,null,null,null,null,null,null,null,null,null,null,null,null,null,null,null,{"$f":"IF(OR(B68=\"\",B68=\"加入しない\"),0,IF(ISERROR(HLOOKUP(B68,'保険料（控除対象）'!$B$3:$DU$115,$B12+3,FALSE))=TRUE,0,HLOOKUP(B68,'保険料（控除対象）'!$B$3:$DU$115,$B12+3,FALSE)))","v":0}]
["家族④ガン",null,null,{"$f":"IF(OR($B69=\"\",$B69=\"加入しない\"),0,IF(ISERROR(HLOOKUP($B69,'保険料（月額保険料）'!$B$3:$DU$115,$B$13+3,FALSE))=TRUE,0,HLOOKUP($B69,'保険料（月額保険料）'!$B$3:$DU$115,$B$13+3,FALSE)))","v":0},0,"",null,null,null,null,null,null,null,null,null,null,null,null,null,null,null,null,{"$f":"IF(OR(B69=\"\",B69=\"加入しない\"),0,IF(ISERROR(HLOOKUP(B69,'保険料（控除対象）'!$B$3:$DU$115,$B13+3,FALSE))=TRUE,0,HLOOKUP(B69,'保険料（控除対象）'!$B$3:$DU$115,$B13+3,FALSE)))","v":0}]
["家族⑤ガン",null,null,{"$f":"IF(OR($B70=\"\",$B70=\"加入しない\"),0,IF(ISERROR(HLOOKUP($B70,'保険料（月額保険料）'!$B$3:$DU$115,$B$14+3,FALSE))=TRUE,0,HLOOKUP($B70,'保険料（月額保険料）'!$B$3:$DU$115,$B$14+3,FALSE)))","v":0},0,"",null,null,null,null,null,null,null,null,null,null,null,null,null,null,null,null,{"$f":"IF(OR(B70=\"\",B70=\"加入しない\"),0,IF(ISERROR(HLOOKUP(B70,'保険料（控除対象）'!$B$3:$DU$115,$B14+3,FALSE))=TRUE,0,HLOOKUP(B70,'保険料（控除対象）'!$B$3:$DU$115,$B14+3,FALSE)))","v":0}]
["家族⑥ガン",null,null,{"$f":"IF(OR($B71=\"\",$B71=\"加入しない\"),0,IF(ISERROR(HLOOKUP($B71,'保険料（月額保険料）'!$B$3:$DU$115,$B$15+3,FALSE))=TRUE,0,HLOOKUP($B71,'保険料（月額保険料）'!$B$3:$DU$115,$B$15+3,FALSE)))","v":0},0,"",null,null,null,null,null,null,null,null,null,null,null,null,null,null,null,null,{"$f":"IF(OR(B71=\"\",B71=\"加入しない\"),0,IF(ISERROR(HLOOKUP(B71,'保険料（控除対象）'!$B$3:$DU$115,$B15+3,FALSE))=TRUE,0,HLOOKUP(B71,'保険料（控除対象）'!$B$3:$DU$115,$B15+3,FALSE)))","v":0}]
["本人介護",null,null,{"$f":"IF($B72=\"加入不可\",0,IF($B72=\"\",0,IF(ISERROR(HLOOKUP($B72,'保険料（月額保険料）'!$B$3:$DU$115,$B2+3,FALSE))=TRUE,0,HLOOKUP($B72,'保険料（月額保険料）'!$B$3:$DU$115,$B2+3,FALSE))))","v":0},{"$f":"IF($B72=\"一時金50万円\",50,IF($B72=\"一時金100万円\",100,IF($B72=\"一時金150万円\",150,IF($B72=\"加入不可\",\"ご加入いただけません\",0))))","v":0},{"$f":"IF(E72=\"ご加入いただけません\",\"\",IF(E72<>0,\"一時金\"&E72,\"\"))","v":""},null,null,null,null,null,null,null,null,null,null,null,null,null,null,null,null,{"$f":"IF(B72=\"加入不可\",0,IF(B72=\"\",0,IF(ISERROR(HLOOKUP(B72,'保険料（控除対象）'!$B$3:$DU$115,$B$2+3,FALSE))=TRUE,0,HLOOKUP(B72,'保険料（控除対象）'!$B$3:$DU$115,$B$2+3,FALSE))))","v":0}]
["配偶者介護",null,null,{"$f":"IF($B73=\"加入不可\",0,IF($B73=\"\",0,IF(ISERROR(HLOOKUP($B73,'保険料（月額保険料）'!$B$3:$DU$115,$B9+3,FALSE))=TRUE,0,HLOOKUP($B73,'保険料（月額保険料）'!$B$3:$DU$115,$B9+3,FALSE))))","v":0},0,{"$f":"IF(E73=\"ご加入いただけません\",\"\",IF(E73<>0,\"一時金\"&E73,\"\"))","v":""},null,null,null,null,null,null,null,null,null,null,null,null,null,null,null,null,{"$f":"IF(B73=\"加入不可\",0,IF(B73=\"\",0,IF(ISERROR(HLOOKUP(B73,'保険料（控除対象）'!$B$3:$DU$115,$B9+3,FALSE))=TRUE,0,HLOOKUP(B73,'保険料（控除対象）'!$B$3:$DU$115,$B9+3,FALSE))))","v":0}]
["家族①介護",null,null,{"$f":"IF($B74=\"加入不可\",0,IF($B74=\"\",0,IF(ISERROR(HLOOKUP($B74,'保険料（月額保険料）'!$B$3:$DU$115,$B10+3,FALSE))=TRUE,0,HLOOKUP($B74,'保険料（月額保険料）'!$B$3:$DU$115,$B10+3,FALSE))))","v":0},0,"",null,null,null,null,null,null,null,null,null,null,null,null,null,null,null,null,{"$f":"IF(B74=\"加入不可\",0,IF(B74=\"\",0,IF(ISERROR(HLOOKUP(B74,'保険料（控除対象）'!$B$3:$DU$115,$B10+3,FALSE))=TRUE,0,HLOOKUP(B74,'保険料（控除対象）'!$B$3:$DU$115,$B10+3,FALSE))))","v":0}]
["家族②介護",null,null,{"$f":"IF($B75=\"加入不可\",0,IF($B75=\"\",0,IF(ISERROR(HLOOKUP($B75,'保険料（月額保険料）'!$B$3:$DU$115,$B11+3,FALSE))=TRUE,0,HLOOKUP($B75,'保険料（月額保険料）'!$B$3:$DU$115,$B11+3,FALSE))))","v":0},0,"",null,null,null,null,null,null,null,null,null,null,null,null,null,null,null,null,{"$f":"IF(B75=\"加入不可\",0,IF(B75=\"\",0,IF(ISERROR(HLOOKUP(B75,'保険料（控除対象）'!$B$3:$DU$115,$B11+3,FALSE))=TRUE,0,HLOOKUP(B75,'保険料（控除対象）'!$B$3:$DU$115,$B11+3,FALSE))))","v":0}]
["家族③介護",null,null,{"$f":"IF($B76=\"加入不可\",0,IF($B76=\"\",0,IF(ISERROR(HLOOKUP($B76,'保険料（月額保険料）'!$B$3:$DU$115,$B12+3,FALSE))=TRUE,0,HLOOKUP($B76,'保険料（月額保険料）'!$B$3:$DU$115,$B12+3,FALSE))))","v":0},0,"",null,null,null,null,null,null,null,null,null,null,null,null,null,null,null,null,{"$f":"IF(B76=\"加入不可\",0,IF(B76=\"\",0,IF(ISERROR(HLOOKUP(B76,'保険料（控除対象）'!$B$3:$DU$115,$B12+3,FALSE))=TRUE,0,HLOOKUP(B76,'保険料（控除対象）'!$B$3:$DU$115,$B12+3,FALSE))))","v":0}]
["家族④介護",null,null,{"$f":"IF($B77=\"加入不可\",0,IF($B77=\"\",0,IF(ISERROR(HLOOKUP($B77,'保険料（月額保険料）'!$B$3:$DU$115,$B13+3,FALSE))=TRUE,0,HLOOKUP($B77,'保険料（月額保険料）'!$B$3:$DU$115,$B13+3,FALSE))))","v":0},0,"",null,null,null,null,null,null,null,null,null,null,null,null,null,null,null,null,{"$f":"IF(B77=\"加入不可\",0,IF(B77=\"\",0,IF(ISERROR(HLOOKUP(B77,'保険料（控除対象）'!$B$3:$DU$115,$B13+3,FALSE))=TRUE,0,HLOOKUP(B77,'保険料（控除対象）'!$B$3:$DU$115,$B13+3,FALSE))))","v":0}]
["家族⑤介護",null,null,{"$f":"IF($B78=\"加入不可\",0,IF($B78=\"\",0,IF(ISERROR(HLOOKUP($B78,'保険料（月額保険料）'!$B$3:$DU$115,$B14+3,FALSE))=TRUE,0,HLOOKUP($B78,'保険料（月額保険料）'!$B$3:$DU$115,$B14+3,FALSE))))","v":0},0,"",null,null,null,null,null,null,null,null,null,null,null,null,null,null,null,null,{"$f":"IF(B78=\"加入不可\",0,IF(B78=\"\",0,IF(ISERROR(HLOOKUP(B78,'保険料（控除対象）'!$B$3:$DU$115,$B14+3,FALSE))=TRUE,0,HLOOKUP(B78,'保険料（控除対象）'!$B$3:$DU$115,$B14+3,FALSE))))","v":0}]
["家族⑥介護",null,null,{"$f":"IF($B79=\"加入不可\",0,IF($B79=\"\",0,IF(ISERROR(HLOOKUP($B79,'保険料（月額保険料）'!$B$3:$DU$115,$B15+3,FALSE))=TRUE,0,HLOOKUP($B79,'保険料（月額保険料）'!$B$3:$DU$115,$B15+3,FALSE))))","v":0},0,"",null,null,null,null,null,null,null,null,null,null,null,null,null,null,null,null,{"$f":"IF(B79=\"加入不可\",0,IF(B79=\"\",0,IF(ISERROR(HLOOKUP(B79,'保険料（控除対象）'!$B$3:$DU$115,$B15+3,FALSE))=TRUE,0,HLOOKUP(B79,'保険料（控除対象）'!$B$3:$DU$115,$B15+3,FALSE))))","v":0}]
["携行品",null,null,{"$f":"IF(B80=\"実費20万円限度(同居親族全員を保障)\",'保険料（月額保険料）'!$AK$4,IF(B80=\"実費20万円限度(ご本人のみ保障)\",'保険料（月額保険料）'!$AL$4,IF(B80=\"実費20万円限度(夫婦を保障)\",'保険料（月額保険料）'!$AM$4,0)))","v":0},{"$f":"IF(B80=\"加入しない\",\"\",B80)","v":0}]
["ﾎｰﾙｲﾝﾜﾝ",null,{"$f":"IF(OR(B81=\"加入しない\",B81=\"\"),\"\",A81&MIDB(B81,5,2)&C82)","v":""},{"$f":"IF(OR(B81=\"実費20万円限度\",B81=\"実費50万円限度\",B81=\"実費80万円限度\"),HLOOKUP(C81,'保険料（月額保険料）'!$EG$3:$EU$115,2,FALSE),0)","v":0},{"$f":"IF(OR(B81=\"\",B81=\"加入しない\"),0,B81)","v":0}]
["ﾎｰﾙｲﾝﾜﾝ",null,{"$f":"IF(B82=\"夫婦型\",\"夫婦型\",\"本人型\")","v":"本人型"},null,{"$f":"IF(C82=\"本人型\",\"ご本人のみ保障\",\"ご夫婦を保障\")","v":"ご本人のみ保障"}]
["長期所得",null,{"$f":"IF(B83=\"5年型5万円\",\"長期所得5年型1\",IF(B83=\"5年型10万円\",\"長期所得5年型2\",IF(B83=\"60才型5万円\",\"長期所得60才型1\",IF(B83=\"60才型10万円\",\"長期所得60才型2\",\"\"))))","v":""},{"$f":"IF(C83=\"\",0,IF(ISERROR(HLOOKUP(C83,'保険料（月額保険料）'!B3:DU115,$B$2+3,FALSE))=TRUE,0,HLOOKUP(C83,'保険料（月額保険料）'!B3:DU115,$B$2+3,FALSE)))","v":0},{"$f":"IF(OR(B83=\"5年型10万円\",B83=\"60才型10万円\"),10,IF(OR(B83=\"5年型5万円\",B83=\"60才型5万円\"),5,0))","v":0},{"$f":"IF(B83=\"10万円(2口)\",2,IF(B83=\"5万円(1口)\",1,0))","v":0},{"$f":"IF(OR(B83=\"5年型5万円\",B83=\"5年型10万円\"),\"２～６年目\",IF(OR(B83=\"60才型5万円\",B83=\"60才型10万円\"),\"２年目～６０才\",\"\"))","v":""},{"$f":"IF(E83<>0,\"月額\"&TEXT(E83*10000,\"#,##0\")&\"円\",\"\")","v":""},null,{"$f":"IF(B83=\"5年型5万円\",\"（月額5万円・5年間）\",IF(B83=\"5年型10万円\",\"（月額10万円・5年間）\",IF(B83=\"60才型5万円\",\"（月額5万円・60歳まで）\",IF(B83=\"60才型10万円\",\"（月額10万円・60歳まで）\",\"\"))))","v":""},null,null,null,null,null,null,null,null,null,null,null,null,{"$f":"IF(C83=\"\",0,IF(ISERROR(HLOOKUP(C83,'保険料（控除対象）'!$B$3:$DU$115,B2+3,FALSE))=TRUE,0,HLOOKUP(C83,'保険料（控除対象）'!$B$3:$DU$115,B2+3,FALSE)))","v":0}]
["検針業務賠償責任",null,null,{"$f":"IF(B84=\"加入する\",'保険料（月額保険料）'!$BI$4,0)","v":0},{"$f":"IF(B84=\"加入する\",1,0)","v":0}]
["ﾊﾝﾃﾞｨﾀｰﾐﾅﾙｾｯﾄ",null,{"$f":"IF(OR(B85=\"加入しない\",B85=\"\"),\"\",A85&MIDB(B85,5,2))","v":""},{"$f":"IF(OR(B85=\"実費30万円限度\",B85=\"実費50万円限度\"),HLOOKUP(C85,'保険料（月額保険料）'!$B$3:$DU$115,2,FALSE),0)","v":0},{"$f":"IF(OR(B85=\"\",B85=\"加入しない\"),0,B85)","v":0}]
["合計保険料",null,null,{"$f":"SUM(D2:D85,D88,D100,D102:D125,D147:D171)","v":0},null,null,null,null,null,null,null,null,null,null,null,null,null,null,null,null,null,null,{"$f":"SUM(W4,W16:W79,W83,W102:W125,W147:W170)","v":0}]
[null,null,null,null,null,null,null,null,null,{"$f":"TRIM(R87)","v":"ﾌｧﾐﾘｰ (家族契約)"},"所得保障以外の上記保障内容はご家族も対象となります（家族の範囲はパンフレットをご参照ください）","","","","","","","ﾌｧﾐﾘｰ (家族契約) ","所得保障以外の上記保障内容はご家族も対象となります（家族の範囲はパンフレットをご参照ください）"]
["賃貸住宅保障",null,{"$f":"IF(B88=\"実費500万円限度\",\"借家人賠償保障500\",IF(B88=\"実費1,000万円限度\",\"借家人賠償保障1000\", IF(B88=\"実費2,000万円限度\",\"借家人賠償保障2000\",\"\")))","v":""},{"$f":"IF(OR(B88=\"実費500万円限度\",B88=\"実費1,000万円限度\",B88=\"実費2,000万円限度\"),HLOOKUP(C88,'保険料（月額保険料）'!$B$3:$DU$115,2,FALSE),0)","v":0},{"$f":"IF(OR(B88=\"加入しない\",B88=\"\"),\"\",\"修理費用は一律100万円限度\")","v":""},null,null,null,null,null,null,null,null,null,null,null,null,null,null,null,null,null,{"$f":"IF(OR(B88=\"実費500万円限度\",B88=\"実費1,000万円限度\",B88=\"実費2,000万円限度\"),HLOOKUP(C88,'保険料（控除対象）'!$B$3:$DU$115,2,FALSE),0)","v":0}]
[]
["本人生年月日",null,{"$f":"IFERROR(H90&\".\"&I90&\".\"&J90&\".\"&K90,\"\")","v":""},"平成",100304,{"$f":"IF(LEN(B90)=0,\"\",MID(B90,1,3)&\".\"&MID(B90,4,2)&\".\"&MID(B90,6,2))","v":""},null,{"$f":"VLOOKUP(B90,元号!$B$2:$D$5,3)","v":{"$error":"#N/A"}},{"$f":"TEXT(SUM(YEAR(B90)-YEAR(VLOOKUP(B90,元号!$B$2:$D$5,1))+1 ),\"00\")","v":{"$error":"#N/A"}},{"$f":"MONTH(B90)","v":1},{"$f":"DAY(B90)","v":0}]
["配偶者生年月日",null,"","平成",120202,"",null,{"$f":"VLOOKUP(B91,元号!$B$2:$D$5,3)","v":{"$error":"#N/A"}},{"$f":"TEXT(SUM(YEAR(B91)-YEAR(VLOOKUP(B91,元号!$B$2:$D$5,1))+1 ),\"00\")","v":{"$error":"#N/A"}},{"$f":"MONTH(B91)","v":1},{"$f":"DAY(B91)","v":0}]
["家族①生年月日",null,"",null,null,"",null,{"$f":"VLOOKUP(B92,元号!$B$2:$D$5,3)","v":{"$error":"#N/A"}},{"$f":"TEXT(SUM(YEAR(B92)-YEAR(VLOOKUP(B92,元号!$B$2:$D$5,1))+1 ),\"00\")","v":{"$error":"#N/A"}},1,0]
["家族②生年月日",null,"",null,null,"",null,{"$f":"VLOOKUP(B93,元号!$B$2:$D$5,3)","v":{"$error":"#N/A"}},{"$f":"TEXT(SUM(YEAR(B93)-YEAR(VLOOKUP(B93,元号!$B$2:$D$5,1))+1 ),\"00\")","v":{"$error":"#N/A"}},1,0]
["家族③生年月日",null,"",null,null,"",null,{"$f":"VLOOKUP(B94,元号!$B$2:$D$5,3)","v":{"$error":"#N/A"}},{"$f":"TEXT(SUM(YEAR(B94)-YEAR(VLOOKUP(B94,元号!$B$2:$D$5,1))+1 ),\"00\")","v":{"$error":"#N/A"}},1,0]
["家族④生年月日",null,"",null,null,"",null,{"$f":"VLOOKUP(B95,元号!$B$2:$D$5,3)","v":{"$error":"#N/A"}},{"$f":"TEXT(SUM(YEAR(B95)-YEAR(VLOOKUP(B95,元号!$B$2:$D$5,1))+1 ),\"00\")","v":{"$error":"#N/A"}},1,0]
["家族⑤生年月日",null,"",null,null,"",null,{"$f":"VLOOKUP(B96,元号!$B$2:$D$5,3)","v":{"$error":"#N/A"}},{"$f":"TEXT(SUM(YEAR(B96)-YEAR(VLOOKUP(B96,元号!$B$2:$D$5,1))+1 ),\"00\")","v":{"$error":"#N/A"}},1,0]
["家族⑥生年月日",null,"",null,null,"",null,{"$f":"VLOOKUP(B97,元号!$B$2:$D$5,3)","v":{"$error":"#N/A"}},{"$f":"TEXT(SUM(YEAR(B97)-YEAR(VLOOKUP(B97,元号!$B$2:$D$5,1))+1 ),\"00\")","v":{"$error":"#N/A"}},1,0]
[]
[]
["借りもの賠償責任保障 ",null,{"$f":"IF(B100=\"加入する\",\"借りもの保障\",\"\")","v":""},{"$f":"IF(B100=\"加入する\",'保険料（月額保険料）'!$BU$4,0)","v":0},null,null,null,null,null,{"$f":"TRIM(R100)","v":"加入する"},"実費30万円限度 ","（同居親族全員を保障）",null,null,null,null,null,"加入する",null,null,null,null,{"$f":"IF(B100=\"加入する\",'保険料（控除対象）'!$B$3:$DU$115,0)","v":0}]
[]
["本人三大疾病",null,null,{"$f":"IF(OR(B102=\"\",B102=\"加入しない\"),0,IF(ISERROR(HLOOKUP(B102,'保険料（月額保険料）'!$B$3:$DU$115,$B$2+3,FALSE))=TRUE,0,HLOOKUP(B102,'保険料（月額保険料）'!$B$3:$DU$115,$B$2+3,FALSE)))","v":0},{"$f":"IF($B102=\"3大疾病50万円\",50, IF($B102=\"3大疾病100万円\",100, IF($B102=\"3大疾病150万円\",150, IF($B102=\"3大疾病200万円\",200, IF($B102=\"3大疾病250万円\",250, IF($B102=\"3大疾病300万円\",300, IF($B102=\"3大疾病350万円\",350,0)))))))","v":0},{"$f":"IF(E102<>0,\"3大疾\"&E102,\"\")","v":""},null,null,null,null,null,null,null,null,null,null,null,null,null,null,null,null,{"$f":"IF(OR(B102=\"\",B102=\"加入しない\"),0,IF(ISERROR(HLOOKUP(B102,'保険料（控除対象）'!$B$3:$DU$115,$B$2+3,FALSE))=TRUE,0,HLOOKUP(B102,'保険料（控除対象）'!$B$3:$DU$115,$B$2+3,FALSE)))","v":0}]
["配偶者三大疾病",null,null,{"$f":"IF(OR(B103=\"\",B103=\"加入しない\"),0,IF(ISERROR(HLOOKUP(B103,'保険料（月額保険料）'!$B$3:$DU$115,$B9+3,FALSE))=TRUE,0,HLOOKUP(B103,'保険料（月額保険料）'!$B$3:$DU$115,$B9+3,FALSE)))","v":0},0,{"$f":"IF(E103<>0,\"3大疾\"&E103,\"\")","v":""},null,null,null,null,null,null,null,null,null,null,null,null,null,null,null,null,{"$f":"IF(OR(B103=\"\",B103=\"加入しない\"),0,IF(ISERROR(HLOOKUP(B103,'保険料（控除対象）'!$B$3:$DU$115,$B9+3,FALSE))=TRUE,0,HLOOKUP(B103,'保険料（控除対象）'!$B$3:$DU$115,$B9+3,FALSE)))","v":0}]
["家族①三大疾病",null,null,{"$f":"IF(OR(B104=\"\",B104=\"加入しない\"),0,IF(ISERROR(HLOOKUP(B104,'保険料（月額保険料）'!$B$3:$DU$115,$B10+3,FALSE))=TRUE,0,HLOOKUP(B104,'保険料（月額保険料）'!$B$3:$DU$115,$B10+3,FALSE)))","v":0},0,"",null,null,null,null,null,null,null,null,null,null,null,null,null,null,null,null,{"$f":"IF(OR(B104=\"\",B104=\"加入しない\"),0,IF(ISERROR(HLOOKUP(B104,'保険料（控除対象）'!$B$3:$DU$115,$B10+3,FALSE))=TRUE,0,HLOOKUP(B104,'保険料（控除対象）'!$B$3:$DU$115,$B10+3,FALSE)))","v":0}]
["家族②三大疾病",null,null,{"$f":"IF(OR(B105=\"\",B105=\"加入しない\"),0,IF(ISERROR(HLOOKUP(B105,'保険料（月額保険料）'!$B$3:$DU$115,$B11+3,FALSE))=TRUE,0,HLOOKUP(B105,'保険料（月額保険料）'!$B$3:$DU$115,$B11+3,FALSE)))","v":0},0,"",null,null,null,null,null,null,null,null,null,null,null,null,null,null,null,null,{"$f":"IF(OR(B105=\"\",B105=\"加入しない\"),0,IF(ISERROR(HLOOKUP(B105,'保険料（控除対象）'!$B$3:$DU$115,$B11+3,FALSE))=TRUE,0,HLOOKUP(B105,'保険料（控除対象）'!$B$3:$DU$115,$B11+3,FALSE)))","v":0}]
["家族③三大疾病",null,null,{"$f":"IF(OR(B106=\"\",B106=\"加入しない\"),0,IF(ISERROR(HLOOKUP(B106,'保険料（月額保険料）'!$B$3:$DU$115,$B12+3,FALSE))=TRUE,0,HLOOKUP(B106,'保険料（月額保険料）'!$B$3:$DU$115,$B12+3,FALSE)))","v":0},0,"",null,null,null,null,null,null,null,null,null,null,null,null,null,null,null,null,{"$f":"IF(OR(B106=\"\",B106=\"加入しない\"),0,IF(ISERROR(HLOOKUP(B106,'保険料（控除対象）'!$B$3:$DU$115,$B12+3,FALSE))=TRUE,0,HLOOKUP(B106,'保険料（控除対象）'!$B$3:$DU$115,$B12+3,FALSE)))","v":0}]
["家族④三大疾病",null,null,{"$f":"IF(OR(B107=\"\",B107=\"加入しない\"),0,IF(ISERROR(HLOOKUP(B107,'保険料（月額保険料）'!$B$3:$DU$115,$B13+3,FALSE))=TRUE,0,HLOOKUP(B107,'保険料（月額保険料）'!$B$3:$DU$115,$B13+3,FALSE)))","v":0},0,"",null,null,null,null,null,null,null,null,null,null,null,null,null,null,null,null,{"$f":"IF(OR(B107=\"\",B107=\"加入しない\"),0,IF(ISERROR(HLOOKUP(B107,'保険料（控除対象）'!$B$3:$DU$115,$B13+3,FALSE))=TRUE,0,HLOOKUP(B107,'保険料（控除対象）'!$B$3:$DU$115,$B13+3,FALSE)))","v":0}]
["家族⑤三大疾病",null,null,{"$f":"IF(OR(B108=\"\",B108=\"加入しない\"),0,IF(ISERROR(HLOOKUP(B108,'保険料（月額保険料）'!$B$3:$DU$115,$B14+3,FALSE))=TRUE,0,HLOOKUP(B108,'保険料（月額保険料）'!$B$3:$DU$115,$B14+3,FALSE)))","v":0},0,"",null,null,null,null,null,null,null,null,null,null,null,null,null,null,null,null,{"$f":"IF(OR(B108=\"\",B108=\"加入しない\"),0,IF(ISERROR(HLOOKUP(B108,'保険料（控除対象）'!$B$3:$DU$115,$B14+3,FALSE))=TRUE,0,HLOOKUP(B108,'保険料（控除対象）'!$B$3:$DU$115,$B14+3,FALSE)))","v":0}]
["家族⑥三大疾病",null,null,{"$f":"IF(OR(B109=\"\",B109=\"加入しない\"),0,IF(ISERROR(HLOOKUP(B109,'保険料（月額保険料）'!$B$3:$DU$115,$B15+3,FALSE))=TRUE,0,HLOOKUP(B109,'保険料（月額保険料）'!$B$3:$DU$115,$B15+3,FALSE)))","v":0},0,"",null,null,null,null,null,null,null,null,null,null,null,null,null,null,null,null,{"$f":"IF(OR(B109=\"\",B109=\"加入しない\"),0,IF(ISERROR(HLOOKUP(B109,'保険料（控除対象）'!$B$3:$DU$115,$B15+3,FALSE))=TRUE,0,HLOOKUP(B109,'保険料（控除対象）'!$B$3:$DU$115,$B15+3,FALSE)))","v":0}]
["本人介護年金",null,null,{"$f":"IF(OR(B110=\"\",B110=\"加入しない\"),0,IF(ISERROR(HLOOKUP(B110,'保険料（月額保険料）'!$B$3:$DU$115,$B$2+3,FALSE))=TRUE,0,HLOOKUP(B110,'保険料（月額保険料）'!$B$3:$DU$115,$B$2+3,FALSE)))","v":0},{"$f":"IF($B110=\"年金30万円\",30,IF($B110=\"年金60万円\",60,IF($B110=\"年金90万円\",90,0)))","v":0},{"$f":"IF(E110<>0,E110&\"万円（要介護3）\",\"\")","v":""},null,null,null,null,null,null,null,null,null,null,null,null,null,null,null,null,{"$f":"IF(OR(B110=\"\",B110=\"加入しない\"),0,IF(ISERROR(HLOOKUP(B110,'保険料（控除対象）'!$B$3:$DU$115,$B$2+3,FALSE))=TRUE,0,HLOOKUP(B110,'保険料（控除対象）'!$B$3:$DU$115,$B$2+3,FALSE)))","v":0}]
["配偶者介護年金",null,null,{"$f":"IF(OR(B111=\"\",B111=\"加入しない\"),0,IF(ISERROR(HLOOKUP(B111,'保険料（月額保険料）'!$B$3:$DU$115,$B9+3,FALSE))=TRUE,0,HLOOKUP(B111,'保険料（月額保険料）'!$B$3:$DU$115,$B9+3,FALSE)))","v":0},0,{"$f":"IF(E111<>0,E111&\"万円（要介護3）\",\"\")","v":""},null,null,null,null,null,null,null,null,null,null,null,null,null,null,null,null,{"$f":"IF(OR(B111=\"\",B111=\"加入しない\"),0,IF(ISERROR(HLOOKUP(B111,'保険料（控除対象）'!$B$3:$DU$115,$B9+3,FALSE))=TRUE,0,HLOOKUP(B111,'保険料（控除対象）'!$B$3:$DU$115,$B9+3,FALSE)))","v":0}]
["家族①介護年金",null,null,{"$f":"IF(OR(B112=\"\",B112=\"加入しない\"),0,IF(ISERROR(HLOOKUP(B112,'保険料（月額保険料）'!$B$3:$DU$115,$B10+3,FALSE))=TRUE,0,HLOOKUP(B112,'保険料（月額保険料）'!$B$3:$DU$115,$B10+3,FALSE)))","v":0},0,"",null,null,null,null,null,null,null,null,null,null,null,null,null,null,null,null,{"$f":"IF(OR(B112=\"\",B112=\"加入しない\"),0,IF(ISERROR(HLOOKUP(B112,'保険料（控除対象）'!$B$3:$DU$115,$B10+3,FALSE))=TRUE,0,HLOOKUP(B112,'保険料（控除対象）'!$B$3:$DU$115,$B10+3,FALSE)))","v":0}]
["家族②介護年金",null,null,{"$f":"IF(OR(B113=\"\",B113=\"加入しない\"),0,IF(ISERROR(HLOOKUP(B113,'保険料（月額保険料）'!$B$3:$DU$115,$B11+3,FALSE))=TRUE,0,HLOOKUP(B113,'保険料（月額保険料）'!$B$3:$DU$115,$B11+3,FALSE)))","v":0},0,"",null,null,null,null,null,null,null,null,null,null,null,null,null,null,null,null,{"$f":"IF(OR(B113=\"\",B113=\"加入しない\"),0,IF(ISERROR(HLOOKUP(B113,'保険料（控除対象）'!$B$3:$DU$115,$B11+3,FALSE))=TRUE,0,HLOOKUP(B113,'保険料（控除対象）'!$B$3:$DU$115,$B11+3,FALSE)))","v":0}]
["家族③介護年金",null,null,{"$f":"IF(OR(B114=\"\",B114=\"加入しない\"),0,IF(ISERROR(HLOOKUP(B114,'保険料（月額保険料）'!$B$3:$DU$115,$B12+3,FALSE))=TRUE,0,HLOOKUP(B114,'保険料（月額保険料）'!$B$3:$DU$115,$B12+3,FALSE)))","v":0},0,"",null,null,null,null,null,null,null,null,null,null,null,null,null,null,null,null,{"$f":"IF(OR(B114=\"\",B114=\"加入しない\"),0,IF(ISERROR(HLOOKUP(B114,'保険料（控除対象）'!$B$3:$DU$115,$B12+3,FALSE))=TRUE,0,HLOOKUP(B114,'保険料（控除対象）'!$B$3:$DU$115,$B12+3,FALSE)))","v":0}]
["家族④介護年金",null,null,{"$f":"IF(OR(B115=\"\",B115=\"加入しない\"),0,IF(ISERROR(HLOOKUP(B115,'保険料（月額保険料）'!$B$3:$DU$115,$B13+3,FALSE))=TRUE,0,HLOOKUP(B115,'保険料（月額保険料）'!$B$3:$DU$115,$B13+3,FALSE)))","v":0},0,"",null,null,null,null,null,null,null,null,null,null,null,null,null,null,null,null,{"$f":"IF(OR(B115=\"\",B115=\"加入しない\"),0,IF(ISERROR(HLOOKUP(B115,'保険料（控除対象）'!$B$3:$DU$115,$B13+3,FALSE))=TRUE,0,HLOOKUP(B115,'保険料（控除対象）'!$B$3:$DU$115,$B13+3,FALSE)))","v":0}]
["家族⑤介護年金",null,null,{"$f":"IF(OR(B116=\"\",B116=\"加入しない\"),0,IF(ISERROR(HLOOKUP(B116,'保険料（月額保険料）'!$B$3:$DU$115,$B14+3,FALSE))=TRUE,0,HLOOKUP(B116,'保険料（月額保険料）'!$B$3:$DU$115,$B14+3,FALSE)))","v":0},0,"",null,null,null,null,null,null,null,null,null,null,null,null,null,null,null,null,{"$f":"IF(OR(B116=\"\",B116=\"加入しない\"),0,IF(ISERROR(HLOOKUP(B116,'保険料（控除対象）'!$B$3:$DU$115,$B14+3,FALSE))=TRUE,0,HLOOKUP(B116,'保険料（控除対象）'!$B$3:$DU$115,$B14+3,FALSE)))","v":0}]
["家族⑥介護年金",null,null,{"$f":"IF(OR(B117=\"\",B117=\"加入しない\"),0,IF(ISERROR(HLOOKUP(B117,'保険料（月額保険料）'!$B$3:$DU$115,$B15+3,FALSE))=TRUE,0,HLOOKUP(B117,'保険料（月額保険料）'!$B$3:$DU$115,$B15+3,FALSE)))","v":0},0,"",null,null,null,null,null,null,null,null,null,null,null,null,null,null,null,null,{"$f":"IF(OR(B117=\"\",B117=\"加入しない\"),0,IF(ISERROR(HLOOKUP(B117,'保険料（控除対象）'!$B$3:$DU$115,$B15+3,FALSE))=TRUE,0,HLOOKUP(B117,'保険料（控除対象）'!$B$3:$DU$115,$B15+3,FALSE)))","v":0}]
["本人抗ガン剤治療保障",null,{"$f":"IF(B118=\"月額5万円\",\"抗ガン剤治療保障5万円\",IF(B118=\"月額10万円\",\"抗ガン剤治療保障10万円\",\"\"))","v":""},{"$f":"IF(C118=\"加入不可\",0,IF(C118=\"\",0,IF(ISERROR(HLOOKUP(C118,'保険料（月額保険料）'!$B$3:$DU$115,$B$2+3,FALSE))=TRUE,0,HLOOKUP(C118,'保険料（月額保険料）'!$B$3:$DU$115,$B$2+3,FALSE))))","v":0},{"$f":"IF($B118=\"月額5万円\",5,IF($B118=\"月額10万円\",10,IF($B118=\"加入不可\",\"ご加入いただけません\",0)))","v":0},{"$f":"IF(E118=\"ご加入いただけません\",\"\",IF(E118<>0,E118 & \"万円\",\"\"))","v":""},null,null,null,null,null,null,null,null,null,null,null,null,null,null,null,null,{"$f":"IF(C118=\"加入不可\",0,IF(C118=\"\",0,IF(ISERROR(HLOOKUP(C118,'保険料（控除対象）'!$B$3:$DU$115,$B$2+3,FALSE))=TRUE,0,HLOOKUP(C118,'保険料（控除対象）'!$B$3:$DU$115,$B$2+3,FALSE))))","v":0}]
["配偶者抗ガン剤治療保障",null,{"$f":"IF(B119=\"月額5万円\",\"抗ガン剤治療保障5万円\",IF(B119=\"月額10万円\",\"抗ガン剤治療保障10万円\",\"\"))","v":""},{"$f":"IF(C119=\"加入不可\",0,IF(C119=\"\",0,IF(ISERROR(HLOOKUP(C119,'保険料（月額保険料）'!$B$3:$DU$115,$B9+3,FALSE))=TRUE,0,HLOOKUP(C119,'保険料（月額保険料）'!$B$3:$DU$115,$B9+3,FALSE))))","v":0},0,{"$f":"IF(E119=\"ご加入いただけません\",\"\",IF(E119<>0,E119 & \"万円\",\"\"))","v":""},null,null,null,null,null,null,null,null,null,null,null,null,null,null,null,null,{"$f":"IF(C119=\"加入不可\",0,IF(C119=\"\",0,IF(ISERROR(HLOOKUP(C119,'保険料（控除対象）'!$B$3:$DU$115,$B9+3,FALSE))=TRUE,0,HLOOKUP(C119,'保険料（控除対象）'!$B$3:$DU$115,$B9+3,FALSE))))","v":0}]
["家族①抗ガン剤治療保障",null,"",{"$f":"IF(C120=\"加入不可\",0,IF(C120=\"\",0,IF(ISERROR(HLOOKUP(C120,'保険料（月額保険料）'!$B$3:$DU$115,$B10+3,FALSE))=TRUE,0,HLOOKUP(C120,'保険料（月額保険料）'!$B$3:$DU$115,$B10+3,FALSE))))","v":0},0,"",null,null,null,null,null,null,null,null,null,null,null,null,null,null,null,null,{"$f":"IF(C120=\"加入不可\",0,IF(C120=\"\",0,IF(ISERROR(HLOOKUP(C120,'保険料（控除対象）'!$B$3:$DU$115,$B10+3,FALSE))=TRUE,0,HLOOKUP(C120,'保険料（控除対象）'!$B$3:$DU$115,$B10+3,FALSE))))","v":0}]
["家族②抗ガン剤治療保障",null,"",{"$f":"IF(C121=\"加入不可\",0,IF(C121=\"\",0,IF(ISERROR(HLOOKUP(C121,'保険料（月額保険料）'!$B$3:$DU$115,$B11+3,FALSE))=TRUE,0,HLOOKUP(C121,'保険料（月額保険料）'!$B$3:$DU$115,$B11+3,FALSE))))","v":0},0,"",null,null,null,null,null,null,null,null,null,null,null,null,null,null,null,null,{"$f":"IF(C121=\"加入不可\",0,IF(C121=\"\",0,IF(ISERROR(HLOOKUP(C121,'保険料（控除対象）'!$B$3:$DU$115,$B11+3,FALSE))=TRUE,0,HLOOKUP(C121,'保険料（控除対象）'!$B$3:$DU$115,$B11+3,FALSE))))","v":0}]
["家族③抗ガン剤治療保障",null,"",{"$f":"IF(C122=\"加入不可\",0,IF(C122=\"\",0,IF(ISERROR(HLOOKUP(C122,'保険料（月額保険料）'!$B$3:$DU$115,$B12+3,FALSE))=TRUE,0,HLOOKUP(C122,'保険料（月額保険料）'!$B$3:$DU$115,$B12+3,FALSE))))","v":0},0,"",null,null,null,null,null,null,null,null,null,null,null,null,null,null,null,null,{"$f":"IF(C122=\"加入不可\",0,IF(C122=\"\",0,IF(ISERROR(HLOOKUP(C122,'保険料（控除対象）'!$B$3:$DU$115,$B12+3,FALSE))=TRUE,0,HLOOKUP(C122,'保険料（控除対象）'!$B$3:$DU$115,$B12+3,FALSE))))","v":0}]
["家族④抗ガン剤治療保障",null,"",{"$f":"IF(C123=\"加入不可\",0,IF(C123=\"\",0,IF(ISERROR(HLOOKUP(C123,'保険料（月額保険料）'!$B$3:$DU$115,$B13+3,FALSE))=TRUE,0,HLOOKUP(C123,'保険料（月額保険料）'!$B$3:$DU$115,$B13+3,FALSE))))","v":0},0,"",null,null,null,null,null,null,null,null,null,null,null,null,null,null,null,null,{"$f":"IF(C123=\"加入不可\",0,IF(C123=\"\",0,IF(ISERROR(HLOOKUP(C123,'保険料（控除対象）'!$B$3:$DU$115,$B13+3,FALSE))=TRUE,0,HLOOKUP(C123,'保険料（控除対象）'!$B$3:$DU$115,$B13+3,FALSE))))","v":0}]
["家族⑤抗ガン剤治療保障",null,"",{"$f":"IF(C124=\"加入不可\",0,IF(C124=\"\",0,IF(ISERROR(HLOOKUP(C124,'保険料（月額保険料）'!$B$3:$DU$115,$B14+3,FALSE))=TRUE,0,HLOOKUP(C124,'保険料（月額保険料）'!$B$3:$DU$115,$B14+3,FALSE))))","v":0},0,"",null,null,null,null,null,null,null,null,null,null,null,null,null,null,null,null,{"$f":"IF(C124=\"加入不可\",0,IF(C124=\"\",0,IF(ISERROR(HLOOKUP(C124,'保険料（控除対象）'!$B$3:$DU$115,$B14+3,FALSE))=TRUE,0,HLOOKUP(C124,'保険料（控除対象）'!$B$3:$DU$115,$B14+3,FALSE))))","v":0}]
["家族⑥抗ガン剤治療保障",null,"",{"$f":"IF(C125=\"加入不可\",0,IF(C125=\"\",0,IF(ISERROR(HLOOKUP(C125,'保険料（月額保険料）'!$B$3:$DU$115,$B15+3,FALSE))=TRUE,0,HLOOKUP(C125,'保険料（月額保険料）'!$B$3:$DU$115,$B15+3,FALSE))))","v":0},0,"",null,null,null,null,null,null,null,null,null,null,null,null,null,null,null,null,{"$f":"IF(C125=\"加入不可\",0,IF(C125=\"\",0,IF(ISERROR(HLOOKUP(C125,'保険料（控除対象）'!$B$3:$DU$115,$B15+3,FALSE))=TRUE,0,HLOOKUP(C125,'保険料（控除対象）'!$B$3:$DU$115,$B15+3,FALSE))))","v":0}]
[]
["組合員名漢字"]
["本人名前"]
["配偶者名前"]
["家族①名前"]
["家族②名前"]
["家族③名前"]
["家族④名前"]
["家族⑤名前"]
["家族⑥名前"]
[]
["組合員生年月日"]
[]
["組合員番号"]
[]
["親族①続柄"]
["親族②続柄"]
["親族③続柄"]
["親族④続柄"]
["親族⑤続柄"]
["親族⑥続柄"]
["本人入院一時金保障",null,{"$f":"IF(B147=\"4万円\",\"入院一時金4万\",IF(B147=\"2万円\",\"入院一時金2万\",\"\"))","v":""},{"$f":"IF(C147=\"加入不可\",0,IF(C147=\"\",0,IF(ISERROR(HLOOKUP(C147,'保険料（月額保険料）'!$B$3:$DU$115,$B$2+3,FALSE))=TRUE,0,HLOOKUP(C147,'保険料（月額保険料）'!$B$3:$DU$115,$B$2+3,FALSE))))","v":0},{"$f":"IF(B147=\"4万円\",\"4万円\",IF(B147=\"2万円\",\"2万円\",0))","v":0},null,null,null,null,null,null,null,null,null,null,null,null,null,null,null,null,null,{"$f":"IF(C147=\"加入不可\",0,IF(C147=\"\",0,IF(ISERROR(HLOOKUP(C147,'保険料（控除対象）'!$B$3:$DU$115,$B$2+3,FALSE))=TRUE,0,HLOOKUP(C147,'保険料（控除対象）'!$B$3:$DU$115,$B$2+3,FALSE))))","v":0}]
["配偶者入院一時金保障",null,{"$f":"IF(B148=\"4万円\",\"入院一時金4万\",IF(B148=\"2万円\",\"入院一時金2万\",\"\"))","v":""},{"$f":"IF(C148=\"加入不可\",0,IF(C148=\"\",0,IF(ISERROR(HLOOKUP(C148,'保険料（月額保険料）'!$B$3:$DU$115,$B$9+3,FALSE))=TRUE,0,HLOOKUP(C148,'保険料（月額保険料）'!$B$3:$DU$115,$B$9+3,FALSE))))","v":0},{"$f":"IF(B148=\"4万円\",\"4万円\",IF(B148=\"2万円\",\"2万円\",0))","v":0},null,null,null,null,null,null,null,null,null,null,null,null,null,null,null,null,null,{"$f":"IF(C148=\"加入不可\",0,IF(C148=\"\",0,IF(ISERROR(HLOOKUP(C148,'保険料（控除対象）'!$B$3:$DU$115,$B$9+3,FALSE))=TRUE,0,HLOOKUP(C148,'保険料（控除対象）'!$B$3:$DU$115,$B$9+3,FALSE))))","v":0}]
["家族①入院一時金保障",null,"",{"$f":"IF(C149=\"加入不可\",0,IF(C149=\"\",0,IF(ISERROR(HLOOKUP(C149,'保険料（月額保険料）'!$B$3:$DU$115,$B$10+3,FALSE))=TRUE,0,HLOOKUP(C149,'保険料（月額保険料）'!$B$3:$DU$115,$B$10+3,FALSE))))","v":0},0,null,null,null,null,null,null,null,null,null,null,null,null,null,null,null,null,null,{"$f":"IF(C149=\"加入不可\",0,IF(C149=\"\",0,IF(ISERROR(HLOOKUP(C149,'保険料（控除対象）'!$B$3:$DU$115,$B$10+3,FALSE))=TRUE,0,HLOOKUP(C149,'保険料（控除対象）'!$B$3:$DU$115,$B$10+3,FALSE))))","v":0}]
["家族②入院一時金保障",null,"",{"$f":"IF(C150=\"加入不可\",0,IF(C150=\"\",0,IF(ISERROR(HLOOKUP(C150,'保険料（月額保険料）'!$B$3:$DU$115,$B$11+3,FALSE))=TRUE,0,HLOOKUP(C150,'保険料（月額保険料）'!$B$3:$DU$115,$B$11+3,FALSE))))","v":0},0,null,null,null,null,null,null,null,null,null,null,null,null,null,null,null,null,null,{"$f":"IF(C150=\"加入不可\",0,IF(C150=\"\",0,IF(ISERROR(HLOOKUP(C150,'保険料（控除対象）'!$B$3:$DU$115,$B$11+3,FALSE))=TRUE,0,HLOOKUP(C150,'保険料（控除対象）'!$B$3:$DU$115,$B$11+3,FALSE))))","v":0}]
["家族③入院一時金保障",null,"",{"$f":"IF(C151=\"加入不可\",0,IF(C151=\"\",0,IF(ISERROR(HLOOKUP(C151,'保険料（月額保険料）'!$B$3:$DU$115,$B$12+3,FALSE))=TRUE,0,HLOOKUP(C151,'保険料（月額保険料）'!$B$3:$DU$115,$B$12+3,FALSE))))","v":0},0,null,null,null,null,null,null,null,null,null,null,null,null,null,null,null,null,null,{"$f":"IF(C151=\"加入不可\",0,IF(C151=\"\",0,IF(ISERROR(HLOOKUP(C151,'保険料（控除対象）'!$B$3:$DU$115,$B$12+3,FALSE))=TRUE,0,HLOOKUP(C151,'保険料（控除対象）'!$B$3:$DU$115,$B$12+3,FALSE))))","v":0}]
["家族④入院一時金保障",null,"",{"$f":"IF(C152=\"加入不可\",0,IF(C152=\"\",0,IF(ISERROR(HLOOKUP(C152,'保険料（月額保険料）'!$B$3:$DU$115,$B$13+3,FALSE))=TRUE,0,HLOOKUP(C152,'保険料（月額保険料）'!$B$3:$DU$115,$B$13+3,FALSE))))","v":0},0,null,null,null,null,null,null,null,null,null,null,null,null,null,null,null,null,null,{"$f":"IF(C152=\"加入不可\",0,IF(C152=\"\",0,IF(ISERROR(HLOOKUP(C152,'保険料（控除対象）'!$B$3:$DU$115,$B$13+3,FALSE))=TRUE,0,HLOOKUP(C152,'保険料（控除対象）'!$B$3:$DU$115,$B$13+3,FALSE))))","v":0}]
["家族⑤入院一時金保障",null,"",{"$f":"IF(C153=\"加入不可\",0,IF(C153=\"\",0,IF(ISERROR(HLOOKUP(C153,'保険料（月額保険料）'!$B$3:$DU$115,$B$14+3,FALSE))=TRUE,0,HLOOKUP(C153,'保険料（月額保険料）'!$B$3:$DU$115,$B$14+3,FALSE))))","v":0},0,null,null,null,null,null,null,null,null,null,null,null,null,null,null,null,null,null,{"$f":"IF(C153=\"加入不可\",0,IF(C153=\"\",0,IF(ISERROR(HLOOKUP(C153,'保険料（控除対象）'!$B$3:$DU$115,$B$14+3,FALSE))=TRUE,0,HLOOKUP(C153,'保険料（控除対象）'!$B$3:$DU$115,$B$14+3,FALSE))))","v":0}]
["家族⑥入院一時金保障",null,"",{"$f":"IF(C154=\"加入不可\",0,IF(C154=\"\",0,IF(ISERROR(HLOOKUP(C154,'保険料（月額保険料）'!$B$3:$DU$115,$B$15+3,FALSE))=TRUE,0,HLOOKUP(C154,'保険料（月額保険料）'!$B$3:$DU$115,$B$15+3,FALSE))))","v":0},0,null,null,null,null,null,null,null,null,null,null,null,null,null,null,null,null,null,{"$f":"IF(C154=\"加入不可\",0,IF(C154=\"\",0,IF(ISERROR(HLOOKUP(C154,'保険料（控除対象）'!$B$3:$DU$115,$B$15+3,FALSE))=TRUE,0,HLOOKUP(C154,'保険料（控除対象）'!$B$3:$DU$115,$B$15+3,FALSE))))","v":0}]
["本人介護一時金保障（要介護２・３コース）",null,{"$f":"IF(B155=\"100万円(要介護2)\",\"（要介護２）介護一時金100万円\",IF(B155=\"50万円(要介護2)\",\"（要介護２）介護一時金50万円\",IF(B155=\"100万円(要介護3)\",\"（要介護３）介護一時金100万円\",IF(B155=\"50万円(要介護3)\",\"（要介護３）介護一時金50万円\",\"\"))))","v":""},{"$f":"IF(C155=\"加入不可\",0,IF(C155=\"\",0,IF(ISERROR(HLOOKUP(C155,'保険料（月額保険料）'!$B$3:$EF$115,$B$2+3,FALSE))=TRUE,0,HLOOKUP(C155,'保険料（月額保険料）'!$B$3:$EF$115,$B$2+3,FALSE))))","v":0},{"$f":"IF($B155=\"50万円(要介護2)\",50,IF($B155=\"100万円(要介護2)\",100,IF($B155=\"50万円(要介護3)\",50,IF($B155=\"100万円(要介護3)\",100,0))))","v":0},{"$f":"IF(B155=\"100万円(要介護2)\",\"要介護２\",IF(B155=\"50万円(要介護2)\",\"要介護２\",IF(B155=\"100万円(要介護3)\",\"要介護３\",IF(B155=\"50万円(要介護3)\",\"要介護３\",\"\"))))","v":""},null,null,null,null,null,null,null,null,null,null,null,null,null,null,null,null,{"$f":"IF(C155=\"加入不可\",0,IF(C155=\"\",0,IF(ISERROR(HLOOKUP(C155,'保険料（控除対象）'!$B$3:$EF$115,$B$2+3,FALSE))=TRUE,0,HLOOKUP(C155,'保険料（控除対象）'!$B$3:$EF$115,$B$2+3,FALSE))))","v":0}]
["配偶者介護一時金保障（要介護２・３コース）",null,{"$f":"IF(B156=\"100万円(要介護2)\",\"（要介護２）介護一時金100万円\",IF(B156=\"50万円(要介護2)\",\"（要介護２）介護一時金50万円\",IF(B156=\"100万円(要介護3)\",\"（要介護３）介護一時金100万円\",IF(B156=\"50万円(要介護3)\",\"（要介護３）介護一時金50万円\",\"\"))))","v":""},{"$f":"IF(C156=\"加入不可\",0,IF(C156=\"\",0,IF(ISERROR(HLOOKUP(C156,'保険料（月額保険料）'!$B$3:$EF$115,$B$9+3,FALSE))=TRUE,0,HLOOKUP(C156,'保険料（月額保険料）'!$B$3:$EF$115,$B$9+3,FALSE))))","v":0},{"$f":"IF($B156=\"50万円(要介護2)\",50,IF($B156=\"100万円(要介護2)\",100,IF($B156=\"50万円(要介護3)\",50,IF($B156=\"100万円(要介護3)\",100,0))))","v":0},{"$f":"IF(B156=\"100万円(要介護2)\",\"要介護２\",IF(B156=\"50万円(要介護2)\",\"要介護２\",IF(B156=\"100万円(要介護3)\",\"要介護３\",IF(B156=\"50万円(要介護3)\",\"要介護３\",\"\"))))","v":""},null,null,null,null,null,null,null,null,null,null,null,null,null,null,null,null,{"$f":"IF(C156=\"加入不可\",0,IF(C156=\"\",0,IF(ISERROR(HLOOKUP(C156,'保険料（控除対象）'!$B$3:$EF$115,$B$9+3,FALSE))=TRUE,0,HLOOKUP(C156,'保険料（控除対象）'!$B$3:$EF$115,$B$9+3,FALSE))))","v":0}]
["家族①介護一時金保障（要介護２・３コース）",null,"",{"$f":"IF(C157=\"加入不可\",0,IF(C157=\"\",0,IF(ISERROR(HLOOKUP(C157,'保険料（月額保険料）'!$B$3:$EF$115,$B$10+3,FALSE))=TRUE,0,HLOOKUP(C157,'保険料（月額保険料）'!$B$3:$EF$115,$B$10+3,FALSE))))","v":0},0,"",null,null,null,null,null,null,null,null,null,null,null,null,null,null,null,null,{"$f":"IF(C157=\"加入不可\",0,IF(C157=\"\",0,IF(ISERROR(HLOOKUP(C157,'保険料（控除対象）'!$B$3:$EF$115,$B$10+3,FALSE))=TRUE,0,HLOOKUP(C157,'保険料（控除対象）'!$B$3:$EF$115,$B$10+3,FALSE))))","v":0}]
["家族②介護一時金保障（要介護２・３コース）",null,"",{"$f":"IF(C158=\"加入不可\",0,IF(C158=\"\",0,IF(ISERROR(HLOOKUP(C158,'保険料（月額保険料）'!$B$3:$EF$115,$B$11+3,FALSE))=TRUE,0,HLOOKUP(C158,'保険料（月額保険料）'!$B$3:$EF$115,$B$11+3,FALSE))))","v":0},0,"",null,null,null,null,null,null,null,null,null,null,null,null,null,null,null,null,{"$f":"IF(C158=\"加入不可\",0,IF(C158=\"\",0,IF(ISERROR(HLOOKUP(C158,'保険料（控除対象）'!$B$3:$EF$115,$B$11+3,FALSE))=TRUE,0,HLOOKUP(C158,'保険料（控除対象）'!$B$3:$EF$115,$B$11+3,FALSE))))","v":0}]
["家族③介護一時金保障（要介護２・３コース）",null,"",{"$f":"IF(C159=\"加入不可\",0,IF(C159=\"\",0,IF(ISERROR(HLOOKUP(C159,'保険料（月額保険料）'!$B$3:$EF$115,$B$12+3,FALSE))=TRUE,0,HLOOKUP(C159,'保険料（月額保険料）'!$B$3:$EF$115,$B$12+3,FALSE))))","v":0},0,"",null,null,null,null,null,null,null,null,null,null,null,null,null,null,null,null,{"$f":"IF(C159=\"加入不可\",0,IF(C159=\"\",0,IF(ISERROR(HLOOKUP(C159,'保険料（控除対象）'!$B$3:$EF$115,$B$12+3,FALSE))=TRUE,0,HLOOKUP(C159,'保険料（控除対象）'!$B$3:$EF$115,$B$12+3,FALSE))))","v":0}]
["家族④介護一時金保障（要介護２・３コース）",null,"",{"$f":"IF(C160=\"加入不可\",0,IF(C160=\"\",0,IF(ISERROR(HLOOKUP(C160,'保険料（月額保険料）'!$B$3:$EF$115,$B$13+3,FALSE))=TRUE,0,HLOOKUP(C160,'保険料（月額保険料）'!$B$3:$EF$115,$B$13+3,FALSE))))","v":0},0,"",null,null,null,null,null,null,null,null,null,null,null,null,null,null,null,null,{"$f":"IF(C160=\"加入不可\",0,IF(C160=\"\",0,IF(ISERROR(HLOOKUP(C160,'保険料（控除対象）'!$B$3:$EF$115,$B$13+3,FALSE))=TRUE,0,HLOOKUP(C160,'保険料（控除対象）'!$B$3:$EF$115,$B$13+3,FALSE))))","v":0}]
["家族⑤介護一時金保障（要介護２・３コース）",null,"",{"$f":"IF(C161=\"加入不可\",0,IF(C161=\"\",0,IF(ISERROR(HLOOKUP(C161,'保険料（月額保険料）'!$B$3:$EF$115,$B$14+3,FALSE))=TRUE,0,HLOOKUP(C161,'保険料（月額保険料）'!$B$3:$EF$115,$B$14+3,FALSE))))","v":0},0,"",null,null,null,null,null,null,null,null,null,null,null,null,null,null,null,null,{"$f":"IF(C161=\"加入不可\",0,IF(C161=\"\",0,IF(ISERROR(HLOOKUP(C161,'保険料（控除対象）'!$B$3:$EF$115,$B$14+3,FALSE))=TRUE,0,HLOOKUP(C161,'保険料（控除対象）'!$B$3:$EF$115,$B$14+3,FALSE))))","v":0}]
["家族⑥介護一時金保障（要介護２・３コース）",null,"",{"$f":"IF(C162=\"加入不可\",0,IF(C162=\"\",0,IF(ISERROR(HLOOKUP(C162,'保険料（月額保険料）'!$B$3:$EF$115,$B$15+3,FALSE))=TRUE,0,HLOOKUP(C162,'保険料（月額保険料）'!$B$3:$EF$115,$B$15+3,FALSE))))","v":0},0,"",null,null,null,null,null,null,null,null,null,null,null,null,null,null,null,null,{"$f":"IF(C162=\"加入不可\",0,IF(C162=\"\",0,IF(ISERROR(HLOOKUP(C162,'保険料（控除対象）'!$B$3:$EF$115,$B$15+3,FALSE))=TRUE,0,HLOOKUP(C162,'保険料（控除対象）'!$B$3:$EF$115,$B$15+3,FALSE))))","v":0}]
["本人成人病保障",null,null,{"$f":"IF(C163=\"加入不可\",0,IF(B163=\"\",0,IF(ISERROR(HLOOKUP(B163,'保険料（月額保険料）'!$B$3:$EF$115,$B$2+3,FALSE))=TRUE,0,HLOOKUP(B163,'保険料（月額保険料）'!$B$3:$EF$115,$B$2+3,FALSE))))","v":0},{"$f":"IF($B163=\"成人病50万円\",50, IF($B163=\"成人病100万円\",100, IF($B163=\"成人病150万円\",150, IF($B163=\"成人病200万円\",200, IF($B163=\"成人病250万円\",250, IF($B163=\"成人病300万円\",300, IF($B163=\"成人病350万円\",350,0)))))))","v":0},{"$f":"IF(E163<>0,\"成人病\"&E163,\"\")","v":""},null,null,null,null,null,null,null,null,null,null,null,null,null,null,null,null,{"$f":"IF(B163=\"加入不可\",0,IF(B163=\"\",0,IF(ISERROR(HLOOKUP(B163,'保険料（控除対象）'!$B$3:$EF$115,$B$2+3,FALSE))=TRUE,0,HLOOKUP(B163,'保険料（控除対象）'!$B$3:$EF$115,$B$2+3,FALSE))))","v":0}]
["配偶者成人病保障",null,null,{"$f":"IF(C164=\"加入不可\",0,IF(B164=\"\",0,IF(ISERROR(HLOOKUP(B164,'保険料（月額保険料）'!$B$3:$EF$115,$B$9+3,FALSE))=TRUE,0,HLOOKUP(B164,'保険料（月額保険料）'!$B$3:$EF$115,$B$9+3,FALSE))))","v":0},{"$f":"IF($B164=\"成人病50万円\",50, IF($B164=\"成人病100万円\",100, IF($B164=\"成人病150万円\",150, IF($B164=\"成人病200万円\",200, IF($B164=\"成人病250万円\",250, IF($B164=\"成人病300万円\",300, IF($B164=\"成人病350万円\",350,0)))))))","v":0},"",null,null,null,null,null,null,null,null,null,null,null,null,null,null,null,null,{"$f":"IF(B164=\"加入不可\",0,IF(B164=\"\",0,IF(ISERROR(HLOOKUP(B164,'保険料（控除対象）'!$B$3:$EF$115,$B$9+3,FALSE))=TRUE,0,HLOOKUP(B164,'保険料（控除対象）'!$B$3:$EF$115,$B$9+3,FALSE))))","v":0}]
["家族①成人病保障",null,null,{"$f":"IF(C165=\"加入不可\",0,IF(B165=\"\",0,IF(ISERROR(HLOOKUP(B165,'保険料（月額保険料）'!$B$3:$EF$115,$B$10+3,FALSE))=TRUE,0,HLOOKUP(B165,'保険料（月額保険料）'!$B$3:$EF$115,$B$10+3,FALSE))))","v":0},0,"",null,null,null,null,null,null,null,null,null,null,null,null,null,null,null,null,{"$f":"IF(B165=\"加入不可\",0,IF(B165=\"\",0,IF(ISERROR(HLOOKUP(B165,'保険料（控除対象）'!$B$3:$EF$115,$B$10+3,FALSE))=TRUE,0,HLOOKUP(B165,'保険料（控除対象）'!$B$3:$EF$115,$B$10+3,FALSE))))","v":0}]
["家族②成人病保障",null,null,{"$f":"IF(C166=\"加入不可\",0,IF(B166=\"\",0,IF(ISERROR(HLOOKUP(B166,'保険料（月額保険料）'!$B$3:$EF$115,$B$11+3,FALSE))=TRUE,0,HLOOKUP(B166,'保険料（月額保険料）'!$B$3:$EF$115,$B$11+3,FALSE))))","v":0},0,"",null,null,null,null,null,null,null,null,null,null,null,null,null,null,null,null,{"$f":"IF(B166=\"加入不可\",0,IF(B166=\"\",0,IF(ISERROR(HLOOKUP(B166,'保険料（控除対象）'!$B$3:$EF$115,$B$11+3,FALSE))=TRUE,0,HLOOKUP(B166,'保険料（控除対象）'!$B$3:$EF$115,$B$11+3,FALSE))))","v":0}]
["家族③成人病保障",null,null,{"$f":"IF(C167=\"加入不可\",0,IF(B167=\"\",0,IF(ISERROR(HLOOKUP(B167,'保険料（月額保険料）'!$B$3:$EF$115,$B$12+3,FALSE))=TRUE,0,HLOOKUP(B167,'保険料（月額保険料）'!$B$3:$EF$115,$B$12+3,FALSE))))","v":0},0,"",null,null,null,null,null,null,null,null,null,null,null,null,null,null,null,null,{"$f":"IF(B167=\"加入不可\",0,IF(B167=\"\",0,IF(ISERROR(HLOOKUP(B167,'保険料（控除対象）'!$B$3:$EF$115,$B$12+3,FALSE))=TRUE,0,HLOOKUP(B167,'保険料（控除対象）'!$B$3:$EF$115,$B$12+3,FALSE))))","v":0}]
["家族④成人病保障",null,null,{"$f":"IF(C168=\"加入不可\",0,IF(B168=\"\",0,IF(ISERROR(HLOOKUP(B168,'保険料（月額保険料）'!$B$3:$EF$115,$B$13+3,FALSE))=TRUE,0,HLOOKUP(B168,'保険料（月額保険料）'!$B$3:$EF$115,$B$13+3,FALSE))))","v":0},0,"",null,null,null,null,null,null,null,null,null,null,null,null,null,null,null,null,{"$f":"IF(B168=\"加入不可\",0,IF(B168=\"\",0,IF(ISERROR(HLOOKUP(B168,'保険料（控除対象）'!$B$3:$EF$115,$B$13+3,FALSE))=TRUE,0,HLOOKUP(B168,'保険料（控除対象）'!$B$3:$EF$115,$B$13+3,FALSE))))","v":0}]
["家族⑤成人病保障",null,null,{"$f":"IF(C169=\"加入不可\",0,IF(B169=\"\",0,IF(ISERROR(HLOOKUP(B169,'保険料（月額保険料）'!$B$3:$EF$115,$B$14+3,FALSE))=TRUE,0,HLOOKUP(B169,'保険料（月額保険料）'!$B$3:$EF$115,$B$14+3,FALSE))))","v":0},0,"",null,null,null,null,null,null,null,null,null,null,null,null,null,null,null,null,{"$f":"IF(B169=\"加入不可\",0,IF(B169=\"\",0,IF(ISERROR(HLOOKUP(B169,'保険料（控除対象）'!$B$3:$EF$115,$B$14+3,FALSE))=TRUE,0,HLOOKUP(B169,'保険料（控除対象）'!$B$3:$EF$115,$B$14+3,FALSE))))","v":0}]
["家族⑥成人病保障",null,null,{"$f":"IF(C170=\"加入不可\",0,IF(B170=\"\",0,IF(ISERROR(HLOOKUP(B170,'保険料（月額保険料）'!$B$3:$EF$115,$B$15+3,FALSE))=TRUE,0,HLOOKUP(B170,'保険料（月額保険料）'!$B$3:$EF$115,$B$15+3,FALSE))))","v":0},0,"",null,null,null,null,null,null,null,null,null,null,null,null,null,null,null,null,{"$f":"IF(B170=\"加入不可\",0,IF(B170=\"\",0,IF(ISERROR(HLOOKUP(B170,'保険料（控除対象）'!$B$3:$EF$115,$B$15+3,FALSE))=TRUE,0,HLOOKUP(B170,'保険料（控除対象）'!$B$3:$EF$115,$B$15+3,FALSE))))","v":0}]
["ﾎｰﾙｲﾝﾜﾝ",null,{"$f":"IF(OR(B171=\"加入しない\",B171=\"\"),\"\",A171&MIDB(B171,5,2)&\"配偶者型\")","v":""},{"$f":"IF(OR(B171=\"実費20万円限度\",B171=\"実費50万円限度\",B171=\"実費80万円限度\"),HLOOKUP(C171,'保険料（月額保険料）'!$EG$3:$EU$115,2,FALSE),0)","v":0},{"$f":"IF(OR(B171=\"\",B171=\"加入しない\"),0,B171)","v":0}]
["配偶者年齢（控除用）"]
["配偶者氏名（控除用）"]

{"sheet":"入力Real","index":3,"n_rows":159,"n_cols":23,"rows_kept":159,"cut":false,"hidden":true,"merged":[]}
[null,null,null,"保険料（月額保険料）",null,null,null,null,null,null,null,null,null,null,null,null,null,null,null,null,null,null,"保険料（控除対象）"]
["年齢"]
["性別"]
["タイプ",null,{"$f":"IF(B4<>\"\",IF(B4=\"ﾌｧﾐﾘｰｾｯﾄ\",\"ﾌｧﾐﾘｰ\"&E5,IF(B4=\"夫婦ｾｯﾄ\",\"ｼﾆｱ\"&E5,\"ﾊﾟｰｿﾅﾙ\"&E5)),\"\")","v":""},{"$f":"IF(ISERROR(HLOOKUP($C4,'保険料（月額保険料）'!$B$3:$DU$115,B2+3,FALSE))=TRUE,0,HLOOKUP($C4,'保険料（月額保険料）'!$B$3:$DU$115,B2+3,FALSE))","v":0},null,null,null,null,null,null,null,null,null,null,null,null,null,null,null,null,null,null,{"$f":"IF(ISERROR(HLOOKUP($C$6,'保険料（控除対象）'!$B$3:$DU$115,$B$2+3,FALSE))=TRUE,0,HLOOKUP($C$6,'保険料（控除対象）'!$B$3:$DU$115,$B$2+3,FALSE))","v":0}]
["口数",null,null,null,{"$f":"LEFTB(B5,1)","v":""}]
["所得",null,{"$f":"IF(E6=0,\"\",IF(E6=75000,\"ｴｺﾉﾐｰ\"&E7,IF(E6=150000,\"ﾍﾞｰｼｯｸ\"&E7,\"ﾜｲﾄﾞ\"&E7)))","v":""},{"$f":"IF(ISERROR(HLOOKUP($C6,'保険料（月額保険料）'!$B$3:$DU$115,$B$2+3,FALSE))=TRUE,0,HLOOKUP($C6,'保険料（月額保険料）'!$B$3:$DU$115,$B$2+3,FALSE))","v":0},{"$f":"VALUE(IF(OR(B6=\"\",B6=\"加入しない\"),0,IF(B6=\"月額75,000円\",75000,IF(B6=\"月額150,000円\",150000,300000))))","v":0},null,null,null,null,null,null,null,null,null,null,null,null,null,null,null,null,null,{"$f":"IF(OR(B6=\"加入しない\",B6=\"\"),0,LEFTB(B6,5))","v":0}]
["免責",null,null,null,{"$f":"VALUE(IF(B7=\"\",\"\",MIDB(B7,9,1)))","v":{"$error":"#VALUE!"}}]
[]
["配偶者年齢"]
["家族①年齢"]
["家族②年齢"]
["家族③年齢"]
["家族④年齢"]
["家族⑤年齢"]
["家族⑥年齢"]
["本人医療",null,{"$f":"IF(B16=\"日額9,000円(3口)\",\"医療保障3\",IF(B16=\"日額6,000円(2口)\",\"医療保障2\",IF(B16=\"日額5,000円\",\"医療保障2シニア\",IF(B16=\"日額3,000円(1口)\",\"医療保障1\",IF(B16=\"日額3,000円\",\"医療保障1シニア\",\"\")))))","v":""},{"$f":"IF(C16=\"\",0,IF(ISERROR(HLOOKUP(C16,'保険料（月額保険料）'!$B$3:$DU$115,$B$2+3,FALSE))=TRUE,0,HLOOKUP(C16,'保険料（月額保険料）'!$B$3:$DU$115,$B$2+3,FALSE)))","v":0},null,null,null,null,null,null,null,null,null,null,null,null,null,null,null,null,null,null,{"$f":"IF(C16=\"\",0,IF(ISERROR(HLOOKUP(C16,'保険料（控除対象）'!$B$3:$DU$115,$B$2+3,FALSE))=TRUE,0,HLOOKUP(C16,'保険料（控除対象）'!$B$3:$DU$115,$B$2+3,FALSE)))","v":0}]
["配偶者医療",null,"",{"$f":"IF(C17=\"\",0,IF(ISERROR(HLOOKUP(C17,'保険料（月額保険料）'!$B$3:$DU$115,$B$9+3,FALSE))=TRUE,0,HLOOKUP(C17,'保険料（月額保険料）'!$B$3:$DU$115,$B$9+3,FALSE)))","v":0},null,null,null,null,null,null,null,null,null,null,null,null,null,null,null,null,null,null,{"$f":"IF(C17=\"\",0,IF(ISERROR(HLOOKUP(C17,'保険料（控除対象）'!$B$3:$DU$115,$B9+3,FALSE))=TRUE,0,HLOOKUP(C17,'保険料（控除対象）'!$B$3:$DU$115,$B9+3,FALSE)))","v":0}]
["家族①医療",null,"",{"$f":"IF(C18=\"\",0,IF(ISERROR(HLOOKUP(C18,'保険料（月額保険料）'!$B$3:$DU$115,$B$10+3,FALSE))=TRUE,0,HLOOKUP(C18,'保険料（月額保険料）'!$B$3:$DU$115,$B$10+3,FALSE)))","v":0},null,null,null,null,null,null,null,null,null,null,null,null,null,null,null,null,null,null,{"$f":"IF(C18=\"\",0,IF(ISERROR(HLOOKUP(C18,'保険料（控除対象）'!$B$3:$DU$115,$B10+3,FALSE))=TRUE,0,HLOOKUP(C18,'保険料（控除対象）'!$B$3:$DU$115,$B10+3,FALSE)))","v":0}]
["家族②医療",null,"",{"$f":"IF(C19=\"\",0,IF(ISERROR(HLOOKUP(C19,'保険料（月額保険料）'!$B$3:$DU$115,$B$11+3,FALSE))=TRUE,0,HLOOKUP(C19,'保険料（月額保険料）'!$B$3:$DU$115,$B$11+3,FALSE)))","v":0},null,null,null,null,null,null,null,null,null,null,null,null,null,null,null,null,null,null,{"$f":"IF(C19=\"\",0,IF(ISERROR(HLOOKUP(C19,'保険料（控除対象）'!$B$3:$DU$115,$B11+3,FALSE))=TRUE,0,HLOOKUP(C19,'保険料（控除対象）'!$B$3:$DU$115,$B11+3,FALSE)))","v":0}]
["家族③医療",null,"",{"$f":"IF(C20=\"\",0,IF(ISERROR(HLOOKUP(C20,'保険料（月額保険料）'!$B$3:$DU$115,$B$12+3,FALSE))=TRUE,0,HLOOKUP(C20,'保険料（月額保険料）'!$B$3:$DU$115,$B$12+3,FALSE)))","v":0},null,null,null,null,null,null,null,null,null,null,null,null,null,null,null,null,null,null,{"$f":"IF(C20=\"\",0,IF(ISERROR(HLOOKUP(C20,'保険料（控除対象）'!$B$3:$DU$115,$B12+3,FALSE))=TRUE,0,HLOOKUP(C20,'保険料（控除対象）'!$B$3:$DU$115,$B12+3,FALSE)))","v":0}]
["家族④医療",null,"",{"$f":"IF(C21=\"\",0,IF(ISERROR(HLOOKUP(C21,'保険料（月額保険料）'!$B$3:$DU$115,$B$13+3,FALSE))=TRUE,0,HLOOKUP(C21,'保険料（月額保険料）'!$B$3:$DU$115,$B$13+3,FALSE)))","v":0},null,null,null,null,null,null,null,null,null,null,null,null,null,null,null,null,null,null,{"$f":"IF(C21=\"\",0,IF(ISERROR(HLOOKUP(C21,'保険料（控除対象）'!$B$3:$DU$115,$B13+3,FALSE))=TRUE,0,HLOOKUP(C21,'保険料（控除対象）'!$B$3:$DU$115,$B13+3,FALSE)))","v":0}]
["家族⑤医療",null,"",{"$f":"IF(C22=\"\",0,IF(ISERROR(HLOOKUP(C22,'保険料（月額保険料）'!$B$3:$DU$115,$B$14+3,FALSE))=TRUE,0,HLOOKUP(C22,'保険料（月額保険料）'!$B$3:$DU$115,$B$14+3,FALSE)))","v":0},null,null,null,null,null,null,null,null,null,null,null,null,null,null,null,null,null,null,{"$f":"IF(C22=\"\",0,IF(ISERROR(HLOOKUP(C22,'保険料（控除対象）'!$B$3:$DU$115,$B14+3,FALSE))=TRUE,0,HLOOKUP(C22,'保険料（控除対象）'!$B$3:$DU$115,$B14+3,FALSE)))","v":0}]
["家族⑥医療",null,"",{"$f":"IF(C23=\"\",0,IF(ISERROR(HLOOKUP(C23,'保険料（月額保険料）'!$B$3:$DU$115,$B$15+3,FALSE))=TRUE,0,HLOOKUP(C23,'保険料（月額保険料）'!$B$3:$DU$115,$B$15+3,FALSE)))","v":0},null,null,null,null,null,null,null,null,null,null,null,null,null,null,null,null,null,null,{"$f":"IF(C23=\"\",0,IF(ISERROR(HLOOKUP(C23,'保険料（控除対象）'!$B$3:$DU$115,$B15+3,FALSE))=TRUE,0,HLOOKUP(C23,'保険料（控除対象）'!$B$3:$DU$115,$B15+3,FALSE)))","v":0}]
["本人五大疾病",null,{"$f":"IF(B24=\"日額6,000円(2口)\",\"五大疾病入院保障2\",IF(B24=\"日額6,000円\",\"五大疾病入院保障2\",IF(B24=\"日額3,000円(1口)\",\"五大疾病入院保障1\",IF(B24=\"日額3,000円\",\"五大疾病入院保障1\",\"\"))))","v":""},{"$f":"IF(C24=\"\",0,IF(ISERROR(HLOOKUP(C24,'保険料（月額保険料）'!$B$3:$DU$115,$B$2+3,FALSE))=TRUE,0,HLOOKUP(C24,'保険料（月額保険料）'!$B$3:$DU$115,$B$2+3,FALSE)))","v":0},null,null,null,null,null,null,null,null,null,null,null,null,null,null,null,null,null,null,{"$f":"IF(C24=\"\",0,IF(ISERROR(HLOOKUP(C24,'保険料（控除対象）'!$B$3:$DU$115,$B$2+3,FALSE))=TRUE,0,HLOOKUP(C24,'保険料（控除対象）'!$B$3:$DU$115,$B$2+3,FALSE)))","v":0}]
["配偶者五大疾病",null,{"$f":"IF(B25=\"日額6,000円(2口)\",\"五大疾病入院保障2\",IF(B25=\"日額6,000円\",\"五大疾病入院保障2\",IF(B25=\"日額3,000円(1口)\",\"五大疾病入院保障1\",IF(B25=\"日額3,000円\",\"五大疾病入院保障1\",\"\"))))","v":""},{"$f":"IF(C25=\"\",0,IF(ISERROR(HLOOKUP(C25,'保険料（月額保険料）'!$B$3:$DU$115,$B$9+3,FALSE))=TRUE,0,HLOOKUP(C25,'保険料（月額保険料）'!$B$3:$DU$115,$B$9+3,FALSE)))","v":0},null,null,null,null,null,null,null,null,null,null,null,null,null,null,null,null,null,null,{"$f":"IF(C25=\"\",0,IF(ISERROR(HLOOKUP(C25,'保険料（控除対象）'!$B$3:$DU$115,$B9+3,FALSE))=TRUE,0,HLOOKUP(C25,'保険料（控除対象）'!$B$3:$DU$115,$B9+3,FALSE)))","v":0}]
["家族①五大疾病",null,"",{"$f":"IF(C26=\"\",0,IF(ISERROR(HLOOKUP(C26,'保険料（月額保険料）'!$B$3:$DU$115,$B$10+3,FALSE))=TRUE,0,HLOOKUP(C26,'保険料（月額保険料）'!$B$3:$DU$115,$B$10+3,FALSE)))","v":0},null,null,null,null,null,null,null,null,null,null,null,null,null,null,null,null,null,null,{"$f":"IF(C26=\"\",0,IF(ISERROR(HLOOKUP(C26,'保険料（控除対象）'!$B$3:$DU$115,$B10+3,FALSE))=TRUE,0,HLOOKUP(C26,'保険料（控除対象）'!$B$3:$DU$115,$B10+3,FALSE)))","v":0}]
["家族②五大疾病",null,"",{"$f":"IF(C27=\"\",0,IF(ISERROR(HLOOKUP(C27,'保険料（月額保険料）'!$B$3:$DU$115,$B$11+3,FALSE))=TRUE,0,HLOOKUP(C27,'保険料（月額保険料）'!$B$3:$DU$115,$B$11+3,FALSE)))","v":0},null,null,null,null,null,null,null,null,null,null,null,null,null,null,null,null,null,null,{"$f":"IF(C27=\"\",0,IF(ISERROR(HLOOKUP(C27,'保険料（控除対象）'!$B$3:$DU$115,$B11+3,FALSE))=TRUE,0,HLOOKUP(C27,'保険料（控除対象）'!$B$3:$DU$115,$B11+3,FALSE)))","v":0}]
["家族③五大疾病",null,"",{"$f":"IF(C28=\"\",0,IF(ISERROR(HLOOKUP(C28,'保険料（月額保険料）'!$B$3:$DU$115,$B$12+3,FALSE))=TRUE,0,HLOOKUP(C28,'保険料（月額保険料）'!$B$3:$DU$115,$B$12+3,FALSE)))","v":0},null,null,null,null,null,null,null,null,null,null,null,null,null,null,null,null,null,null,{"$f":"IF(C28=\"\",0,IF(ISERROR(HLOOKUP(C28,'保険料（控除対象）'!$B$3:$DU$115,$B12+3,FALSE))=TRUE,0,HLOOKUP(C28,'保険料（控除対象）'!$B$3:$DU$115,$B12+3,FALSE)))","v":0}]
["家族④五大疾病",null,"",{"$f":"IF(C29=\"\",0,IF(ISERROR(HLOOKUP(C29,'保険料（月額保険料）'!$B$3:$DU$115,$B$13+3,FALSE))=TRUE,0,HLOOKUP(C29,'保険料（月額保険料）'!$B$3:$DU$115,$B$13+3,FALSE)))","v":0},null,null,null,null,null,null,null,null,null,null,null,null,null,null,null,null,null,null,{"$f":"IF(C29=\"\",0,IF(ISERROR(HLOOKUP(C29,'保険料（控除対象）'!$B$3:$DU$115,$B13+3,FALSE))=TRUE,0,HLOOKUP(C29,'保険料（控除対象）'!$B$3:$DU$115,$B13+3,FALSE)))","v":0}]
["家族⑤五大疾病",null,"",{"$f":"IF(C30=\"\",0,IF(ISERROR(HLOOKUP(C30,'保険料（月額保険料）'!$B$3:$DU$115,$B$14+3,FALSE))=TRUE,0,HLOOKUP(C30,'保険料（月額保険料）'!$B$3:$DU$115,$B$14+3,FALSE)))","v":0},null,null,null,null,null,null,null,null,null,null,null,null,null,null,null,null,null,null,{"$f":"IF(C30=\"\",0,IF(ISERROR(HLOOKUP(C30,'保険料（控除対象）'!$B$3:$DU$115,$B14+3,FALSE))=TRUE,0,HLOOKUP(C30,'保険料（控除対象）'!$B$3:$DU$115,$B14+3,FALSE)))","v":0}]
["家族⑥五大疾病",null,"",{"$f":"IF(C31=\"\",0,IF(ISERROR(HLOOKUP(C31,'保険料（月額保険料）'!$B$3:$DU$115,$B$15+3,FALSE))=TRUE,0,HLOOKUP(C31,'保険料（月額保険料）'!$B$3:$DU$115,$B$15+3,FALSE)))","v":0},null,null,null,null,null,null,null,null,null,null,null,null,null,null,null,null,null,null,{"$f":"IF(C31=\"\",0,IF(ISERROR(HLOOKUP(C31,'保険料（控除対象）'!$B$3:$DU$115,$B15+3,FALSE))=TRUE,0,HLOOKUP(C31,'保険料（控除対象）'!$B$3:$DU$115,$B15+3,FALSE)))","v":0}]
["本人手術",null,{"$f":"IF(B32=\"実費100万円限度\",\"疾病手術保障\",\"\")","v":""},{"$f":"IF(C32=\"\",0,IF(ISERROR(HLOOKUP(C32,'保険料（月額保険料）'!$B$3:$DU$115,$B$2+3,FALSE))=TRUE,0,HLOOKUP(C32,'保険料（月額保険料）'!$B$3:$DU$115,$B$2+3,FALSE)))","v":0},null,null,null,null,null,null,null,null,null,null,null,null,null,null,null,null,null,null,{"$f":"IF(C32=\"\",0,IF(ISERROR(HLOOKUP(C32,'保険料（控除対象）'!$B$3:$DU$115,$B$2+3,FALSE))=TRUE,0,HLOOKUP(C32,'保険料（控除対象）'!$B$3:$DU$115,$B$2+3,FALSE)))","v":0}]
["配偶者手術",null,"",{"$f":"IF(C33=\"\",0,IF(ISERROR(HLOOKUP(C33,'保険料（月額保険料）'!$B$3:$DU$115,$B$9+3,FALSE))=TRUE,0,HLOOKUP(C33,'保険料（月額保険料）'!$B$3:$DU$115,$B$9+3,FALSE)))","v":0},null,null,null,null,null,null,null,null,null,null,null,null,null,null,null,null,null,null,{"$f":"IF(C33=\"\",0,IF(ISERROR(HLOOKUP(C33,'保険料（控除対象）'!$B$3:$DU$115,$B9+3,FALSE))=TRUE,0,HLOOKUP(C33,'保険料（控除対象）'!$B$3:$DU$115,$B9+3,FALSE)))","v":0}]
["家族①手術",null,"",{"$f":"IF(C34=\"\",0,IF(ISERROR(HLOOKUP(C34,'保険料（月額保険料）'!$B$3:$DU$115,$B$10+3,FALSE))=TRUE,0,HLOOKUP(C34,'保険料（月額保険料）'!$B$3:$DU$115,$B$10+3,FALSE)))","v":0},null,null,null,null,null,null,null,null,null,null,null,null,null,null,null,null,null,null,{"$f":"IF(C34=\"\",0,IF(ISERROR(HLOOKUP(C34,'保険料（控除対象）'!$B$3:$DU$115,$B10+3,FALSE))=TRUE,0,HLOOKUP(C34,'保険料（控除対象）'!$B$3:$DU$115,$B10+3,FALSE)))","v":0}]
["家族②手術",null,"",{"$f":"IF(C35=\"\",0,IF(ISERROR(HLOOKUP(C35,'保険料（月額保険料）'!$B$3:$DU$115,$B$11+3,FALSE))=TRUE,0,HLOOKUP(C35,'保険料（月額保険料）'!$B$3:$DU$115,$B$11+3,FALSE)))","v":0},null,null,null,null,null,null,null,null,null,null,null,null,null,null,null,null,null,null,{"$f":"IF(C35=\"\",0,IF(ISERROR(HLOOKUP(C35,'保険料（控除対象）'!$B$3:$DU$115,$B11+3,FALSE))=TRUE,0,HLOOKUP(C35,'保険料（控除対象）'!$B$3:$DU$115,$B11+3,FALSE)))","v":0}]
["家族③手術",null,"",{"$f":"IF(C36=\"\",0,IF(ISERROR(HLOOKUP(C36,'保険料（月額保険料）'!$B$3:$DU$115,$B$12+3,FALSE))=TRUE,0,HLOOKUP(C36,'保険料（月額保険料）'!$B$3:$DU$115,$B$12+3,FALSE)))","v":0},null,null,null,null,null,null,null,null,null,null,null,null,null,null,null,null,null,null,{"$f":"IF(C36=\"\",0,IF(ISERROR(HLOOKUP(C36,'保険料（控除対象）'!$B$3:$DU$115,$B12+3,FALSE))=TRUE,0,HLOOKUP(C36,'保険料（控除対象）'!$B$3:$DU$115,$B12+3,FALSE)))","v":0}]
["家族④手術",null,"",{"$f":"IF(C37=\"\",0,IF(ISERROR(HLOOKUP(C37,'保険料（月額保険料）'!$B$3:$DU$115,$B$13+3,FALSE))=TRUE,0,HLOOKUP(C37,'保険料（月額保険料）'!$B$3:$DU$115,$B$13+3,FALSE)))","v":0},null,null,null,null,null,null,null,null,null,null,null,null,null,null,null,null,null,null,{"$f":"IF(C37=\"\",0,IF(ISERROR(HLOOKUP(C37,'保険料（控除対象）'!$B$3:$DU$115,$B13+3,FALSE))=TRUE,0,HLOOKUP(C37,'保険料（控除対象）'!$B$3:$DU$115,$B13+3,FALSE)))","v":0}]
["家族⑤手術",null,"",{"$f":"IF(C38=\"\",0,IF(ISERROR(HLOOKUP(C38,'保険料（月額保険料）'!$B$3:$DU$115,$B$14+3,FALSE))=TRUE,0,HLOOKUP(C38,'保険料（月額保険料）'!$B$3:$DU$115,$B$14+3,FALSE)))","v":0},null,null,null,null,null,null,null,null,null,null,null,null,null,null,null,null,null,null,{"$f":"IF(C38=\"\",0,IF(ISERROR(HLOOKUP(C38,'保険料（控除対象）'!$B$3:$DU$115,$B14+3,FALSE))=TRUE,0,HLOOKUP(C38,'保険料（控除対象）'!$B$3:$DU$115,$B14+3,FALSE)))","v":0}]
["家族⑥手術",null,"",{"$f":"IF(C39=\"\",0,IF(ISERROR(HLOOKUP(C39,'保険料（月額保険料）'!$B$3:$DU$115,$B$15+3,FALSE))=TRUE,0,HLOOKUP(C39,'保険料（月額保険料）'!$B$3:$DU$115,$B$15+3,FALSE)))","v":0},null,null,null,null,null,null,null,null,null,null,null,null,null,null,null,null,null,null,{"$f":"IF(C39=\"\",0,IF(ISERROR(HLOOKUP(C39,'保険料（控除対象）'!$B$3:$DU$115,$B15+3,FALSE))=TRUE,0,HLOOKUP(C39,'保険料（控除対象）'!$B$3:$DU$115,$B15+3,FALSE)))","v":0}]
["本人高度",null,{"$f":"IF(B40=\"実費2000万円限度\",\"高度医療保障\",\"\")","v":""},{"$f":"IF(C40=\"\",0,IF(ISERROR(HLOOKUP(C40,'保険料（月額保険料）'!$B$3:$DU$115,$B$2+3,FALSE))=TRUE,0,HLOOKUP(C40,'保険料（月額保険料）'!$B$3:$DU$115,$B$2+3,FALSE)))","v":0},null,null,null,null,null,null,null,null,null,null,null,null,null,null,null,null,null,null,{"$f":"IF(C40=\"\",0,IF(ISERROR(HLOOKUP(C40,'保険料（控除対象）'!$B$3:$DU$115,$B$2+3,FALSE))=TRUE,0,HLOOKUP(C40,'保険料（控除対象）'!$B$3:$DU$115,$B$2+3,FALSE)))","v":0}]
["配偶者高度",null,{"$f":"IF(B41=\"実費2000万円限度\",\"高度医療保障\",\"\")","v":""},{"$f":"IF(C41=\"\",0,IF(ISERROR(HLOOKUP(C41,'保険料（月額保険料）'!$B$3:$DU$115,$B$9+3,FALSE))=TRUE,0,HLOOKUP(C41,'保険料（月額保険料）'!$B$3:$DU$115,$B$9+3,FALSE)))","v":0},null,null,null,null,null,null,null,null,null,null,null,null,null,null,null,null,null,null,{"$f":"IF(C41=\"\",0,IF(ISERROR(HLOOKUP(C41,'保険料（控除対象）'!$B$3:$DU$115,$B9+3,FALSE))=TRUE,0,HLOOKUP(C41,'保険料（控除対象）'!$B$3:$DU$115,$B9+3,FALSE)))","v":0}]
["家族①高度",null,"",{"$f":"IF(C42=\"\",0,IF(ISERROR(HLOOKUP(C42,'保険料（月額保険料）'!$B$3:$DU$115,$B$10+3,FALSE))=TRUE,0,HLOOKUP(C42,'保険料（月額保険料）'!$B$3:$DU$115,$B$10+3,FALSE)))","v":0},null,null,null,null,null,null,null,null,null,null,null,null,null,null,null,null,null,null,{"$f":"IF(C42=\"\",0,IF(ISERROR(HLOOKUP(C42,'保険料（控除対象）'!$B$3:$DU$115,$B10+3,FALSE))=TRUE,0,HLOOKUP(C42,'保険料（控除対象）'!$B$3:$DU$115,$B10+3,FALSE)))","v":0}]
["家族②高度",null,"",{"$f":"IF(C43=\"\",0,IF(ISERROR(HLOOKUP(C43,'保険料（月額保険料）'!$B$3:$DU$115,$B$11+3,FALSE))=TRUE,0,HLOOKUP(C43,'保険料（月額保険料）'!$B$3:$DU$115,$B$11+3,FALSE)))","v":0},null,null,null,null,null,null,null,null,null,null,null,null,null,null,null,null,null,null,{"$f":"IF(C43=\"\",0,IF(ISERROR(HLOOKUP(C43,'保険料（控除対象）'!$B$3:$DU$115,$B11+3,FALSE))=TRUE,0,HLOOKUP(C43,'保険料（控除対象）'!$B$3:$DU$115,$B11+3,FALSE)))","v":0}]
["家族③高度",null,"",{"$f":"IF(C44=\"\",0,IF(ISERROR(HLOOKUP(C44,'保険料（月額保険料）'!$B$3:$DU$115,$B$12+3,FALSE))=TRUE,0,HLOOKUP(C44,'保険料（月額保険料）'!$B$3:$DU$115,$B$12+3,FALSE)))","v":0},null,null,null,null,null,null,null,null,null,null,null,null,null,null,null,null,null,null,{"$f":"IF(C44=\"\",0,IF(ISERROR(HLOOKUP(C44,'保険料（控除対象）'!$B$3:$DU$115,$B12+3,FALSE))=TRUE,0,HLOOKUP(C44,'保険料（控除対象）'!$B$3:$DU$115,$B12+3,FALSE)))","v":0}]
["家族④高度",null,"",{"$f":"IF(C45=\"\",0,IF(ISERROR(HLOOKUP(C45,'保険料（月額保険料）'!$B$3:$DU$115,$B$13+3,FALSE))=TRUE,0,HLOOKUP(C45,'保険料（月額保険料）'!$B$3:$DU$115,$B$13+3,FALSE)))","v":0},null,null,null,null,null,null,null,null,null,null,null,null,null,null,null,null,null,null,{"$f":"IF(C45=\"\",0,IF(ISERROR(HLOOKUP(C45,'保険料（控除対象）'!$B$3:$DU$115,$B13+3,FALSE))=TRUE,0,HLOOKUP(C45,'保険料（控除対象）'!$B$3:$DU$115,$B13+3,FALSE)))","v":0}]
["家族⑤高度",null,"",{"$f":"IF(C46=\"\",0,IF(ISERROR(HLOOKUP(C46,'保険料（月額保険料）'!$B$3:$DU$115,$B$14+3,FALSE))=TRUE,0,HLOOKUP(C46,'保険料（月額保険料）'!$B$3:$DU$115,$B$14+3,FALSE)))","v":0},null,null,null,null,null,null,null,null,null,null,null,null,null,null,null,null,null,null,{"$f":"IF(C46=\"\",0,IF(ISERROR(HLOOKUP(C46,'保険料（控除対象）'!$B$3:$DU$115,$B14+3,FALSE))=TRUE,0,HLOOKUP(C46,'保険料（控除対象）'!$B$3:$DU$115,$B14+3,FALSE)))","v":0}]
["家族⑥高度",null,"",{"$f":"IF(C47=\"\",0,IF(ISERROR(HLOOKUP(C47,'保険料（月額保険料）'!$B$3:$DU$115,$B$15+3,FALSE))=TRUE,0,HLOOKUP(C47,'保険料（月額保険料）'!$B$3:$DU$115,$B$15+3,FALSE)))","v":0},null,null,null,null,null,null,null,null,null,null,null,null,null,null,null,null,null,null,{"$f":"IF(C47=\"\",0,IF(ISERROR(HLOOKUP(C47,'保険料（控除対象）'!$B$3:$DU$115,$B15+3,FALSE))=TRUE,0,HLOOKUP(C47,'保険料（控除対象）'!$B$3:$DU$115,$B15+3,FALSE)))","v":0}]
["本人通院",null,{"$f":"IF(B48=\"日額3,000円\",\"疾病退院後通院保障\",IF(B48=\"日額1,500円\",\"疾病退院後通院保障1500\",\"\"))","v":""},{"$f":"IF(C48=\"\",0,IF(ISERROR(HLOOKUP(C48,'保険料（月額保険料）'!$B$3:$DU$115,$B$2+3,FALSE))=TRUE,0,HLOOKUP(C48,'保険料（月額保険料）'!$B$3:$DU$115,$B$2+3,FALSE)))","v":0},null,null,null,null,null,null,null,null,null,null,null,null,null,null,null,null,null,null,{"$f":"IF(C48=\"\",0,IF(ISERROR(HLOOKUP(C48,'保険料（控除対象）'!$B$3:$DU$115,$B$2+3,FALSE))=TRUE,0,HLOOKUP(C48,'保険料（控除対象）'!$B$3:$DU$115,$B$2+3,FALSE)))","v":0}]
["配偶者通院",null,{"$f":"IF(B49=\"日額3,000円\",\"疾病退院後通院保障\",IF(B49=\"日額1,500円\",\"疾病退院後通院保障1500\",\"\"))","v":""},{"$f":"IF(C49=\"\",0,IF(ISERROR(HLOOKUP(C49,'保険料（月額保険料）'!$B$3:$DU$115,$B$9+3,FALSE))=TRUE,0,HLOOKUP(C49,'保険料（月額保険料）'!$B$3:$DU$115,$B$9+3,FALSE)))","v":0},null,null,null,null,null,null,null,null,null,null,null,null,null,null,null,null,null,null,{"$f":"IF(C49=\"\",0,IF(ISERROR(HLOOKUP(C49,'保険料（控除対象）'!$B$3:$DU$115,$B9+3,FALSE))=TRUE,0,HLOOKUP(C49,'保険料（控除対象）'!$B$3:$DU$115,$B9+3,FALSE)))","v":0}]
["家族①通院",null,"",{"$f":"IF(C50=\"\",0,IF(ISERROR(HLOOKUP(C50,'保険料（月額保険料）'!$B$3:$DU$115,$B$10+3,FALSE))=TRUE,0,HLOOKUP(C50,'保険料（月額保険料）'!$B$3:$DU$115,$B$10+3,FALSE)))","v":0},null,null,null,null,null,null,null,null,null,null,null,null,null,null,null,null,null,null,{"$f":"IF(C50=\"\",0,IF(ISERROR(HLOOKUP(C50,'保険料（控除対象）'!$B$3:$DU$115,$B10+3,FALSE))=TRUE,0,HLOOKUP(C50,'保険料（控除対象）'!$B$3:$DU$115,$B10+3,FALSE)))","v":0}]
["家族②通院",null,"",{"$f":"IF(C51=\"\",0,IF(ISERROR(HLOOKUP(C51,'保険料（月額保険料）'!$B$3:$DU$115,$B$11+3,FALSE))=TRUE,0,HLOOKUP(C51,'保険料（月額保険料）'!$B$3:$DU$115,$B$11+3,FALSE)))","v":0},null,null,null,null,null,null,null,null,null,null,null,null,null,null,null,null,null,null,{"$f":"IF(C51=\"\",0,IF(ISERROR(HLOOKUP(C51,'保険料（控除対象）'!$B$3:$DU$115,$B11+3,FALSE))=TRUE,0,HLOOKUP(C51,'保険料（控除対象）'!$B$3:$DU$115,$B11+3,FALSE)))","v":0}]
["家族③通院",null,"",{"$f":"IF(C52=\"\",0,IF(ISERROR(HLOOKUP(C52,'保険料（月額保険料）'!$B$3:$DU$115,$B$12+3,FALSE))=TRUE,0,HLOOKUP(C52,'保険料（月額保険料）'!$B$3:$DU$115,$B$12+3,FALSE)))","v":0},null,null,null,null,null,null,null,null,null,null,null,null,null,null,null,null,null,null,{"$f":"IF(C52=\"\",0,IF(ISERROR(HLOOKUP(C52,'保険料（控除対象）'!$B$3:$DU$115,$B12+3,FALSE))=TRUE,0,HLOOKUP(C52,'保険料（控除対象）'!$B$3:$DU$115,$B12+3,FALSE)))","v":0}]
["家族④通院",null,"",{"$f":"IF(C53=\"\",0,IF(ISERROR(HLOOKUP(C53,'保険料（月額保険料）'!$B$3:$DU$115,$B$13+3,FALSE))=TRUE,0,HLOOKUP(C53,'保険料（月額保険料）'!$B$3:$DU$115,$B$13+3,FALSE)))","v":0},null,null,null,null,null,null,null,null,null,null,null,null,null,null,null,null,null,null,{"$f":"IF(C53=\"\",0,IF(ISERROR(HLOOKUP(C53,'保険料（控除対象）'!$B$3:$DU$115,$B13+3,FALSE))=TRUE,0,HLOOKUP(C53,'保険料（控除対象）'!$B$3:$DU$115,$B13+3,FALSE)))","v":0}]
["家族⑤通院",null,"",{"$f":"IF(C54=\"\",0,IF(ISERROR(HLOOKUP(C54,'保険料（月額保険料）'!$B$3:$DU$115,$B$14+3,FALSE))=TRUE,0,HLOOKUP(C54,'保険料（月額保険料）'!$B$3:$DU$115,$B$14+3,FALSE)))","v":0},null,null,null,null,null,null,null,null,null,null,null,null,null,null,null,null,null,null,{"$f":"IF(C54=\"\",0,IF(ISERROR(HLOOKUP(C54,'保険料（控除対象）'!$B$3:$DU$115,$B14+3,FALSE))=TRUE,0,HLOOKUP(C54,'保険料（控除対象）'!$B$3:$DU$115,$B14+3,FALSE)))","v":0}]
["家族⑥通院",null,"",{"$f":"IF(C55=\"\",0,IF(ISERROR(HLOOKUP(C55,'保険料（月額保険料）'!$B$3:$DU$115,$B$15+3,FALSE))=TRUE,0,HLOOKUP(C55,'保険料（月額保険料）'!$B$3:$DU$115,$B$15+3,FALSE)))","v":0},null,null,null,null,null,null,null,null,null,null,null,null,null,null,null,null,null,null,{"$f":"IF(C55=\"\",0,IF(ISERROR(HLOOKUP(C55,'保険料（控除対象）'!$B$3:$DU$115,$B15+3,FALSE))=TRUE,0,HLOOKUP(C55,'保険料（控除対象）'!$B$3:$DU$115,$B15+3,FALSE)))","v":0}]
["本人療養",null,{"$f":"IF(OR(B56=\"加入しない\",B56=\"\"),\"\",\"療養保障\"&MIDB(B56,8,1))","v":""},{"$f":"IF(C56=\"\",0,IF(ISERROR(HLOOKUP(C56,'保険料（月額保険料）'!$B$3:$DU$115,$B$2+3,FALSE))=TRUE,0,HLOOKUP(C56,'保険料（月額保険料）'!$B$3:$DU$115,$B$2+3,FALSE)))","v":0},null,null,null,null,null,null,null,null,null,null,null,null,null,null,null,null,null,null,{"$f":"IF(C56=\"\",0,IF(ISERROR(HLOOKUP(C56,'保険料（控除対象）'!$B$3:$DU$115,$B$2+3,FALSE))=TRUE,0,HLOOKUP(C56,'保険料（控除対象）'!$B$3:$DU$115,$B$2+3,FALSE)))","v":0}]
["配偶者療養",null,"",{"$f":"IF(C57=\"\",0,IF(ISERROR(HLOOKUP(C57,'保険料（月額保険料）'!$B$3:$DU$115,$B$9+3,FALSE))=TRUE,0,HLOOKUP(C57,'保険料（月額保険料）'!$B$3:$DU$115,$B$9+3,FALSE)))","v":0},null,null,null,null,null,null,null,null,null,null,null,null,null,null,null,null,null,null,{"$f":"IF(C57=\"\",0,IF(ISERROR(HLOOKUP(C57,'保険料（控除対象）'!$B$3:$DU$115,$B9+3,FALSE))=TRUE,0,HLOOKUP(C57,'保険料（控除対象）'!$B$3:$DU$115,$B9+3,FALSE)))","v":0}]
["家族①療養",null,"",{"$f":"IF(C58=\"\",0,IF(ISERROR(HLOOKUP(C58,'保険料（月額保険料）'!$B$3:$DU$115,$B$10+3,FALSE))=TRUE,0,HLOOKUP(C58,'保険料（月額保険料）'!$B$3:$DU$115,$B$10+3,FALSE)))","v":0},null,null,null,null,null,null,null,null,null,null,null,null,null,null,null,null,null,null,{"$f":"IF(C58=\"\",0,IF(ISERROR(HLOOKUP(C58,'保険料（控除対象）'!$B$3:$DU$115,$B10+3,FALSE))=TRUE,0,HLOOKUP(C58,'保険料（控除対象）'!$B$3:$DU$115,$B10+3,FALSE)))","v":0}]
["家族②療養",null,"",{"$f":"IF(C59=\"\",0,IF(ISERROR(HLOOKUP(C59,'保険料（月額保険料）'!$B$3:$DU$115,$B$11+3,FALSE))=TRUE,0,HLOOKUP(C59,'保険料（月額保険料）'!$B$3:$DU$115,$B$11+3,FALSE)))","v":0},null,null,null,null,null,null,null,null,null,null,null,null,null,null,null,null,null,null,{"$f":"IF(C59=\"\",0,IF(ISERROR(HLOOKUP(C59,'保険料（控除対象）'!$B$3:$DU$115,$B11+3,FALSE))=TRUE,0,HLOOKUP(C59,'保険料（控除対象）'!$B$3:$DU$115,$B11+3,FALSE)))","v":0}]
["家族③療養",null,"",{"$f":"IF(C60=\"\",0,IF(ISERROR(HLOOKUP(C60,'保険料（月額保険料）'!$B$3:$DU$115,$B$12+3,FALSE))=TRUE,0,HLOOKUP(C60,'保険料（月額保険料）'!$B$3:$DU$115,$B$12+3,FALSE)))","v":0},null,null,null,null,null,null,null,null,null,null,null,null,null,null,null,null,null,null,{"$f":"IF(C60=\"\",0,IF(ISERROR(HLOOKUP(C60,'保険料（控除対象）'!$B$3:$DU$115,$B12+3,FALSE))=TRUE,0,HLOOKUP(C60,'保険料（控除対象）'!$B$3:$DU$115,$B12+3,FALSE)))","v":0}]
["家族④療養",null,"",{"$f":"IF(C61=\"\",0,IF(ISERROR(HLOOKUP(C61,'保険料（月額保険料）'!$B$3:$DU$115,$B$13+3,FALSE))=TRUE,0,HLOOKUP(C61,'保険料（月額保険料）'!$B$3:$DU$115,$B$13+3,FALSE)))","v":0},null,null,null,null,null,null,null,null,null,null,null,null,null,null,null,null,null,null,{"$f":"IF(C61=\"\",0,IF(ISERROR(HLOOKUP(C61,'保険料（控除対象）'!$B$3:$DU$115,$B13+3,FALSE))=TRUE,0,HLOOKUP(C61,'保険料（控除対象）'!$B$3:$DU$115,$B13+3,FALSE)))","v":0}]
["家族⑤療養",null,"",{"$f":"IF(C62=\"\",0,IF(ISERROR(HLOOKUP(C62,'保険料（月額保険料）'!$B$3:$DU$115,$B$14+3,FALSE))=TRUE,0,HLOOKUP(C62,'保険料（月額保険料）'!$B$3:$DU$115,$B$14+3,FALSE)))","v":0},null,null,null,null,null,null,null,null,null,null,null,null,null,null,null,null,null,null,{"$f":"IF(C62=\"\",0,IF(ISERROR(HLOOKUP(C62,'保険料（控除対象）'!$B$3:$DU$115,$B14+3,FALSE))=TRUE,0,HLOOKUP(C62,'保険料（控除対象）'!$B$3:$DU$115,$B14+3,FALSE)))","v":0}]
["家族⑥療養",null,"",{"$f":"IF(C63=\"\",0,IF(ISERROR(HLOOKUP(C63,'保険料（月額保険料）'!$B$3:$DU$115,$B$15+3,FALSE))=TRUE,0,HLOOKUP(C63,'保険料（月額保険料）'!$B$3:$DU$115,$B$15+3,FALSE)))","v":0},null,null,null,null,null,null,null,null,null,null,null,null,null,null,null,null,null,null,{"$f":"IF(C63=\"\",0,IF(ISERROR(HLOOKUP(C63,'保険料（控除対象）'!$B$3:$DU$115,$B15+3,FALSE))=TRUE,0,HLOOKUP(C63,'保険料（控除対象）'!$B$3:$DU$115,$B15+3,FALSE)))","v":0}]
["本人ガン",null,null,{"$f":"IF(OR($B64=\"\",$B64=\"加入しない\"),0,IF(ISERROR(HLOOKUP($B64,'保険料（月額保険料）'!$B$3:$DU$115,$B$2+3,FALSE))=TRUE,0,HLOOKUP($B64,'保険料（月額保険料）'!$B$3:$DU$115,$B$2+3,FALSE)))","v":0},{"$f":"IF($B64=\"ｶﾞﾝ50万円\",50, IF($B64=\"ｶﾞﾝ100万円\",100, IF($B64=\"ｶﾞﾝ150万円\",150, IF($B64=\"ｶﾞﾝ200万円\",200, IF($B64=\"ｶﾞﾝ250万円\",250, IF($B64=\"ｶﾞﾝ300万円\",300,IF($B64=\"ｶﾞﾝ350万円\",350,0)))))))","v":0},null,null,null,null,null,null,null,null,null,null,null,null,null,null,null,null,null,{"$f":"IF(OR(B64=\"\",B64=\"加入しない\"),0,IF(ISERROR(HLOOKUP(B64,'保険料（控除対象）'!$B$3:$DU$115,$B$2+3,FALSE))=TRUE,0,HLOOKUP(B64,'保険料（控除対象）'!$B$3:$DU$115,$B$2+3,FALSE)))","v":0}]
["配偶者ガン",null,null,{"$f":"IF(OR($B65=\"\",$B65=\"加入しない\"),0,IF(ISERROR(HLOOKUP($B65,'保険料（月額保険料）'!$B$3:$DU$115,$B$9+3,FALSE))=TRUE,0,HLOOKUP($B65,'保険料（月額保険料）'!$B$3:$DU$115,$B$9+3,FALSE)))","v":0},0,null,null,null,null,null,null,null,null,null,null,null,null,null,null,null,null,null,{"$f":"IF(OR(B65=\"\",B65=\"加入しない\"),0,IF(ISERROR(HLOOKUP(B65,'保険料（控除対象）'!$B$3:$DU$115,$B9+3,FALSE))=TRUE,0,HLOOKUP(B65,'保険料（控除対象）'!$B$3:$DU$115,$B9+3,FALSE)))","v":0}]
["家族①ガン",null,null,{"$f":"IF(OR($B66=\"\",$B66=\"加入しない\"),0,IF(ISERROR(HLOOKUP($B66,'保険料（月額保険料）'!$B$3:$DU$115,$B$10+3,FALSE))=TRUE,0,HLOOKUP($B66,'保険料（月額保険料）'!$B$3:$DU$115,$B$10+3,FALSE)))","v":0},0,null,null,null,null,null,null,null,null,null,null,null,null,null,null,null,null,null,{"$f":"IF(OR(B66=\"\",B66=\"加入しない\"),0,IF(ISERROR(HLOOKUP(B66,'保険料（控除対象）'!$B$3:$DU$115,$B10+3,FALSE))=TRUE,0,HLOOKUP(B66,'保険料（控除対象）'!$B$3:$DU$115,$B10+3,FALSE)))","v":0}]
["家族②ガン",null,null,{"$f":"IF(OR($B67=\"\",$B67=\"加入しない\"),0,IF(ISERROR(HLOOKUP($B67,'保険料（月額保険料）'!$B$3:$DU$115,$B$11+3,FALSE))=TRUE,0,HLOOKUP($B67,'保険料（月額保険料）'!$B$3:$DU$115,$B$11+3,FALSE)))","v":0},0,null,null,null,null,null,null,null,null,null,null,null,null,null,null,null,null,null,{"$f":"IF(OR(B67=\"\",B67=\"加入しない\"),0,IF(ISERROR(HLOOKUP(B67,'保険料（控除対象）'!$B$3:$DU$115,$B11+3,FALSE))=TRUE,0,HLOOKUP(B67,'保険料（控除対象）'!$B$3:$DU$115,$B11+3,FALSE)))","v":0}]
["家族③ガン",null,null,{"$f":"IF(OR($B68=\"\",$B68=\"加入しない\"),0,IF(ISERROR(HLOOKUP($B68,'保険料（月額保険料）'!$B$3:$DU$115,$B$12+3,FALSE))=TRUE,0,HLOOKUP($B68,'保険料（月額保険料）'!$B$3:$DU$115,$B$12+3,FALSE)))","v":0},0,null,null,null,null,null,null,null,null,null,null,null,null,null,null,null,null,null,{"$f":"IF(OR(B68=\"\",B68=\"加入しない\"),0,IF(ISERROR(HLOOKUP(B68,'保険料（控除対象）'!$B$3:$DU$115,$B12+3,FALSE))=TRUE,0,HLOOKUP(B68,'保険料（控除対象）'!$B$3:$DU$115,$B12+3,FALSE)))","v":0}]
["家族④ガン",null,null,{"$f":"IF(OR($B69=\"\",$B69=\"加入しない\"),0,IF(ISERROR(HLOOKUP($B69,'保険料（月額保険料）'!$B$3:$DU$115,$B$13+3,FALSE))=TRUE,0,HLOOKUP($B69,'保険料（月額保険料）'!$B$3:$DU$115,$B$13+3,FALSE)))","v":0},0,null,null,null,null,null,null,null,null,null,null,null,null,null,null,null,null,null,{"$f":"IF(OR(B69=\"\",B69=\"加入しない\"),0,IF(ISERROR(HLOOKUP(B69,'保険料（控除対象）'!$B$3:$DU$115,$B13+3,FALSE))=TRUE,0,HLOOKUP(B69,'保険料（控除対象）'!$B$3:$DU$115,$B13+3,FALSE)))","v":0}]
["家族⑤ガン",null,null,{"$f":"IF(OR($B70=\"\",$B70=\"加入しない\"),0,IF(ISERROR(HLOOKUP($B70,'保険料（月額保険料）'!$B$3:$DU$115,$B$14+3,FALSE))=TRUE,0,HLOOKUP($B70,'保険料（月額保険料）'!$B$3:$DU$115,$B$14+3,FALSE)))","v":0},0,null,null,null,null,null,null,null,null,null,null,null,null,null,null,null,null,null,{"$f":"IF(OR(B70=\"\",B70=\"加入しない\"),0,IF(ISERROR(HLOOKUP(B70,'保険料（控除対象）'!$B$3:$DU$115,$B14+3,FALSE))=TRUE,0,HLOOKUP(B70,'保険料（控除対象）'!$B$3:$DU$115,$B14+3,FALSE)))","v":0}]
["家族⑥ガン",null,null,{"$f":"IF(OR($B71=\"\",$B71=\"加入しない\"),0,IF(ISERROR(HLOOKUP($B71,'保険料（月額保険料）'!$B$3:$DU$115,$B$15+3,FALSE))=TRUE,0,HLOOKUP($B71,'保険料（月額保険料）'!$B$3:$DU$115,$B$15+3,FALSE)))","v":0},0,null,null,null,null,null,null,null,null,null,null,null,null,null,null,null,null,null,{"$f":"IF(OR(B71=\"\",B71=\"加入しない\"),0,IF(ISERROR(HLOOKUP(B71,'保険料（控除対象）'!$B$3:$DU$115,$B15+3,FALSE))=TRUE,0,HLOOKUP(B71,'保険料（控除対象）'!$B$3:$DU$115,$B15+3,FALSE)))","v":0}]
["本人介護",null,null,{"$f":"IF($B72=\"加入不可\",0,IF($B72=\"\",0,IF(ISERROR(HLOOKUP($B72,'保険料（月額保険料）'!$B$3:$DU$115,$B2+3,FALSE))=TRUE,0,HLOOKUP($B72,'保険料（月額保険料）'!$B$3:$DU$115,$B2+3,FALSE))))","v":0},null,null,null,null,null,null,null,null,null,null,null,null,null,null,null,null,null,null,{"$f":"IF(B72=\"加入不可\",0,IF(B72=\"\",0,IF(ISERROR(HLOOKUP(B72,'保険料（控除対象）'!$B$3:$DU$115,$B$2+3,FALSE))=TRUE,0,HLOOKUP(B72,'保険料（控除対象）'!$B$3:$DU$115,$B$2+3,FALSE))))","v":0}]
["配偶者介護",null,null,{"$f":"IF($B73=\"加入不可\",0,IF($B73=\"\",0,IF(ISERROR(HLOOKUP($B73,'保険料（月額保険料）'!$B$3:$DU$115,$B9+3,FALSE))=TRUE,0,HLOOKUP($B73,'保険料（月額保険料）'!$B$3:$DU$115,$B9+3,FALSE))))","v":0},null,null,null,null,null,null,null,null,null,null,null,null,null,null,null,null,null,null,{"$f":"IF(B73=\"加入不可\",0,IF(B73=\"\",0,IF(ISERROR(HLOOKUP(B73,'保険料（控除対象）'!$B$3:$DU$115,$B9+3,FALSE))=TRUE,0,HLOOKUP(B73,'保険料（控除対象）'!$B$3:$DU$115,$B9+3,FALSE))))","v":0}]
["家族①介護",null,null,{"$f":"IF($B74=\"加入不可\",0,IF($B74=\"\",0,IF(ISERROR(HLOOKUP($B74,'保険料（月額保険料）'!$B$3:$DU$115,$B10+3,FALSE))=TRUE,0,HLOOKUP($B74,'保険料（月額保険料）'!$B$3:$DU$115,$B10+3,FALSE))))","v":0},null,null,null,null,null,null,null,null,null,null,null,null,null,null,null,null,null,null,{"$f":"IF(B74=\"加入不可\",0,IF(B74=\"\",0,IF(ISERROR(HLOOKUP(B74,'保険料（控除対象）'!$B$3:$DU$115,$B10+3,FALSE))=TRUE,0,HLOOKUP(B74,'保険料（控除対象）'!$B$3:$DU$115,$B10+3,FALSE))))","v":0}]
["家族②介護",null,null,{"$f":"IF($B75=\"加入不可\",0,IF($B75=\"\",0,IF(ISERROR(HLOOKUP($B75,'保険料（月額保険料）'!$B$3:$DU$115,$B11+3,FALSE))=TRUE,0,HLOOKUP($B75,'保険料（月額保険料）'!$B$3:$DU$115,$B11+3,FALSE))))","v":0},null,null,null,null,null,null,null,null,null,null,null,null,null,null,null,null,null,null,{"$f":"IF(B75=\"加入不可\",0,IF(B75=\"\",0,IF(ISERROR(HLOOKUP(B75,'保険料（控除対象）'!$B$3:$DU$115,$B11+3,FALSE))=TRUE,0,HLOOKUP(B75,'保険料（控除対象）'!$B$3:$DU$115,$B11+3,FALSE))))","v":0}]
["家族③介護",null,null,{"$f":"IF($B76=\"加入不可\",0,IF($B76=\"\",0,IF(ISERROR(HLOOKUP($B76,'保険料（月額保険料）'!$B$3:$DU$115,$B12+3,FALSE))=TRUE,0,HLOOKUP($B76,'保険料（月額保険料）'!$B$3:$DU$115,$B12+3,FALSE))))","v":0},null,null,null,null,null,null,null,null,null,null,null,null,null,null,null,null,null,null,{"$f":"IF(B76=\"加入不可\",0,IF(B76=\"\",0,IF(ISERROR(HLOOKUP(B76,'保険料（控除対象）'!$B$3:$DU$115,$B12+3,FALSE))=TRUE,0,HLOOKUP(B76,'保険料（控除対象）'!$B$3:$DU$115,$B12+3,FALSE))))","v":0}]
["家族④介護",null,null,{"$f":"IF($B77=\"加入不可\",0,IF($B77=\"\",0,IF(ISERROR(HLOOKUP($B77,'保険料（月額保険料）'!$B$3:$DU$115,$B13+3,FALSE))=TRUE,0,HLOOKUP($B77,'保険料（月額保険料）'!$B$3:$DU$115,$B13+3,FALSE))))","v":0},null,null,null,null,null,null,null,null,null,null,null,null,null,null,null,null,null,null,{"$f":"IF(B77=\"加入不可\",0,IF(B77=\"\",0,IF(ISERROR(HLOOKUP(B77,'保険料（控除対象）'!$B$3:$DU$115,$B13+3,FALSE))=TRUE,0,HLOOKUP(B77,'保険料（控除対象）'!$B$3:$DU$115,$B13+3,FALSE))))","v":0}]
["家族⑤介護",null,null,{"$f":"IF($B78=\"加入不可\",0,IF($B78=\"\",0,IF(ISERROR(HLOOKUP($B78,'保険料（月額保険料）'!$B$3:$DU$115,$B14+3,FALSE))=TRUE,0,HLOOKUP($B78,'保険料（月額保険料）'!$B$3:$DU$115,$B14+3,FALSE))))","v":0},null,null,null,null,null,null,null,null,null,null,null,null,null,null,null,null,null,null,{"$f":"IF(B78=\"加入不可\",0,IF(B78=\"\",0,IF(ISERROR(HLOOKUP(B78,'保険料（控除対象）'!$B$3:$DU$115,$B14+3,FALSE))=TRUE,0,HLOOKUP(B78,'保険料（控除対象）'!$B$3:$DU$115,$B14+3,FALSE))))","v":0}]
["家族⑥介護",null,null,{"$f":"IF($B79=\"加入不可\",0,IF($B79=\"\",0,IF(ISERROR(HLOOKUP($B79,'保険料（月額保険料）'!$B$3:$DU$115,$B15+3,FALSE))=TRUE,0,HLOOKUP($B79,'保険料（月額保険料）'!$B$3:$DU$115,$B15+3,FALSE))))","v":0},null,null,null,null,null,null,null,null,null,null,null,null,null,null,null,null,null,null,{"$f":"IF(B79=\"加入不可\",0,IF(B79=\"\",0,IF(ISERROR(HLOOKUP(B79,'保険料（控除対象）'!$B$3:$DU$115,$B15+3,FALSE))=TRUE,0,HLOOKUP(B79,'保険料（控除対象）'!$B$3:$DU$115,$B15+3,FALSE))))","v":0}]
["携行品",null,null,{"$f":"IF(B80=\"実費20万円限度(同居親族全員を保障)\",'保険料（月額保険料）'!$AK$4,IF(B80=\"実費20万円限度(ご本人のみ保障)\",'保険料（月額保険料）'!$AL$4,IF(B80=\"実費20万円限度(夫婦を保障)\",'保険料（月額保険料）'!$AM$4,0)))","v":0},null,null,null,null,null,null,null,null,null,null,null,null,null,null,null,null,null,null,{"$f":"IF(B80=\"実費20万円限度(同居親族全員を保障)\",'保険料（控除対象）'!$AK$4,IF(B80=\"実費20万円限度(ご本人のみ保障)\",'保険料（控除対象）'!$AK$4,0))","v":0}]
["ﾎｰﾙｲﾝﾜﾝ",null,{"$f":"IF(OR(B81=\"加入しない\",B81=\"\"),\"\",A81&MIDB(B81,5,2)&C82)","v":""},{"$f":"IF(OR(B81=\"実費20万円限度\",B81=\"実費50万円限度\",B81=\"実費80万円限度\"),HLOOKUP(C81,'保険料（月額保険料）'!$EG$3:$EU$115,2,FALSE),0)","v":0},null,null,null,null,null,null,null,null,null,null,null,null,null,null,null,null,null,null,{"$f":"IF(OR(B81=\"実費20万円限度\",B81=\"実費50万円限度\",B81=\"実費80万円限度\"),IF(ISERROR(HLOOKUP(C21,'保険料（控除対象）'!$B$3:$DU$115,2,FALSE))=TRUE,0,HLOOKUP(B81,'保険料（控除対象）'!$B$3:$DU$115,2,FALSE)),0)","v":0}]
["ﾎｰﾙｲﾝﾜﾝ",null,"本人型"]
["長期所得",null,{"$f":"IF(B83=\"5年型5万円\",\"長期所得5年型1\",IF(B83=\"5年型10万円\",\"長期所得5年型2\",IF(B83=\"60才型5万円\",\"長期所得60才型1\",IF(B83=\"60才型10万円\",\"長期所得60才型2\",\"\"))))","v":""},{"$f":"IF(C83=\"\",0,IF(ISERROR(HLOOKUP(C83,'保険料（月額保険料）'!B3:DU115,$B$2+3,FALSE))=TRUE,0,HLOOKUP(C83,'保険料（月額保険料）'!B3:DU115,$B$2+3,FALSE)))","v":0},null,null,null,null,null,null,null,null,null,null,null,null,null,null,null,null,null,null,{"$f":"IF(C83=\"\",0,IF(ISERROR(HLOOKUP(C83,'保険料（控除対象）'!$B$3:$DU$115,B2+3,FALSE))=TRUE,0,HLOOKUP(C83,'保険料（控除対象）'!$B$3:$DU$115,B2+3,FALSE)))","v":0}]
["検針業務賠償責任",null,null,{"$f":"IF(B84=\"加入する\",'保険料（月額保険料）'!$BI$4,0)","v":0},null,null,null,null,null,null,null,null,null,null,null,null,null,null,null,null,null,null,{"$f":"IF(B84=\"加入する\",'保険料（控除対象）'!$BI$4,0)","v":0}]
["ﾊﾝﾃﾞｨﾀｰﾐﾅﾙｾｯﾄ",null,{"$f":"IF(OR(B85=\"加入しない\",B85=\"\"),\"\",A85&MIDB(B85,5,2))","v":""},{"$f":"IF(OR(B85=\"実費30万円限度\",B85=\"実費50万円限度\"),HLOOKUP(C85,'保険料（月額保険料）'!$B$3:$DU$115,2,FALSE),0)","v":0},null,null,null,null,null,null,null,null,null,null,null,null,null,null,null,null,null,null,{"$f":"IF(OR(B85=\"実費30万円限度\",B85=\"実費50万円限度\"),HLOOKUP(C85,'保険料（控除対象）'!$B$3:$DU$115,2,FALSE),0)","v":0}]
[null,null,null,{"$f":"SUM(D2:D85,D88,D100,D102:D125,D134:D158)","v":0},null,null,null,null,null,null,null,null,null,null,null,null,null,null,null,null,null,null,{"$f":"SUM(W4,W16:W71,W83,W102:W125,W134:W157)","v":0}]
[]
["賃貸住宅保障",null,{"$f":"IF(B88=\"実費500万円限度\",\"借家人賠償保障500\",IF(B88=\"実費1,000万円限度\",\"借家人賠償保障1000\", IF(B88=\"実費2,000万円限度\",\"借家人賠償保障2000\",\"\")))","v":""},{"$f":"IF(OR(B88=\"実費500万円限度\",B88=\"実費1,000万円限度\",B88=\"実費2,000万円限度\"),HLOOKUP(C88,'保険料（月額保険料）'!$B$3:$DU$115,2,FALSE),0)","v":0},null,null,null,null,null,null,null,null,null,null,null,null,null,null,null,null,null,null,{"$f":"IF(OR(B88=\"実費500万円限度\",B88=\"実費1,000万円限度\",B88=\"実費2,000万円限度\"),HLOOKUP(C88,'保険料（控除対象）'!$B$3:$DU$115,2,FALSE),0)","v":0}]
[]
["本人生年月日",null,"未使用"]
["配偶者生年月日",null,"未使用"]
["家族①生年月日",null,"未使用"]
["家族②生年月日",null,"未使用"]
["家族③生年月日",null,"未使用"]
["家族④生年月日",null,"未使用"]
["家族⑤生年月日",null,"未使用"]
["家族⑥生年月日",null,"未使用"]
[]
[]
["借りもの賠償責任保障 ",null,{"$f":"IF(B100=\"加入する\",\"借りもの保障\",\"\")","v":""},{"$f":"IF(B100=\"加入する\",'保険料（月額保険料）'!$BU$4,0)","v":0},null,null,null,null,null,null,null,null,null,null,null,null,null,null,null,null,null,null,{"$f":"IF(B100=\"加入する\",'保険料（控除対象）'!$B$3:$DU$115,0)","v":0}]
[]
["本人三大疾病",null,null,{"$f":"IF(OR(B102=\"\",B102=\"加入しない\"),0,IF(ISERROR(HLOOKUP(B102,'保険料（月額保険料）'!$B$3:$DU$115,$B$2+3,FALSE))=TRUE,0,HLOOKUP(B102,'保険料（月額保険料）'!$B$3:$DU$115,$B$2+3,FALSE)))","v":0},{"$f":"IF($B102=\"3大疾病50万円\",50, IF($B102=\"3大疾病100万円\",100, IF($B102=\"3大疾病150万円\",150, IF($B102=\"3大疾病200万円\",200, IF($B102=\"3大疾病250万円\",250, IF($B102=\"3大疾病300万円\",300, IF($B102=\"3大疾病350万円\",350,0)))))))","v":0},null,null,null,null,null,null,null,null,null,null,null,null,null,null,null,null,null,{"$f":"IF(OR(B102=\"\",B102=\"加入しない\"),0,IF(ISERROR(HLOOKUP(B102,'保険料（控除対象）'!$B$3:$DU$115,$B$2+3,FALSE))=TRUE,0,HLOOKUP(B102,'保険料（控除対象）'!$B$3:$DU$115,$B$2+3,FALSE)))","v":0}]
["配偶者三大疾病",null,null,{"$f":"IF(OR(B103=\"\",B103=\"加入しない\"),0,IF(ISERROR(HLOOKUP(B103,'保険料（月額保険料）'!$B$3:$DU$115,$B9+3,FALSE))=TRUE,0,HLOOKUP(B103,'保険料（月額保険料）'!$B$3:$DU$115,$B9+3,FALSE)))","v":0},0,null,null,null,null,null,null,null,null,null,null,null,null,null,null,null,null,null,{"$f":"IF(OR(B103=\"\",B103=\"加入しない\"),0,IF(ISERROR(HLOOKUP(B103,'保険料（控除対象）'!$B$3:$DU$115,$B9+3,FALSE))=TRUE,0,HLOOKUP(B103,'保険料（控除対象）'!$B$3:$DU$115,$B9+3,FALSE)))","v":0}]
["家族①三大疾病",null,null,{"$f":"IF(OR(B104=\"\",B104=\"加入しない\"),0,IF(ISERROR(HLOOKUP(B104,'保険料（月額保険料）'!$B$3:$DU$115,$B10+3,FALSE))=TRUE,0,HLOOKUP(B104,'保険料（月額保険料）'!$B$3:$DU$115,$B10+3,FALSE)))","v":0},0,null,null,null,null,null,null,null,null,null,null,null,null,null,null,null,null,null,{"$f":"IF(OR(B104=\"\",B104=\"加入しない\"),0,IF(ISERROR(HLOOKUP(B104,'保険料（控除対象）'!$B$3:$DU$115,$B10+3,FALSE))=TRUE,0,HLOOKUP(B104,'保険料（控除対象）'!$B$3:$DU$115,$B10+3,FALSE)))","v":0}]
["家族②三大疾病",null,null,{"$f":"IF(OR(B105=\"\",B105=\"加入しない\"),0,IF(ISERROR(HLOOKUP(B105,'保険料（月額保険料）'!$B$3:$DU$115,$B11+3,FALSE))=TRUE,0,HLOOKUP(B105,'保険料（月額保険料）'!$B$3:$DU$115,$B11+3,FALSE)))","v":0},0,null,null,null,null,null,null,null,null,null,null,null,null,null,null,null,null,null,{"$f":"IF(OR(B105=\"\",B105=\"加入しない\"),0,IF(ISERROR(HLOOKUP(B105,'保険料（控除対象）'!$B$3:$DU$115,$B11+3,FALSE))=TRUE,0,HLOOKUP(B105,'保険料（控除対象）'!$B$3:$DU$115,$B11+3,FALSE)))","v":0}]
["家族③三大疾病",null,null,{"$f":"IF(OR(B106=\"\",B106=\"加入しない\"),0,IF(ISERROR(HLOOKUP(B106,'保険料（月額保険料）'!$B$3:$DU$115,$B12+3,FALSE))=TRUE,0,HLOOKUP(B106,'保険料（月額保険料）'!$B$3:$DU$115,$B12+3,FALSE)))","v":0},0,null,null,null,null,null,null,null,null,null,null,null,null,null,null,null,null,null,{"$f":"IF(OR(B106=\"\",B106=\"加入しない\"),0,IF(ISERROR(HLOOKUP(B106,'保険料（控除対象）'!$B$3:$DU$115,$B12+3,FALSE))=TRUE,0,HLOOKUP(B106,'保険料（控除対象）'!$B$3:$DU$115,$B12+3,FALSE)))","v":0}]
["家族④三大疾病",null,null,{"$f":"IF(OR(B107=\"\",B107=\"加入しない\"),0,IF(ISERROR(HLOOKUP(B107,'保険料（月額保険料）'!$B$3:$DU$115,$B13+3,FALSE))=TRUE,0,HLOOKUP(B107,'保険料（月額保険料）'!$B$3:$DU$115,$B13+3,FALSE)))","v":0},0,null,null,null,null,null,null,null,null,null,null,null,null,null,null,null,null,null,{"$f":"IF(OR(B107=\"\",B107=\"加入しない\"),0,IF(ISERROR(HLOOKUP(B107,'保険料（控除対象）'!$B$3:$DU$115,$B13+3,FALSE))=TRUE,0,HLOOKUP(B107,'保険料（控除対象）'!$B$3:$DU$115,$B13+3,FALSE)))","v":0}]
["家族⑤三大疾病",null,null,{"$f":"IF(OR(B108=\"\",B108=\"加入しない\"),0,IF(ISERROR(HLOOKUP(B108,'保険料（月額保険料）'!$B$3:$DU$115,$B14+3,FALSE))=TRUE,0,HLOOKUP(B108,'保険料（月額保険料）'!$B$3:$DU$115,$B14+3,FALSE)))","v":0},0,null,null,null,null,null,null,null,null,null,null,null,null,null,null,null,null,null,{"$f":"IF(OR(B108=\"\",B108=\"加入しない\"),0,IF(ISERROR(HLOOKUP(B108,'保険料（控除対象）'!$B$3:$DU$115,$B14+3,FALSE))=TRUE,0,HLOOKUP(B108,'保険料（控除対象）'!$B$3:$DU$115,$B14+3,FALSE)))","v":0}]
["家族⑥三大疾病",null,null,{"$f":"IF(OR(B109=\"\",B109=\"加入しない\"),0,IF(ISERROR(HLOOKUP(B109,'保険料（月額保険料）'!$B$3:$DU$115,$B15+3,FALSE))=TRUE,0,HLOOKUP(B109,'保険料（月額保険料）'!$B$3:$DU$115,$B15+3,FALSE)))","v":0},0,null,null,null,null,null,null,null,null,null,null,null,null,null,null,null,null,null,{"$f":"IF(OR(B109=\"\",B109=\"加入しない\"),0,IF(ISERROR(HLOOKUP(B109,'保険料（控除対象）'!$B$3:$DU$115,$B15+3,FALSE))=TRUE,0,HLOOKUP(B109,'保険料（控除対象）'!$B$3:$DU$115,$B15+3,FALSE)))","v":0}]
["本人介護年金",null,null,{"$f":"IF(OR(B110=\"\",B110=\"加入しない\"),0,IF(ISERROR(HLOOKUP(B110,'保険料（月額保険料）'!$B$3:$DU$115,$B$2+3,FALSE))=TRUE,0,HLOOKUP(B110,'保険料（月額保険料）'!$B$3:$DU$115,$B$2+3,FALSE)))","v":0},null,null,null,null,null,null,null,null,null,null,null,null,null,null,null,null,null,null,{"$f":"IF(OR(B110=\"\",B110=\"加入しない\"),0,IF(ISERROR(HLOOKUP(B110,'保険料（控除対象）'!$B$3:$DU$115,$B$2+3,FALSE))=TRUE,0,HLOOKUP(B110,'保険料（控除対象）'!$B$3:$DU$115,$B$2+3,FALSE)))","v":0}]
["配偶者介護年金",null,null,{"$f":"IF(OR(B111=\"\",B111=\"加入しない\"),0,IF(ISERROR(HLOOKUP(B111,'保険料（月額保険料）'!$B$3:$DU$115,$B9+3,FALSE))=TRUE,0,HLOOKUP(B111,'保険料（月額保険料）'!$B$3:$DU$115,$B9+3,FALSE)))","v":0},null,null,null,null,null,null,null,null,null,null,null,null,null,null,null,null,null,null,{"$f":"IF(OR(B111=\"\",B111=\"加入しない\"),0,IF(ISERROR(HLOOKUP(B111,'保険料（控除対象）'!$B$3:$DU$115,$B9+3,FALSE))=TRUE,0,HLOOKUP(B111,'保険料（控除対象）'!$B$3:$DU$115,$B9+3,FALSE)))","v":0}]
["家族①介護年金",null,null,{"$f":"IF(OR(B112=\"\",B112=\"加入しない\"),0,IF(ISERROR(HLOOKUP(B112,'保険料（月額保険料）'!$B$3:$DU$115,$B10+3,FALSE))=TRUE,0,HLOOKUP(B112,'保険料（月額保険料）'!$B$3:$DU$115,$B10+3,FALSE)))","v":0},null,null,null,null,null,null,null,null,null,null,null,null,null,null,null,null,null,null,{"$f":"IF(OR(B112=\"\",B112=\"加入しない\"),0,IF(ISERROR(HLOOKUP(B112,'保険料（控除対象）'!$B$3:$DU$115,$B10+3,FALSE))=TRUE,0,HLOOKUP(B112,'保険料（控除対象）'!$B$3:$DU$115,$B10+3,FALSE)))","v":0}]
["家族②介護年金",null,null,{"$f":"IF(OR(B113=\"\",B113=\"加入しない\"),0,IF(ISERROR(HLOOKUP(B113,'保険料（月額保険料）'!$B$3:$DU$115,$B11+3,FALSE))=TRUE,0,HLOOKUP(B113,'保険料（月額保険料）'!$B$3:$DU$115,$B11+3,FALSE)))","v":0},null,null,null,null,null,null,null,null,null,null,null,null,null,null,null,null,null,null,{"$f":"IF(OR(B113=\"\",B113=\"加入しない\"),0,IF(ISERROR(HLOOKUP(B113,'保険料（控除対象）'!$B$3:$DU$115,$B11+3,FALSE))=TRUE,0,HLOOKUP(B113,'保険料（控除対象）'!$B$3:$DU$115,$B11+3,FALSE)))","v":0}]
["家族③介護年金",null,null,{"$f":"IF(OR(B114=\"\",B114=\"加入しない\"),0,IF(ISERROR(HLOOKUP(B114,'保険料（月額保険料）'!$B$3:$DU$115,$B12+3,FALSE))=TRUE,0,HLOOKUP(B114,'保険料（月額保険料）'!$B$3:$DU$115,$B12+3,FALSE)))","v":0},null,null,null,null,null,null,null,null,null,null,null,null,null,null,null,null,null,null,{"$f":"IF(OR(B114=\"\",B114=\"加入しない\"),0,IF(ISERROR(HLOOKUP(B114,'保険料（控除対象）'!$B$3:$DU$115,$B12+3,FALSE))=TRUE,0,HLOOKUP(B114,'保険料（控除対象）'!$B$3:$DU$115,$B12+3,FALSE)))","v":0}]
["家族④介護年金",null,null,{"$f":"IF(OR(B115=\"\",B115=\"加入しない\"),0,IF(ISERROR(HLOOKUP(B115,'保険料（月額保険料）'!$B$3:$DU$115,$B13+3,FALSE))=TRUE,0,HLOOKUP(B115,'保険料（月額保険料）'!$B$3:$DU$115,$B13+3,FALSE)))","v":0},null,null,null,null,null,null,null,null,null,null,null,null,null,null,null,null,null,null,{"$f":"IF(OR(B115=\"\",B115=\"加入しない\"),0,IF(ISERROR(HLOOKUP(B115,'保険料（控除対象）'!$B$3:$DU$115,$B13+3,FALSE))=TRUE,0,HLOOKUP(B115,'保険料（控除対象）'!$B$3:$DU$115,$B13+3,FALSE)))","v":0}]
["家族⑤介護年金",null,null,{"$f":"IF(OR(B116=\"\",B116=\"加入しない\"),0,IF(ISERROR(HLOOKUP(B116,'保険料（月額保険料）'!$B$3:$DU$115,$B14+3,FALSE))=TRUE,0,HLOOKUP(B116,'保険料（月額保険料）'!$B$3:$DU$115,$B14+3,FALSE)))","v":0},null,null,null,null,null,null,null,null,null,null,null,null,null,null,null,null,null,null,{"$f":"IF(OR(B116=\"\",B116=\"加入しない\"),0,IF(ISERROR(HLOOKUP(B116,'保険料（控除対象）'!$B$3:$DU$115,$B14+3,FALSE))=TRUE,0,HLOOKUP(B116,'保険料（控除対象）'!$B$3:$DU$115,$B14+3,FALSE)))","v":0}]
["家族⑥介護年金",null,null,{"$f":"IF(OR(B117=\"\",B117=\"加入しない\"),0,IF(ISERROR(HLOOKUP(B117,'保険料（月額保険料）'!$B$3:$DU$115,$B15+3,FALSE))=TRUE,0,HLOOKUP(B117,'保険料（月額保険料）'!$B$3:$DU$115,$B15+3,FALSE)))","v":0},null,null,null,null,null,null,null,null,null,null,null,null,null,null,null,null,null,null,{"$f":"IF(OR(B117=\"\",B117=\"加入しない\"),0,IF(ISERROR(HLOOKUP(B117,'保険料（控除対象）'!$B$3:$DU$115,$B15+3,FALSE))=TRUE,0,HLOOKUP(B117,'保険料（控除対象）'!$B$3:$DU$115,$B15+3,FALSE)))","v":0}]
["本人抗ガン剤治療保障",null,{"$f":"IF(B118=\"月額5万円\",\"抗ガン剤治療保障5万円\",IF(B118=\"月額10万円\",\"抗ガン剤治療保障10万円\",\"\"))","v":""},{"$f":"IF(C118=\"加入不可\",0,IF(C118=\"\",0,IF(ISERROR(HLOOKUP(C118,'保険料（月額保険料）'!$B$3:$DU$115,$B$2+3,FALSE))=TRUE,0,HLOOKUP(C118,'保険料（月額保険料）'!$B$3:$DU$115,$B$2+3,FALSE))))","v":0},null,{"$f":"IF(E118<>0,E118 & \"万円\",\"\")","v":""},null,null,null,null,null,null,null,null,null,null,null,null,null,null,null,null,{"$f":"IF(C118=\"加入不可\",0,IF(C118=\"\",0,IF(ISERROR(HLOOKUP(C118,'保険料（控除対象）'!$B$3:$DU$115,$B$2+3,FALSE))=TRUE,0,HLOOKUP(C118,'保険料（控除対象）'!$B$3:$DU$115,$B$2+3,FALSE))))","v":0}]
["配偶者抗ガン剤治療保障",null,{"$f":"IF(B119=\"月額5万円\",\"抗ガン剤治療保障5万円\",IF(B119=\"月額10万円\",\"抗ガン剤治療保障10万円\",\"\"))","v":""},{"$f":"IF(C119=\"加入不可\",0,IF(C119=\"\",0,IF(ISERROR(HLOOKUP(C119,'保険料（月額保険料）'!$B$3:$DU$115,$B9+3,FALSE))=TRUE,0,HLOOKUP(C119,'保険料（月額保険料）'!$B$3:$DU$115,$B9+3,FALSE))))","v":0},null,"",null,null,null,null,null,null,null,null,null,null,null,null,null,null,null,null,{"$f":"IF(C119=\"加入不可\",0,IF(C119=\"\",0,IF(ISERROR(HLOOKUP(C119,'保険料（控除対象）'!$B$3:$DU$115,$B9+3,FALSE))=TRUE,0,HLOOKUP(C119,'保険料（控除対象）'!$B$3:$DU$115,$B9+3,FALSE))))","v":0}]
["家族①抗ガン剤治療保障",null,"",{"$f":"IF(C120=\"加入不可\",0,IF(C120=\"\",0,IF(ISERROR(HLOOKUP(C120,'保険料（月額保険料）'!$B$3:$DU$115,$B10+3,FALSE))=TRUE,0,HLOOKUP(C120,'保険料（月額保険料）'!$B$3:$DU$115,$B10+3,FALSE))))","v":0},null,"",null,null,null,null,null,null,null,null,null,null,null,null,null,null,null,null,{"$f":"IF(C120=\"加入不可\",0,IF(C120=\"\",0,IF(ISERROR(HLOOKUP(C120,'保険料（控除対象）'!$B$3:$DU$115,$B10+3,FALSE))=TRUE,0,HLOOKUP(C120,'保険料（控除対象）'!$B$3:$DU$115,$B10+3,FALSE))))","v":0}]
["家族②抗ガン剤治療保障",null,"",{"$f":"IF(C121=\"加入不可\",0,IF(C121=\"\",0,IF(ISERROR(HLOOKUP(C121,'保険料（月額保険料）'!$B$3:$DU$115,$B11+3,FALSE))=TRUE,0,HLOOKUP(C121,'保険料（月額保険料）'!$B$3:$DU$115,$B11+3,FALSE))))","v":0},null,"",null,null,null,null,null,null,null,null,null,null,null,null,null,null,null,null,{"$f":"IF(C121=\"加入不可\",0,IF(C121=\"\",0,IF(ISERROR(HLOOKUP(C121,'保険料（控除対象）'!$B$3:$DU$115,$B11+3,FALSE))=TRUE,0,HLOOKUP(C121,'保険料（控除対象）'!$B$3:$DU$115,$B11+3,FALSE))))","v":0}]
["家族③抗ガン剤治療保障",null,"",{"$f":"IF(C122=\"加入不可\",0,IF(C122=\"\",0,IF(ISERROR(HLOOKUP(C122,'保険料（月額保険料）'!$B$3:$DU$115,$B12+3,FALSE))=TRUE,0,HLOOKUP(C122,'保険料（月額保険料）'!$B$3:$DU$115,$B12+3,FALSE))))","v":0},null,"",null,null,null,null,null,null,null,null,null,null,null,null,null,null,null,null,{"$f":"IF(C122=\"加入不可\",0,IF(C122=\"\",0,IF(ISERROR(HLOOKUP(C122,'保険料（控除対象）'!$B$3:$DU$115,$B12+3,FALSE))=TRUE,0,HLOOKUP(C122,'保険料（控除対象）'!$B$3:$DU$115,$B12+3,FALSE))))","v":0}]
["家族④抗ガン剤治療保障",null,"",{"$f":"IF(C123=\"加入不可\",0,IF(C123=\"\",0,IF(ISERROR(HLOOKUP(C123,'保険料（月額保険料）'!$B$3:$DU$115,$B13+3,FALSE))=TRUE,0,HLOOKUP(C123,'保険料（月額保険料）'!$B$3:$DU$115,$B13+3,FALSE))))","v":0},null,"",null,null,null,null,null,null,null,null,null,null,null,null,null,null,null,null,{"$f":"IF(C123=\"加入不可\",0,IF(C123=\"\",0,IF(ISERROR(HLOOKUP(C123,'保険料（控除対象）'!$B$3:$DU$115,$B13+3,FALSE))=TRUE,0,HLOOKUP(C123,'保険料（控除対象）'!$B$3:$DU$115,$B13+3,FALSE))))","v":0}]
["家族⑤抗ガン剤治療保障",null,"",{"$f":"IF(C124=\"加入不可\",0,IF(C124=\"\",0,IF(ISERROR(HLOOKUP(C124,'保険料（月額保険料）'!$B$3:$DU$115,$B14+3,FALSE))=TRUE,0,HLOOKUP(C124,'保険料（月額保険料）'!$B$3:$DU$115,$B14+3,FALSE))))","v":0},null,"",null,null,null,null,null,null,null,null,null,null,null,null,null,null,null,null,{"$f":"IF(C124=\"加入不可\",0,IF(C124=\"\",0,IF(ISERROR(HLOOKUP(C124,'保険料（控除対象）'!$B$3:$DU$115,$B14+3,FALSE))=TRUE,0,HLOOKUP(C124,'保険料（控除対象）'!$B$3:$DU$115,$B14+3,FALSE))))","v":0}]
["家族⑥抗ガン剤治療保障",null,"",{"$f":"IF(C125=\"加入不可\",0,IF(C125=\"\",0,IF(ISERROR(HLOOKUP(C125,'保険料（月額保険料）'!$B$3:$DU$115,$B15+3,FALSE))=TRUE,0,HLOOKUP(C125,'保険料（月額保険料）'!$B$3:$DU$115,$B15+3,FALSE))))","v":0},null,"",null,null,null,null,null,null,null,null,null,null,null,null,null,null,null,null,{"$f":"IF(C125=\"加入不可\",0,IF(C125=\"\",0,IF(ISERROR(HLOOKUP(C125,'保険料（控除対象）'!$B$3:$DU$115,$B15+3,FALSE))=TRUE,0,HLOOKUP(C125,'保険料（控除対象）'!$B$3:$DU$115,$B15+3,FALSE))))","v":0}]
[]
["親族①続柄"]
["親族②続柄"]
["親族③続柄"]
["親族④続柄"]
["親族⑤続柄"]
["親族⑥続柄"]
[]
["本人入院一時金保障",null,{"$f":"IF(B134=\"4万円\",\"入院一時金4万\",IF(B134=\"2万円\",\"入院一時金2万\",\"\"))","v":""},{"$f":"IF(C134=\"\",0,IF(ISERROR(HLOOKUP(C134,'保険料（月額保険料）'!$B$3:$DU$115,$B$2+3,FALSE))=TRUE,0,HLOOKUP(C134,'保険料（月額保険料）'!$B$3:$DU$115,$B$2+3,FALSE)))","v":0},null,null,null,null,null,null,null,null,null,null,null,null,null,null,null,null,null,null,{"$f":"IF(C134=\"\",0,IF(ISERROR(HLOOKUP(C134,'保険料（控除対象）'!$B$3:$DU$115,$B$2+3,FALSE))=TRUE,0,HLOOKUP(C134,'保険料（控除対象）'!$B$3:$DU$115,$B$2+3,FALSE)))","v":0}]
["配偶者入院一時金保障",null,"",{"$f":"IF(C135=\"\",0,IF(ISERROR(HLOOKUP(C135,'保険料（月額保険料）'!$B$3:$DU$115,$B$9+3,FALSE))=TRUE,0,HLOOKUP(C135,'保険料（月額保険料）'!$B$3:$DU$115,$B$9+3,FALSE)))","v":0},null,null,null,null,null,null,null,null,null,null,null,null,null,null,null,null,null,null,{"$f":"IF(C135=\"\",0,IF(ISERROR(HLOOKUP(C135,'保険料（控除対象）'!$B$3:$DU$115,$B$9+3,FALSE))=TRUE,0,HLOOKUP(C135,'保険料（控除対象）'!$B$3:$DU$115,$B$9+3,FALSE)))","v":0}]
["家族①入院一時金保障",null,"",{"$f":"IF(C136=\"\",0,IF(ISERROR(HLOOKUP(C136,'保険料（月額保険料）'!$B$3:$DU$115,$B$10+3,FALSE))=TRUE,0,HLOOKUP(C136,'保険料（月額保険料）'!$B$3:$DU$115,$B$10+3,FALSE)))","v":0},null,null,null,null,null,null,null,null,null,null,null,null,null,null,null,null,null,null,{"$f":"IF(C136=\"\",0,IF(ISERROR(HLOOKUP(C136,'保険料（控除対象）'!$B$3:$DU$115,$B$10+3,FALSE))=TRUE,0,HLOOKUP(C136,'保険料（控除対象）'!$B$3:$DU$115,$B$10+3,FALSE)))","v":0}]
["家族②入院一時金保障",null,"",{"$f":"IF(C137=\"\",0,IF(ISERROR(HLOOKUP(C137,'保険料（月額保険料）'!$B$3:$DU$115,$B$11+3,FALSE))=TRUE,0,HLOOKUP(C137,'保険料（月額保険料）'!$B$3:$DU$115,$B$11+3,FALSE)))","v":0},null,null,null,null,null,null,null,null,null,null,null,null,null,null,null,null,null,null,{"$f":"IF(C137=\"\",0,IF(ISERROR(HLOOKUP(C137,'保険料（控除対象）'!$B$3:$DU$115,$B$11+3,FALSE))=TRUE,0,HLOOKUP(C137,'保険料（控除対象）'!$B$3:$DU$115,$B$11+3,FALSE)))","v":0}]
["家族③入院一時金保障",null,"",{"$f":"IF(C138=\"\",0,IF(ISERROR(HLOOKUP(C138,'保険料（月額保険料）'!$B$3:$DU$115,$B$12+3,FALSE))=TRUE,0,HLOOKUP(C138,'保険料（月額保険料）'!$B$3:$DU$115,$B$12+3,FALSE)))","v":0},null,null,null,null,null,null,null,null,null,null,null,null,null,null,null,null,null,null,{"$f":"IF(C138=\"\",0,IF(ISERROR(HLOOKUP(C138,'保険料（控除対象）'!$B$3:$DU$115,$B$12+3,FALSE))=TRUE,0,HLOOKUP(C138,'保険料（控除対象）'!$B$3:$DU$115,$B$12+3,FALSE)))","v":0}]
["家族④入院一時金保障",null,"",{"$f":"IF(C139=\"\",0,IF(ISERROR(HLOOKUP(C139,'保険料（月額保険料）'!$B$3:$DU$115,$B$13+3,FALSE))=TRUE,0,HLOOKUP(C139,'保険料（月額保険料）'!$B$3:$DU$115,$B$13+3,FALSE)))","v":0},null,null,null,null,null,null,null,null,null,null,null,null,null,null,null,null,null,null,{"$f":"IF(C139=\"\",0,IF(ISERROR(HLOOKUP(C139,'保険料（控除対象）'!$B$3:$DU$115,$B$13+3,FALSE))=TRUE,0,HLOOKUP(C139,'保険料（控除対象）'!$B$3:$DU$115,$B$13+3,FALSE)))","v":0}]
["家族⑤入院一時金保障",null,"",{"$f":"IF(C140=\"\",0,IF(ISERROR(HLOOKUP(C140,'保険料（月額保険料）'!$B$3:$DU$115,$B$14+3,FALSE))=TRUE,0,HLOOKUP(C140,'保険料（月額保険料）'!$B$3:$DU$115,$B$14+3,FALSE)))","v":0},null,null,null,null,null,null,null,null,null,null,null,null,null,null,null,null,null,null,{"$f":"IF(C140=\"\",0,IF(ISERROR(HLOOKUP(C140,'保険料（控除対象）'!$B$3:$DU$115,$B$14+3,FALSE))=TRUE,0,HLOOKUP(C140,'保険料（控除対象）'!$B$3:$DU$115,$B$14+3,FALSE)))","v":0}]
["家族⑥入院一時金保障",null,"",{"$f":"IF(C141=\"\",0,IF(ISERROR(HLOOKUP(C141,'保険料（月額保険料）'!$B$3:$DU$115,$B$15+3,FALSE))=TRUE,0,HLOOKUP(C141,'保険料（月額保険料）'!$B$3:$DU$115,$B$15+3,FALSE)))","v":0},null,null,null,null,null,null,null,null,null,null,null,null,null,null,null,null,null,null,{"$f":"IF(C141=\"\",0,IF(ISERROR(HLOOKUP(C141,'保険料（控除対象）'!$B$3:$DU$115,$B$15+3,FALSE))=TRUE,0,HLOOKUP(C141,'保険料（控除対象）'!$B$3:$DU$115,$B$15+3,FALSE)))","v":0}]
["本人介護一時金保障（要介護２・３コース）",null,{"$f":"IF(B142=\"100万円(要介護2)\",\"（要介護２）介護一時金100万円\",IF(B142=\"50万円(要介護2)\",\"（要介護２）介護一時金50万円\",IF(B142=\"100万円(要介護3)\",\"（要介護３）介護一時金100万円\",IF(B142=\"50万円(要介護3)\",\"（要介護３）介護一時金50万円\",\"\"))))","v":""},{"$f":"IF(C142=\"\",0,IF(ISERROR(HLOOKUP(C142,'保険料（月額保険料）'!$B$3:$EF$115,$B$2+3,FALSE))=TRUE,0,HLOOKUP(C142,'保険料（月額保険料）'!$B$3:$EF$115,$B$2+3,FALSE)))","v":0},null,null,null,null,null,null,null,null,null,null,null,null,null,null,null,null,null,null,{"$f":"IF(C142=\"\",0,IF(ISERROR(HLOOKUP(C142,'保険料（控除対象）'!$B$3:$EF$115,$B$2+3,FALSE))=TRUE,0,HLOOKUP(C142,'保険料（控除対象）'!$B$3:$EF$115,$B$2+3,FALSE)))","v":0}]
["配偶者介護一時金保障（要介護２・３コース）",null,{"$f":"IF(B143=\"100万円(要介護2)\",\"（要介護２）介護一時金100万円\",IF(B143=\"50万円(要介護2)\",\"（要介護２）介護一時金50万円\",IF(B143=\"100万円(要介護3)\",\"（要介護３）介護一時金100万円\",IF(B143=\"50万円(要介護3)\",\"（要介護３）介護一時金50万円\",\"\"))))","v":""},{"$f":"IF(C143=\"\",0,IF(ISERROR(HLOOKUP(C143,'保険料（月額保険料）'!$B$3:$EF$115,$B$9+3,FALSE))=TRUE,0,HLOOKUP(C143,'保険料（月額保険料）'!$B$3:$EF$115,$B$9+3,FALSE)))","v":0},null,null,null,null,null,null,null,null,null,null,null,null,null,null,null,null,null,null,{"$f":"IF(C143=\"\",0,IF(ISERROR(HLOOKUP(C143,'保険料（控除対象）'!$B$3:$EF$115,$B$9+3,FALSE))=TRUE,0,HLOOKUP(C143,'保険料（控除対象）'!$B$3:$EF$115,$B$9+3,FALSE)))","v":0}]
["家族①介護一時金保障（要介護２・３コース）",null,"",{"$f":"IF(C144=\"\",0,IF(ISERROR(HLOOKUP(C144,'保険料（月額保険料）'!$B$3:$EF$115,$B$10+3,FALSE))=TRUE,0,HLOOKUP(C144,'保険料（月額保険料）'!$B$3:$EF$115,$B$10+3,FALSE)))","v":0},null,null,null,null,null,null,null,null,null,null,null,null,null,null,null,null,null,null,{"$f":"IF(C144=\"\",0,IF(ISERROR(HLOOKUP(C144,'保険料（控除対象）'!$B$3:$EF$115,$B$10+3,FALSE))=TRUE,0,HLOOKUP(C144,'保険料（控除対象）'!$B$3:$EF$115,$B$10+3,FALSE)))","v":0}]
["家族②介護一時金保障（要介護２・３コース）",null,"",{"$f":"IF(C145=\"\",0,IF(ISERROR(HLOOKUP(C145,'保険料（月額保険料）'!$B$3:$EF$115,$B$11+3,FALSE))=TRUE,0,HLOOKUP(C145,'保険料（月額保険料）'!$B$3:$EF$115,$B$11+3,FALSE)))","v":0},null,null,null,null,null,null,null,null,null,null,null,null,null,null,null,null,null,null,{"$f":"IF(C145=\"\",0,IF(ISERROR(HLOOKUP(C145,'保険料（控除対象）'!$B$3:$EF$115,$B$11+3,FALSE))=TRUE,0,HLOOKUP(C145,'保険料（控除対象）'!$B$3:$EF$115,$B$11+3,FALSE)))","v":0}]
["家族③介護一時金保障（要介護２・３コース）",null,"",{"$f":"IF(C146=\"\",0,IF(ISERROR(HLOOKUP(C146,'保険料（月額保険料）'!$B$3:$EF$115,$B$12+3,FALSE))=TRUE,0,HLOOKUP(C146,'保険料（月額保険料）'!$B$3:$EF$115,$B$12+3,FALSE)))","v":0},null,null,null,null,null,null,null,null,null,null,null,null,null,null,null,null,null,null,{"$f":"IF(C146=\"\",0,IF(ISERROR(HLOOKUP(C146,'保険料（控除対象）'!$B$3:$EF$115,$B$12+3,FALSE))=TRUE,0,HLOOKUP(C146,'保険料（控除対象）'!$B$3:$EF$115,$B$12+3,FALSE)))","v":0}]
["家族④介護一時金保障（要介護２・３コース）",null,"",{"$f":"IF(C147=\"\",0,IF(ISERROR(HLOOKUP(C147,'保険料（月額保険料）'!$B$3:$EF$115,$B$13+3,FALSE))=TRUE,0,HLOOKUP(C147,'保険料（月額保険料）'!$B$3:$EF$115,$B$13+3,FALSE)))","v":0},null,null,null,null,null,null,null,null,null,null,null,null,null,null,null,null,null,null,{"$f":"IF(C147=\"\",0,IF(ISERROR(HLOOKUP(C147,'保険料（控除対象）'!$B$3:$EF$115,$B$13+3,FALSE))=TRUE,0,HLOOKUP(C147,'保険料（控除対象）'!$B$3:$EF$115,$B$13+3,FALSE)))","v":0}]
["家族⑤介護一時金保障（要介護２・３コース）",null,"",{"$f":"IF(C148=\"\",0,IF(ISERROR(HLOOKUP(C148,'保険料（月額保険料）'!$B$3:$EF$115,$B$14+3,FALSE))=TRUE,0,HLOOKUP(C148,'保険料（月額保険料）'!$B$3:$EF$115,$B$14+3,FALSE)))","v":0},null,null,null,null,null,null,null,null,null,null,null,null,null,null,null,null,null,null,{"$f":"IF(C148=\"\",0,IF(ISERROR(HLOOKUP(C148,'保険料（控除対象）'!$B$3:$EF$115,$B$14+3,FALSE))=TRUE,0,HLOOKUP(C148,'保険料（控除対象）'!$B$3:$EF$115,$B$14+3,FALSE)))","v":0}]
["家族⑥介護一時金保障（要介護２・３コース）",null,"",{"$f":"IF(C149=\"\",0,IF(ISERROR(HLOOKUP(C149,'保険料（月額保険料）'!$B$3:$EF$115,$B$15+3,FALSE))=TRUE,0,HLOOKUP(C149,'保険料（月額保険料）'!$B$3:$EF$115,$B$15+3,FALSE)))","v":0},null,null,null,null,null,null,null,null,null,null,null,null,null,null,null,null,null,null,{"$f":"IF(C149=\"\",0,IF(ISERROR(HLOOKUP(C149,'保険料（控除対象）'!$B$3:$EF$115,$B$15+3,FALSE))=TRUE,0,HLOOKUP(C149,'保険料（控除対象）'!$B$3:$EF$115,$B$15+3,FALSE)))","v":0}]
["本人成人病",null,null,{"$f":"IF(B150=\"\",0,IF(ISERROR(HLOOKUP(B150,'保険料（月額保険料）'!$B$3:$EF$115,$B$2+3,FALSE))=TRUE,0,HLOOKUP(B150,'保険料（月額保険料）'!$B$3:$EF$115,$B$2+3,FALSE)))","v":0},{"$f":"IF($B150=\"成人病50万円\",50, IF($B150=\"成人病100万円\",100, IF($B150=\"成人病150万円\",150, IF($B150=\"成人病200万円\",200, IF($B150=\"成人病250万円\",250, IF($B150=\"成人病300万円\",300, IF($B150=\"成人病350万円\",350,0)))))))","v":0},null,null,null,null,null,null,null,null,null,null,null,null,null,null,null,null,null,{"$f":"IF(B150=\"\",0,IF(ISERROR(HLOOKUP(B150,'保険料（控除対象）'!$B$3:$EF$115,$B$2+3,FALSE))=TRUE,0,HLOOKUP(B150,'保険料（控除対象）'!$B$3:$EF$115,$B$2+3,FALSE)))","v":0}]
["配偶者成人病",null,null,{"$f":"IF(B151=\"\",0,IF(ISERROR(HLOOKUP(B151,'保険料（月額保険料）'!$B$3:$EF$115,$B$9+3,FALSE))=TRUE,0,HLOOKUP(B151,'保険料（月額保険料）'!$B$3:$EF$115,$B$9+3,FALSE)))","v":0},{"$f":"IF($B151=\"成人病50万円\",50, IF($B151=\"成人病100万円\",100, IF($B151=\"成人病150万円\",150, IF($B151=\"成人病200万円\",200, IF($B151=\"成人病250万円\",250, IF($B151=\"成人病300万円\",300, IF($B151=\"成人病350万円\",350,0)))))))","v":0},null,null,null,null,null,null,null,null,null,null,null,null,null,null,null,null,null,{"$f":"IF(B151=\"\",0,IF(ISERROR(HLOOKUP(B151,'保険料（控除対象）'!$B$3:$EF$115,$B$9+3,FALSE))=TRUE,0,HLOOKUP(B151,'保険料（控除対象）'!$B$3:$EF$115,$B$9+3,FALSE)))","v":0}]
["家族①成人病",null,null,{"$f":"IF(B152=\"\",0,IF(ISERROR(HLOOKUP(B152,'保険料（月額保険料）'!$B$3:$EF$115,$B$10+3,FALSE))=TRUE,0,HLOOKUP(B152,'保険料（月額保険料）'!$B$3:$EF$115,$B$10+3,FALSE)))","v":0},0,null,null,null,null,null,null,null,null,null,null,null,null,null,null,null,null,null,{"$f":"IF(B152=\"\",0,IF(ISERROR(HLOOKUP(B152,'保険料（控除対象）'!$B$3:$EF$115,$B$10+3,FALSE))=TRUE,0,HLOOKUP(B152,'保険料（控除対象）'!$B$3:$EF$115,$B$10+3,FALSE)))","v":0}]
["家族②成人病",null,null,{"$f":"IF(B153=\"\",0,IF(ISERROR(HLOOKUP(B153,'保険料（月額保険料）'!$B$3:$EF$115,$B$11+3,FALSE))=TRUE,0,HLOOKUP(B153,'保険料（月額保険料）'!$B$3:$EF$115,$B$11+3,FALSE)))","v":0},0,null,null,null,null,null,null,null,null,null,null,null,null,null,null,null,null,null,{"$f":"IF(B153=\"\",0,IF(ISERROR(HLOOKUP(B153,'保険料（控除対象）'!$B$3:$EF$115,$B$11+3,FALSE))=TRUE,0,HLOOKUP(B153,'保険料（控除対象）'!$B$3:$EF$115,$B$11+3,FALSE)))","v":0}]
["家族③成人病",null,null,{"$f":"IF(B154=\"\",0,IF(ISERROR(HLOOKUP(B154,'保険料（月額保険料）'!$B$3:$EF$115,$B$12+3,FALSE))=TRUE,0,HLOOKUP(B154,'保険料（月額保険料）'!$B$3:$EF$115,$B$12+3,FALSE)))","v":0},0,null,null,null,null,null,null,null,null,null,null,null,null,null,null,null,null,null,{"$f":"IF(B154=\"\",0,IF(ISERROR(HLOOKUP(B154,'保険料（控除対象）'!$B$3:$EF$115,$B$12+3,FALSE))=TRUE,0,HLOOKUP(B154,'保険料（控除対象）'!$B$3:$EF$115,$B$12+3,FALSE)))","v":0}]
["家族④成人病",null,null,{"$f":"IF(B155=\"\",0,IF(ISERROR(HLOOKUP(B155,'保険料（月額保険料）'!$B$3:$EF$115,$B$13+3,FALSE))=TRUE,0,HLOOKUP(B155,'保険料（月額保険料）'!$B$3:$EF$115,$B$13+3,FALSE)))","v":0},0,null,null,null,null,null,null,null,null,null,null,null,null,null,null,null,null,null,{"$f":"IF(B155=\"\",0,IF(ISERROR(HLOOKUP(B155,'保険料（控除対象）'!$B$3:$EF$115,$B$13+3,FALSE))=TRUE,0,HLOOKUP(B155,'保険料（控除対象）'!$B$3:$EF$115,$B$13+3,FALSE)))","v":0}]
["家族⑤成人病",null,null,{"$f":"IF(B156=\"\",0,IF(ISERROR(HLOOKUP(B156,'保険料（月額保険料）'!$B$3:$EF$115,$B$14+3,FALSE))=TRUE,0,HLOOKUP(B156,'保険料（月額保険料）'!$B$3:$EF$115,$B$14+3,FALSE)))","v":0},0,null,null,null,null,null,null,null,null,null,null,null,null,null,null,null,null,null,{"$f":"IF(B156=\"\",0,IF(ISERROR(HLOOKUP(B156,'保険料（控除対象）'!$B$3:$EF$115,$B$14+3,FALSE))=TRUE,0,HLOOKUP(B156,'保険料（控除対象）'!$B$3:$EF$115,$B$14+3,FALSE)))","v":0}]
["家族⑥成人病",null,null,{"$f":"IF(B157=\"\",0,IF(ISERROR(HLOOKUP(B157,'保険料（月額保険料）'!$B$3:$EF$115,$B$15+3,FALSE))=TRUE,0,HLOOKUP(B157,'保険料（月額保険料）'!$B$3:$EF$115,$B$15+3,FALSE)))","v":0},0,null,null,null,null,null,null,null,null,null,null,null,null,null,null,null,null,null,{"$f":"IF(B157=\"\",0,IF(ISERROR(HLOOKUP(B157,'保険料（控除対象）'!$B$3:$EF$115,$B$15+3,FALSE))=TRUE,0,HLOOKUP(B157,'保険料（控除対象）'!$B$3:$EF$115,$B$15+3,FALSE)))","v":0}]
["ﾎｰﾙｲﾝﾜﾝ",null,{"$f":"IF(OR(B158=\"加入しない\",B158=\"\"),\"\",A158&MIDB(B158,5,2)&C159)","v":""},{"$f":"IF(OR(B158=\"実費20万円限度\",B158=\"実費50万円限度\",B158=\"実費80万円限度\"),HLOOKUP(C158,'保険料（月額保険料）'!$EG$3:$EU$115,2,FALSE),0)","v":0}]
["ﾎｰﾙｲﾝﾜﾝ",null,"配偶者型"]

{"sheet":"データ","index":4,"n_rows":278,"n_cols":48,"rows_kept":278,"cut":false,"hidden":true,"merged":[]}
["年齢","性別","口数","タイプ","所得保障","所得免責","妊娠","医療","医療ｼﾆｱ","手術","高度","通院","療養","ガン三大疾病","介護","携行品","ゴルフ補償額","ゴルフ型","長期所得","施設",null,null,"五大疾病","五大疾病ｼﾆｱ","ﾊﾝﾃﾞｨﾀｰﾐﾅﾙ補償額","借家人賠償保障","和暦(本人)","和暦(配偶者)","和暦(家族)","借りもの賠償責任保障","がん保障","がん保障ｼﾆｱ","三大疾病保障","三大疾病保障ｼﾆｱ","介護一時金","介護一時金ｼﾆｱ","介護年金","介護年金ｼﾆｱ","通院ｼﾆｱ","抗ガン剤治療保障","続柄","医療保障シニア","入院一時金保障","入院一時金ポップアップフラグ(0:非表示　1:表示)","介護一時金保障（要介護２・３コース）50歳未満","介護一時金保障（要介護２・３コース）55歳未満","介護一時金保障（要介護２・３コース）55歳以上","成人病保障"]
[null,null,null,null,null,null,"はい",null,null,null,null,null,null,null,null,null,null,null,null,null,null,null,null,null,null,null,"大正"]
[15,"男性","ﾌｧﾐﾘｰｾｯﾄ","1口","ｴｺﾉﾐｰ(月額 75,000円)","免責日数4日","いいえ","日額3,000円","日額3,000円","実費100万円限度","実費2000万円限度","日額3,000円","10万円","ｶﾞﾝ100万円","一時金(100万円)","実費20万円限度(同居親族全員を保障)","実費20万円限度","本人型","5年型5万円","加入する",100,null,"日額3,000円","日額3,000円","実費30万円限度","実費500万円限度","昭和","昭和","昭和","加入する","ｶﾞﾝ100万円","ｶﾞﾝ50万円","3大疾病100万円","3大疾病50万円","一時金100万円","一時金50万円","年金60万円","年金30万円","日額1,500円","月額5万円","同居の親",null,"4万円",0,"100万円(要介護2)","50万円(要介護2)","50万円(要介護2)","成人病50万円"]
[16,"女性","夫婦ｾｯﾄ","2口","ﾜｲﾄﾞ (月額150,000円)","免責日数7日",null,"日額6,000円","日額5,000円","加入しない","加入しない","加入しない","20万円","ｶﾞﾝ200万円","年金(年額60万円)","加入しない","実費50万円限度","夫婦型","5年型10万円","加入しない",200,null,"日額6,000円","日額5,000円","実費50万円限度","実費1,000万円限度","平成","平成","平成","加入しない","ｶﾞﾝ200万円","ｶﾞﾝ100万円","3大疾病200万円","3大疾病100万円","加入しない","一時金100万円","加入しない","年金60万円","日額3,000円","月額10万円","別居の親",null,"2万円",null,"加入しない","100万円(要介護2)","100万円(要介護2)","成人病100万円"]
[17,null,"ﾊﾟｰｿﾅﾙｾｯﾄ",null,"加入しない",null,null,"日額9,000円","加入しない",null,null,null,"加入しない","ｶﾞﾝ300万円","一時金+年金",null,"実費80万円限度",null,"60才型5万円",null,300,null,"加入しない","加入しない","加入しない","実費2,000万円限度",null,null,"令和",null,"ｶﾞﾝ300万円","ｶﾞﾝ150万円","3大疾病300万円","3大疾病150万円",null,"加入しない",null,"加入しない","加入しない","加入しない","親族",null,"加入しない",null,null,"加入しない","50万円(要介護3)","成人病150万円"]
[18,null,null,null,null,null,null,"加入しない",null,null,null,null,null,"3大疾病100万円","加入しない","実費20万円限度(ご本人のみ保障)","加入しない",null,"60才型10万円",null,null,100,null,null,null,"加入しない",null,null,null,null,"加入しない","ｶﾞﾝ200万円","加入しない","3大疾病200万円",null,null,null,null,null,null,null,null,null,null,null,null,"100万円(要介護3)","成人病200万円"]
[19,null,null,null,"ｴｺﾉﾐｰ(月額150,000円)",null,null,null,null,null,null,null,null,"3大疾病200万円","年金(年額60万円)","加入しない",null,null,"加入しない",null,null,200,null,null,null,null,null,null,null,null,null,"ｶﾞﾝ250万円",null,"3大疾病250万円",null,null,null,null,null,null,null,null,null,null,null,null,"加入しない","成人病250万円"]
[20,null,null,null,"ﾜｲﾄﾞ (月額300,000円)",null,null,null,null,null,null,null,null,"3大疾病300万円","加入しない",null,null,null,null,null,null,300,null,null,null,null,null,null,null,null,null,"ｶﾞﾝ300万円",null,"3大疾病300万円",null,null,null,null,null,null,null,null,null,null,null,null,null,"成人病300万円"]
[21,null,null,null,"加入しない",null,null,null,null,null,null,null,null,"ｶﾞﾝ100+3大疾100",null,"実費20万円限度(夫婦を保障)",null,null,"5年型5万円",null,100,100,null,null,null,null,null,null,null,null,null,"ｶﾞﾝ350万円",null,"3大疾病350万円",null,null,null,null,null,null,null,null,null,null,null,null,null,"成人病350万円"]
[22,null,null,null,null,null,null,null,null,null,null,null,null,"ｶﾞﾝ100+3大疾200",null,"加入しない",null,null,"5年型10万円",null,100,200,null,null,null,null,null,null,null,null,null,"加入しない",null,"加入しない",null,null,null,null,null,null,null,null,null,null,null,null,null,"加入しない"]
[23,null,null,null,"月額75,000円",null,null,null,null,null,null,null,null,"ｶﾞﾝ200+3大疾100",null,null,null,null,"加入しない",null,200,100]
[24,null,null,null,"月額150,000円",null,null,null,null,null,null,null,null,"加入しない"]
[25,null,null,null,"月額300,000円"]
[26,null,null,null,"加入しない"]
[27]
[28]
[29]
[30]
[31]
[32]
[33]
[34]
[35]
[36]
[37]
[38]
[39]
[40]
[41]
[42]
[43]
[44]
[45]
[46]
[47]
[48]
[49]
[50]
[51]
[52]
[53]
[54]
[55]
[56]
[57]
[58]
[59]
[60]
[61]
[62]
[63]
[64]
[65]
[66]
[67]
[68]
[69]
[70]
[71]
[72]
[73]
[74]
[75]
[76]
[77]
[78]
[79]
[80]
[81]
[82]
[83]
[84]
[85]
[86]
[87]
[88]
[89]
[90]
[91]
[92]
[93]
[94]
[95]
[96]
[97]
[98]
[99]
[100]
["101～"]
[]
[15]
[16]
[17]
[18]
[19]
[20]
[21]
[22]
[23]
[24]
[25]
[26]
[27]
[28]
[29]
[30]
[31]
[32]
[33]
[34]
[35]
[36]
[37]
[38]
[39]
[40]
[41]
[42]
[43]
[44]
[45]
[46]
[47]
[48]
[49]
[50]
[51]
[52]
[53]
[54]
[55]
[56]
[57]
[58]
[59]
[60]
[61]
[62]
[63]
[64]
[65]
[66]
[67]
[68]
[69]
[70]
[71]
[72]
[73]
[74]
[75]
[76]
[77]
[78]
[79]
[80]
[81]
[82]
[83]
[84]
[85]
[86]
[87]
[88]
[89]
[90]
[91]
[92]
[93]
[94]
[95]
[96]
[97]
[98]
[99]
[100]
[]
[0]
[1]
[2]
[3]
[4]
[5]
[6]
[7]
[8]
[9]
[10]
[11]
[12]
[13]
[14]
[15]
[16]
[17]
[18]
[19]
[20]
[21]
[22]
[23]
[24]
[25]
[26]
[27]
[28]
[29]
[30]
[31]
[32]
[33]
[34]
[35]
[36]
[37]
[38]
[39]
[40]
[41]
[42]
[43]
[44]
[45]
[46]
[47]
[48]
[49]
[50]
[51]
[52]
[53]
[54]
[55]
[56]
[57]
[58]
[59]
[60]
[61]
[62]
[63]
[64]
[65]
[66]
[67]
[68]
[69]
[70]
[71]
[72]
[73]
[74]
[75]
[76]
[77]
[78]
[79]
[80]
[81]
[82]
[83]
[84]
[85]
[86]
[87]
[88]
[89]
[90]
[91]
[92]
[93]
[94]
[95]
[96]
[97]
[98]
[99]
[100]

{"sheet":"保険料（月額保険料）","index":5,"n_rows":115,"n_cols":151,"rows_kept":115,"cut":false,"hidden":true,"merged":[]}
[null,"F1_1","F1_2","F1_3","S3_1","S5_1","FD_1","FD_2","G3_1","G5_1","F2_1","FA_1","FH_1","FB_1","F3_1","F3_2","FE_1","F5_1","×","F4_1","×","×","×","FF_1","F7_1","×","F6_1","×","×","×","FL_1","FK_1","FG_1","F8_1","FJ_1","FC_1","KF_1","KP_1","KS_1","HC2_1","HC5_1","HC8_1","H22_1","H25_1","H28_1","HP2_1","HP5_1","HP8_1","HF2_1","HF5_1","HF8_1","HS2_1","HS5_1","HS8_1","GN_1","GN_2","GM_1","GM_2","×","×","×","J3_1","J5_1","CP5_1","CP1_1","CP2_1","CF5_1","CF1_1","CF2_1","CS5_1","CS1_1","CS2_1","×","×","×","FS_1","FS_2","PS_1","PS_2","SC_1","SC_2","×","×","×","×","×","×","×","×","×","×","×","×","×","×","×","×","×","×","×","×","×","×","×","×","×","×","×","×","×","×","E4P_1","E4F_1","E7P_1","E7F_1","B4P_1","B4F_1","B7P_1","B7F_1","W4P_1","W4F_1","W7P_1","W7F_1","FN_1","FM_1","F8_1","FG_1","FP_1","FQ_1","FT_1","FU_1","×","FV_1","×","×","×","HP2_1","HP5_1","HP8_1","HF2_1","HF5_1","HF8_1","HS2_1","HS5_1","HS8_1","HK2_1","HK5_1","HK8_1","HH2_1","HH5_1","HH8_1"]
[null,"Iryo1","Iryo2","Iryo3","Iryo1","Iryo2","Godai1","Godai2","×","×","Shippei","Senshin","TaiinH","Taiin","Ryoyo1","Ryoyo2","Gan50","Gan100","Gan50Gan100","Gan200","Gan50Gan200","Gan100Gan200","Gan50Gan100Gan200","San50","San100","San50San100","San200","San50San200","San100San200","San50San100San200","Kougan5","Kougan10","Ichiji50","Ichiji","Nenkin30","Nenkin","KeikohinF","KeikohinP","KeikohinS","Hole20F","Hole50F","Hole80F","×","×","×","Hole20","Hole50","Hole80","×","×","×","×","×","×","Choki1","Choki2","Choki3","Choki4","×","×","Kenshin","Handi30","Handi50","shakuyanin500","shakuyanin1000","shakuyanin2000","×","×","×","×","×","×","×","×","×","Fam1","Fam2","Per1","Per2","Sen1","Sen2","E4","E7","B4","B7","W4","W7","Per1E4","Per1E7","Per1B4","Per1B7","Per1W4","Per1W7","Per2E4","Per2E7","Per2B4","Per2B7","Per2W4","Per2W7","Fam1E4","Fam1E7","Fam1B4","Fam1B7","Fam1W4","Fam1W7","Fam2E4","Fam2E7","Fam2B4","Fam2B7","Fam2W4","Fam2W7","×","×","×","×","×","×","×","×","×","×","×","×","Nyuuin2","Nyuuin4","Ichiji50Yo3","Ichiji100Yo3","Ichiji50Yo2","Ichiji100Yo2","Sei50","Sei100","Sei50Sei100","Sei200","Sei50Sei200","Sei100Sei200","Sei50Sei100Sei200","Hole20","Hole50","Hole80","×","×","×","×","×","×","HoleHaigu20","HoleHaigu50","HoleHaigu80","×","×","×"]
[null,"医療保障1","医療保障2","医療保障3","医療保障1シニア","医療保障2シニア","五大疾病入院保障1","五大疾病入院保障2","五大疾病入院保障1シニア","五大疾病入院保障2シニア","疾病手術保障","高度医療保障","疾病退院後通院保障1500","疾病退院後通院保障","療養保障1","療養保障2","ｶﾞﾝ50万円","ｶﾞﾝ100万円","ｶﾞﾝ150万円","ｶﾞﾝ200万円","ｶﾞﾝ250万円","ｶﾞﾝ300万円","ｶﾞﾝ350万円","3大疾病50万円","3大疾病100万円","3大疾病150万円","3大疾病200万円","3大疾病250万円","3大疾病300万円","3大疾病350万円","抗ガン剤治療保障5万円","抗ガン剤治療保障10万円","一時金50万円","一時金100万円","年金30万円","年金60万円","携行品F","携行品P","携行品S","ﾎｰﾙｲﾝﾜﾝ20夫婦型","ﾎｰﾙｲﾝﾜﾝ50夫婦型","ﾎｰﾙｲﾝﾜﾝ80夫婦型","ﾎｰﾙｲﾝﾜﾝ20夫婦型","ﾎｰﾙｲﾝﾜﾝ50夫婦型","ﾎｰﾙｲﾝﾜﾝ80夫婦型","ﾎｰﾙｲﾝﾜﾝ20本人型","ﾎｰﾙｲﾝﾜﾝ50本人型","ﾎｰﾙｲﾝﾜﾝ80本人型","ﾎｰﾙｲﾝﾜﾝ20本人型","ﾎｰﾙｲﾝﾜﾝ50本人型","ﾎｰﾙｲﾝﾜﾝ80本人型","ﾎｰﾙｲﾝﾜﾝ20本人型","ﾎｰﾙｲﾝﾜﾝ50本人型","ﾎｰﾙｲﾝﾜﾝ80本人型","長期所得5年型1","長期所得5年型2","長期所得60才型1","長期所得60才型2","施設賠","生産物","施設\n賠償\n責任","ﾊﾝﾃﾞｨﾀｰﾐﾅﾙｾｯﾄ30","ﾊﾝﾃﾞｨﾀｰﾐﾅﾙｾｯﾄ50","借家人賠償保障500","借家人賠償保障1000","借家人賠償保障2000","借家人賠償保障500","借家人賠償保障1000","借家人賠償保障2000","借家人賠償保障500","借家人賠償保障1000","借家人賠償保障2000","借りもの保障","借りもの保障","借りもの保障","ﾌｧﾐﾘｰ1","ﾌｧﾐﾘｰ2","ﾊﾟｰｿﾅﾙ1","ﾊﾟｰｿﾅﾙ2","ｼﾆｱ1","ｼﾆｱ2","ｴｺﾉﾐｰ4","ｴｺﾉﾐｰ7","ﾍﾞｰｼｯｸ4","ﾍﾞｰｼｯｸ7","ﾜｲﾄﾞ4","ﾜｲﾄﾞ7","ﾊﾟｰｿﾅﾙ1\nｴｺﾉﾐｰ4","ﾊﾟｰｿﾅﾙ1\nｴｺﾉﾐｰ7","ﾊﾟｰｿﾅﾙ1\nﾍﾞｰｼｯｸ4","ﾊﾟｰｿﾅﾙ1\nﾍﾞｰｼｯｸ7","ﾊﾟｰｿﾅﾙ1\nﾜｲﾄﾞ4","ﾊﾟｰｿﾅﾙ1\nﾜｲﾄﾞ7","ﾊﾟｰｿﾅﾙ2\nｴｺﾉﾐｰ4","ﾊﾟｰｿﾅﾙ2\nｴｺﾉﾐｰ7","ﾊﾟｰｿﾅﾙ2\nﾍﾞｰｼｯｸ4","ﾊﾟｰｿﾅﾙ2\nﾍﾞｰｼｯｸ7","ﾊﾟｰｿﾅﾙ2\nﾜｲﾄﾞ4","ﾊﾟｰｿﾅﾙ2\nﾜｲﾄﾞ7","ﾌｧﾐﾘｰ1\nｴｺﾉﾐｰ4","ﾌｧﾐﾘｰ1\nｴｺﾆﾐｰ7","ﾌｧﾐﾘｰ1\nﾍﾞｰｼｯｸ4","ﾌｧﾐﾘｰ1\nﾍﾞｰｼｯｸ7","ﾌｧﾐﾘｰ1\nﾜｲﾄﾞ4","ﾌｧﾐﾘｰ1\nﾜｲﾄﾞ7","ﾌｧﾐﾘｰ2\nｴｺﾉﾐｰ4","ﾌｧﾐﾘｰ2\nｴｺﾆﾐｰ7","ﾌｧﾐﾘｰ2\nﾍﾞｰｼｯｸ4","ﾌｧﾐﾘｰ2\nﾍﾞｰｼｯｸ7","ﾌｧﾐﾘｰ2\nﾜｲﾄﾞ4","ﾌｧﾐﾘｰ2\nﾜｲﾄﾞ7","Pｴｺﾉﾐｰ免責4日7.5万","Fｴｺﾉﾐｰ免責4日7.5万","Pｴｺﾉﾐｰ免責7日7.5万","Fｴｺﾉﾐｰ免責7日7.5万","Pﾍﾞｰｼｯｸ免責4日15万","Fﾍﾞｰｼｯｸ免責4日15万","Pﾍﾞｰｼｯｸ免責7日15万","Fﾍﾞｰｼｯｸ免責7日15万","Pﾜｲﾄﾞ免責4日30万","Fﾜｲﾄﾞ免責4日30万","Pﾜｲﾄﾞ免責7日30万","Fﾜｲﾄﾞ免責7日30万","入院一時金2万","入院一時金4万","（要介護３）介護一時金50万円","（要介護３）介護一時金100万円","（要介護２）介護一時金50万円","（要介護２）介護一時金100万円","成人病50万円","成人病100万円","成人病150万円","成人病200万円","成人病250万円","成人病300万円","成人病350万円","ﾎｰﾙｲﾝﾜﾝ20本人型","ﾎｰﾙｲﾝﾜﾝ50本人型","ﾎｰﾙｲﾝﾜﾝ80本人型","ﾎｰﾙｲﾝﾜﾝ20本人型","ﾎｰﾙｲﾝﾜﾝ50本人型","ﾎｰﾙｲﾝﾜﾝ80本人型","ﾎｰﾙｲﾝﾜﾝ20本人型","ﾎｰﾙｲﾝﾜﾝ50本人型","ﾎｰﾙｲﾝﾜﾝ80本人型","ﾎｰﾙｲﾝﾜﾝ20配偶者型","ﾎｰﾙｲﾝﾜﾝ50配偶者型","ﾎｰﾙｲﾝﾜﾝ80配偶者型","ﾎｰﾙｲﾝﾜﾝ20配偶者型","ﾎｰﾙｲﾝﾜﾝ50配偶者型","ﾎｰﾙｲﾝﾜﾝ80配偶者型"]
["ZZZ",null,null,null,null,null,null,null,null,null,null,null,null,null,null,null,null,null,null,null,null,null,null,null,null,null,null,null,null,null,null,null,null,null,null,null,250,160,200,null,null,null,null,null,null,null,null,null,null,null,null,null,null,null,null,null,null,null,null,null,null,null,null,120,230,450,120,230,450,120,230,450,null,null,null,null,null,null,null,null,null,null,null,null,null,null,null,null,null,null,null,null,null,null,null,null,null,null,null,null,null,null,null,null,null,null,null,null,null,null,null,null,null,null,null,null,null,null,null,null,null,null,null,null,null,null,null,null,null,null,null,null,null,null,null,null,120,290,470,120,290,470,120,290,470,140,310,490,140,310,490]
[0,270,510,750,null,null,10,20,null,null,60,60,40,80,70,140,null,10,null,30,null,40,null,null,null,null,null,null,null,null,30,70,null,null,60,110,null,null,null,null,null,null,null,null,null,null,null,null,null,null,null,null,null,null,null,null,null,null,null,null,null,null,null,null,null,null,null,null,null,null,null,null,null,null,null,null,null,null,null,null,null,null,null,null,null,null,null,null,null,null,null,null,null,null,null,null,null,null,null,null,null,null,null,null,null,null,null,null,null,null,null,null,null,null,null,null,null,null,null,null,null,null,null,70,140,null,null,null,10,20,30,50,60,80,90,110]
[1,270,510,750,null,null,10,20,null,null,60,60,40,80,70,140,null,10,null,30,null,40,null,null,null,null,null,null,null,null,30,70,null,null,60,110,null,null,null,null,null,null,null,null,null,null,null,null,null,null,null,null,null,null,null,null,null,null,null,null,null,null,null,null,null,null,null,null,null,null,null,null,null,null,null,null,null,null,null,null,null,null,null,null,null,null,null,null,null,null,null,null,null,null,null,null,null,null,null,null,null,null,null,null,null,null,null,null,null,null,null,null,null,null,null,null,null,null,null,null,null,null,null,70,140,null,null,null,10,20,30,50,60,80,90,110]
[2,270,510,750,null,null,10,20,null,null,60,60,40,80,70,140,null,10,null,30,null,40,null,null,null,null,null,null,null,null,30,70,null,null,60,110,null,null,null,null,null,null,null,null,null,null,null,null,null,null,null,null,null,null,null,null,null,null,null,null,null,null,null,null,null,null,null,null,null,null,null,null,null,null,null,null,null,null,null,null,null,null,null,null,null,null,null,null,null,null,null,null,null,null,null,null,null,null,null,null,null,null,null,null,null,null,null,null,null,null,null,null,null,null,null,null,null,null,null,null,null,null,null,70,140,null,null,null,10,20,30,50,60,80,90,110]
[3,270,510,750,null,null,10,20,null,null,60,60,40,80,70,140,null,10,null,30,null,40,null,null,null,null,null,null,null,null,30,70,null,null,60,110,null,null,null,null,null,null,null,null,null,null,null,null,null,null,null,null,null,null,null,null,null,null,null,null,null,null,null,null,null,null,null,null,null,null,null,null,null,null,null,null,null,null,null,null,null,null,null,null,null,null,null,null,null,null,null,null,null,null,null,null,null,null,null,null,null,null,null,null,null,null,null,null,null,null,null,null,null,null,null,null,null,null,null,null,null,null,null,70,140,null,null,null,10,20,30,50,60,80,90,110]
[4,270,510,750,null,null,10,20,null,null,60,60,40,80,70,140,null,10,null,30,null,40,null,null,null,null,null,null,null,null,30,70,null,null,60,110,null,null,null,null,null,null,null,null,null,null,null,null,null,null,null,null,null,null,null,null,null,null,null,null,null,null,null,null,null,null,null,null,null,null,null,null,null,null,null,null,null,null,null,null,null,null,null,null,null,null,null,null,null,null,null,null,null,null,null,null,null,null,null,null,null,null,null,null,null,null,null,null,null,null,null,null,null,null,null,null,null,null,null,null,null,null,null,70,140,null,null,null,10,20,30,50,60,80,90,110]
[5,180,350,520,null,null,10,20,null,null,60,60,10,30,50,100,null,10,null,30,null,40,null,null,null,null,null,null,null,null,30,70,null,null,60,110,null,null,null,null,null,null,null,null,null,null,null,null,null,null,null,null,null,null,null,null,null,null,null,null,null,null,null,null,null,null,null,null,null,null,null,null,null,null,null,null,null,null,null,null,null,null,null,null,null,null,null,null,null,null,null,null,null,null,null,null,null,null,null,null,null,null,null,null,null,null,null,null,null,null,null,null,null,null,null,null,null,null,null,null,null,null,null,40,90,null,null,null,10,20,30,50,60,80,90,110]
[6,180,350,520,null,null,10,20,null,null,60,60,10,30,50,100,null,10,null,30,null,40,null,null,null,null,null,null,null,null,30,70,null,null,60,110,null,null,null,null,null,null,null,null,null,null,null,null,null,null,null,null,null,null,null,null,null,null,null,null,null,null,null,null,null,null,null,null,null,null,null,null,null,null,null,null,null,null,null,null,null,null,null,null,null,null,null,null,null,null,null,null,null,null,null,null,null,null,null,null,null,null,null,null,null,null,null,null,null,null,null,null,null,null,null,null,null,null,null,null,null,null,null,40,90,null,null,null,10,20,30,50,60,80,90,110]
[7,180,350,520,null,null,10,20,null,null,60,60,10,30,50,100,null,10,null,30,null,40,null,null,null,null,null,null,null,null,30,70,null,null,60,110,null,null,null,null,null,null,null,null,null,null,null,null,null,null,null,null,null,null,null,null,null,null,null,null,null,null,null,null,null,null,null,null,null,null,null,null,null,null,null,null,null,null,null,null,null,null,null,null,null,null,null,null,null,null,null,null,null,null,null,null,null,null,null,null,null,null,null,null,null,null,null,null,null,null,null,null,null,null,null,null,null,null,null,null,null,null,null,40,90,null,null,null,10,20,30,50,60,80,90,110]
[8,180,350,520,null,null,10,20,null,null,60,60,10,30,50,100,null,10,null,30,null,40,null,null,null,null,null,null,null,null,30,70,null,null,60,110,null,null,null,null,null,null,null,null,null,null,null,null,null,null,null,null,null,null,null,null,null,null,null,null,null,null,null,null,null,null,null,null,null,null,null,null,null,null,null,null,null,null,null,null,null,null,null,null,null,null,null,null,null,null,null,null,null,null,null,null,null,null,null,null,null,null,null,null,null,null,null,null,null,null,null,null,null,null,null,null,null,null,null,null,null,null,null,40,90,null,null,null,10,20,30,50,60,80,90,110]
[9,180,350,520,null,null,10,20,null,null,60,60,10,30,50,100,null,10,null,30,null,40,null,null,null,null,null,null,null,null,30,70,null,null,60,110,null,null,null,null,null,null,null,null,null,null,null,null,null,null,null,null,null,null,null,null,null,null,null,null,null,null,null,null,null,null,null,null,null,null,null,null,null,null,null,null,null,null,null,null,null,null,null,null,null,null,null,null,null,null,null,null,null,null,null,null,null,null,null,null,null,null,null,null,null,null,null,null,null,null,null,null,null,null,null,null,null,null,null,null,null,null,null,40,90,null,null,null,10,20,30,50,60,80,90,110]
[10,170,330,490,null,null,10,20,null,null,70,60,10,20,60,120,null,10,null,30,null,40,null,null,null,null,null,null,null,null,40,70,null,null,60,110,null,null,null,null,null,null,null,null,null,null,null,null,null,null,null,null,null,null,null,null,null,null,null,null,null,null,null,null,null,null,null,null,null,null,null,null,null,null,null,null,null,null,null,null,null,null,null,null,null,null,null,null,null,null,null,null,null,null,null,null,null,null,null,null,null,null,null,null,null,null,null,null,null,null,null,null,null,null,null,null,null,null,null,null,null,null,null,40,100,null,null,null,10,20,30,50,70,90,100,120]
[11,170,330,490,null,null,10,20,null,null,70,60,10,20,60,120,null,10,null,30,null,40,null,null,null,null,null,null,null,null,40,70,null,null,60,110,null,null,null,null,null,null,null,null,null,null,null,null,null,null,null,null,null,null,null,null,null,null,null,null,null,null,null,null,null,null,null,null,null,null,null,null,null,null,null,null,null,null,null,null,null,null,null,null,null,null,null,null,null,null,null,null,null,null,null,null,null,null,null,null,null,null,null,null,null,null,null,null,null,null,null,null,null,null,null,null,null,null,null,null,null,null,null,40,100,null,null,null,10,20,30,50,70,90,100,120]
[12,170,330,490,null,null,10,20,null,null,70,60,10,20,60,120,null,10,null,30,null,40,null,null,null,null,null,null,null,null,40,70,null,null,60,110,null,null,null,null,null,null,null,null,null,null,null,null,null,null,null,null,null,null,null,null,null,null,null,null,null,null,null,null,null,null,null,null,null,null,null,null,null,null,null,null,null,null,null,null,null,null,null,null,null,null,null,null,null,null,null,null,null,null,null,null,null,null,null,null,null,null,null,null,null,null,null,null,null,null,null,null,null,null,null,null,null,null,null,null,null,null,null,40,100,null,null,null,10,20,30,50,70,90,100,120]
[13,170,330,490,null,null,10,20,null,null,70,60,10,20,60,120,null,10,null,30,null,40,null,null,null,null,null,null,null,null,40,70,null,null,60,110,null,null,null,null,null,null,null,null,null,null,null,null,null,null,null,null,null,null,null,null,null,null,null,null,null,null,null,null,null,null,null,null,null,null,null,null,null,null,null,null,null,null,null,null,null,null,null,null,null,null,null,null,null,null,null,null,null,null,null,null,null,null,null,null,null,null,null,null,null,null,null,null,null,null,null,null,null,null,null,null,null,null,null,null,null,null,null,40,100,null,null,null,10,20,30,50,70,90,100,120]
[14,170,330,490,null,null,10,20,null,null,70,60,10,20,60,120,null,10,null,30,null,40,null,null,null,null,null,null,null,null,40,70,null,null,60,110,null,null,null,null,null,null,null,null,null,null,null,null,null,null,null,null,null,null,null,null,null,null,null,null,null,null,null,null,null,null,null,null,null,null,null,null,null,null,null,null,null,null,null,null,null,null,null,null,null,null,null,null,null,null,null,null,null,null,null,null,null,null,null,null,null,null,null,null,null,null,null,null,null,null,null,null,null,null,null,null,null,null,null,null,null,null,null,40,100,null,null,null,10,20,30,50,70,90,100,120]
[15,210,410,610,null,null,10,20,null,null,80,60,10,20,90,180,null,10,null,30,null,40,null,null,null,null,null,null,null,null,30,70,null,null,60,110,null,null,null,null,null,null,null,null,null,null,null,null,null,null,null,null,null,null,71,142,170,340,null,null,null,null,null,null,null,null,null,null,null,null,null,null,null,null,null,2800,5500,850,1600,1530,2960,310,260,620,530,1230,1050,1160,1110,1470,1380,2080,1900,1910,1860,2220,2130,2830,2650,3110,3060,3420,3330,4030,3850,5810,5760,6120,6030,6730,6550,310,310,260,260,620,620,530,530,1230,1230,1050,1050,60,130,null,null,null,10,20,40,60,70,90,110,130]
[16,210,410,610,null,null,10,20,null,null,80,60,10,20,90,180,null,10,null,30,null,40,null,null,null,null,null,null,null,null,30,70,null,null,60,110,null,null,null,null,null,null,null,null,null,null,null,null,null,null,null,null,null,null,71,142,170,340,null,null,null,null,null,null,null,null,null,null,null,null,null,null,null,null,null,2800,5500,850,1600,1530,2960,310,260,620,530,1230,1050,1160,1110,1470,1380,2080,1900,1910,1860,2220,2130,2830,2650,3110,3060,3420,3330,4030,3850,5810,5760,6120,6030,6730,6550,310,310,260,260,620,620,530,530,1230,1230,1050,1050,60,130,null,null,null,10,20,40,60,70,90,110,130]
[17,210,410,610,null,null,10,20,null,null,80,60,10,20,90,180,null,10,null,30,null,40,null,null,null,null,null,null,null,null,30,70,null,null,60,110,null,null,null,null,null,null,null,null,null,null,null,null,null,null,null,null,null,null,71,142,170,340,null,null,null,null,null,null,null,null,null,null,null,null,null,null,null,null,null,2800,5500,850,1600,1530,2960,310,260,620,530,1230,1050,1160,1110,1470,1380,2080,1900,1910,1860,2220,2130,2830,2650,3110,3060,3420,3330,4030,3850,5810,5760,6120,6030,6730,6550,310,310,260,260,620,620,530,530,1230,1230,1050,1050,60,130,null,null,null,10,20,40,60,70,90,110,130]
[18,210,410,610,null,null,10,20,null,null,80,60,10,20,90,180,null,10,null,30,null,40,null,null,null,null,null,null,null,null,30,70,null,null,60,110,null,null,null,null,null,null,null,null,null,null,null,null,null,null,null,null,null,null,71,142,170,340,null,null,null,null,null,null,null,null,null,null,null,null,null,null,null,null,null,2800,5500,850,1600,1530,2960,310,260,620,530,1230,1050,1160,1110,1470,1380,2080,1900,1910,1860,2220,2130,2830,2650,3110,3060,3420,3330,4030,3850,5810,5760,6120,6030,6730,6550,310,310,260,260,620,620,530,530,1230,1230,1050,1050,60,130,null,null,null,10,20,40,60,70,90,110,130]
[19,210,410,610,null,null,10,20,null,null,80,60,10,20,90,180,null,10,null,30,null,40,null,null,null,null,null,null,null,null,30,70,null,null,60,110,null,null,null,null,null,null,null,null,null,null,null,null,null,null,null,null,null,null,71,142,170,340,null,null,null,null,null,null,null,null,null,null,null,null,null,null,null,null,null,2800,5500,850,1600,1530,2960,310,260,620,530,1230,1050,1160,1110,1470,1380,2080,1900,1910,1860,2220,2130,2830,2650,3110,3060,3420,3330,4030,3850,5810,5760,6120,6030,6730,6550,310,310,260,260,620,620,530,530,1230,1230,1050,1050,60,130,null,null,null,10,20,40,60,70,90,110,130]
[20,310,610,910,null,null,10,20,null,null,100,60,20,30,130,260,10,20,30,40,50,60,70,null,null,null,null,null,null,null,30,70,null,null,60,110,null,null,null,null,null,null,null,null,null,null,null,null,null,null,null,null,null,null,71,142,170,340,null,null,null,null,null,null,null,null,null,null,null,null,null,null,null,null,null,2800,5500,850,1600,1530,2960,430,370,880,740,1740,1470,1280,1220,1730,1590,2590,2320,2030,1970,2480,2340,3340,3070,3230,3170,3680,3540,4540,4270,5930,5870,6380,6240,7240,6970,430,430,370,370,880,880,740,740,1740,1740,1470,1470,100,210,null,null,null,10,30,50,80,100,130,150,180]
[21,310,610,910,null,null,10,20,null,null,100,60,20,30,130,260,10,20,30,40,50,60,70,null,null,null,null,null,null,null,30,70,null,null,60,110,null,null,null,null,null,null,null,null,null,null,null,null,null,null,null,null,null,null,71,142,170,340,null,null,null,null,null,null,null,null,null,null,null,null,null,null,null,null,null,2800,5500,850,1600,1530,2960,430,370,880,740,1740,1470,1280,1220,1730,1590,2590,2320,2030,1970,2480,2340,3340,3070,3230,3170,3680,3540,4540,4270,5930,5870,6380,6240,7240,6970,430,430,370,370,880,880,740,740,1740,1740,1470,1470,100,210,null,null,null,10,30,50,80,100,130,150,180]
[22,310,610,910,null,null,10,20,null,null,100,60,20,30,130,260,10,20,30,40,50,60,70,null,null,null,null,null,null,null,30,70,null,null,60,110,null,null,null,null,null,null,null,null,null,null,null,null,null,null,null,null,null,null,71,142,170,340,null,null,null,null,null,null,null,null,null,null,null,null,null,null,null,null,null,2800,5500,850,1600,1530,2960,430,370,880,740,1740,1470,1280,1220,1730,1590,2590,2320,2030,1970,2480,2340,3340,3070,3230,3170,3680,3540,4540,4270,5930,5870,6380,6240,7240,6970,430,430,370,370,880,880,740,740,1740,1740,1470,1470,100,210,null,null,null,10,30,50,80,100,130,150,180]
[23,310,610,910,null,null,10,20,null,null,100,60,20,30,130,260,10,20,30,40,50,60,70,null,null,null,null,null,null,null,30,70,null,null,60,110,null,null,null,null,null,null,null,null,null,null,null,null,null,null,null,null,null,null,71,142,170,340,null,null,null,null,null,null,null,null,null,null,null,null,null,null,null,null,null,2800,5500,850,1600,1530,2960,430,370,880,740,1740,1470,1280,1220,1730,1590,2590,2320,2030,1970,2480,2340,3340,3070,3230,3170,3680,3540,4540,4270,5930,5870,6380,6240,7240,6970,430,430,370,370,880,880,740,740,1740,1740,1470,1470,100,210,null,null,null,10,30,50,80,100,130,150,180]
[24,310,610,910,null,null,10,20,null,null,100,60,20,30,130,260,10,20,30,40,50,60,70,null,null,null,null,null,null,null,30,70,null,null,60,110,null,null,null,null,null,null,null,null,null,null,null,null,null,null,null,null,null,null,71,142,170,340,null,null,null,null,null,null,null,null,null,null,null,null,null,null,null,null,null,2800,5500,850,1600,1530,2960,430,370,880,740,1740,1470,1280,1220,1730,1590,2590,2320,2030,1970,2480,2340,3340,3070,3230,3170,3680,3540,4540,4270,5930,5870,6380,6240,7240,6970,430,430,370,370,880,880,740,740,1740,1740,1470,1470,100,210,null,null,null,10,30,50,80,100,130,150,180]
[25,330,640,950,null,null,10,20,null,null,120,60,20,50,120,240,30,60,90,130,160,190,220,null,null,null,null,null,null,null,60,110,null,null,50,100,null,null,null,null,null,null,null,null,null,null,null,null,null,null,null,null,null,null,82,164,187,374,null,null,null,null,null,null,null,null,null,null,null,null,null,null,null,null,null,2800,5500,850,1600,1530,2960,470,420,950,850,1890,1680,1320,1270,1800,1700,2740,2530,2070,2020,2550,2450,3490,3280,3270,3220,3750,3650,4690,4480,5970,5920,6450,6350,7390,7180,470,470,420,420,950,950,850,850,1890,1890,1680,1680,90,190,null,null,null,10,60,120,180,230,290,350,410]
[26,330,640,950,null,null,10,20,null,null,120,60,20,50,120,240,30,60,90,130,160,190,220,null,null,null,null,null,null,null,60,110,null,null,50,100,null,null,null,null,null,null,null,null,null,null,null,null,null,null,null,null,null,null,82,164,187,374,null,null,null,null,null,null,null,null,null,null,null,null,null,null,null,null,null,2800,5500,850,1600,1530,2960,470,420,950,850,1890,1680,1320,1270,1800,1700,2740,2530,2070,2020,2550,2450,3490,3280,3270,3220,3750,3650,4690,4480,5970,5920,6450,6350,7390,7180,470,470,420,420,950,950,850,850,1890,1890,1680,1680,90,190,null,null,null,10,60,120,180,230,290,350,410]
[27,330,640,950,null,null,10,20,null,null,120,60,20,50,120,240,30,60,90,130,160,190,220,null,null,null,null,null,null,null,60,110,null,null,50,100,null,null,null,null,null,null,null,null,null,null,null,null,null,null,null,null,null,null,82,164,187,374,null,null,null,null,null,null,null,null,null,null,null,null,null,null,null,null,null,2800,5500,850,1600,1530,2960,470,420,950,850,1890,1680,1320,1270,1800,1700,2740,2530,2070,2020,2550,2450,3490,3280,3270,3220,3750,3650,4690,4480,5970,5920,6450,6350,7390,7180,470,470,420,420,950,950,850,850,1890,1890,1680,1680,90,190,null,null,null,10,60,120,180,230,290,350,410]
[28,330,640,950,null,null,10,20,null,null,120,60,20,50,120,240,30,60,90,130,160,190,220,null,null,null,null,null,null,null,60,110,null,null,50,100,null,null,null,null,null,null,null,null,null,null,null,null,null,null,null,null,null,null,82,164,187,374,null,null,null,null,null,null,null,null,null,null,null,null,null,null,null,null,null,2800,5500,850,1600,1530,2960,470,420,950,850,1890,1680,1320,1270,1800,1700,2740,2530,2070,2020,2550,2450,3490,3280,3270,3220,3750,3650,4690,4480,5970,5920,6450,6350,7390,7180,470,470,420,420,950,950,850,850,1890,1890,1680,1680,90,190,null,null,null,10,60,120,180,230,290,350,410]
[29,330,640,950,null,null,10,20,null,null,120,60,20,50,120,240,30,60,90,130,160,190,220,null,null,null,null,null,null,null,60,110,null,null,50,100,null,null,null,null,null,null,null,null,null,null,null,null,null,null,null,null,null,null,82,164,187,374,null,null,null,null,null,null,null,null,null,null,null,null,null,null,null,null,null,2800,5500,850,1600,1530,2960,470,420,950,850,1890,1680,1320,1270,1800,1700,2740,2530,2070,2020,2550,2450,3490,3280,3270,3220,3750,3650,4690,4480,5970,5920,6450,6350,7390,7180,470,470,420,420,950,950,850,850,1890,1890,1680,1680,90,190,null,null,null,10,60,120,180,230,290,350,410]
[30,360,700,1040,null,null,30,60,null,null,140,60,30,60,130,260,60,120,180,250,310,370,430,null,null,null,null,null,null,null,90,180,null,null,50,90,null,null,null,null,null,null,null,null,null,null,null,null,null,null,null,null,null,null,114,228,225,450,null,null,null,null,null,null,null,null,null,null,null,null,null,null,null,null,null,2800,5500,850,1600,1530,2960,610,530,1220,1070,2430,2130,1460,1380,2070,1920,3280,2980,2210,2130,2820,2670,4030,3730,3410,3330,4020,3870,5230,4930,6110,6030,6720,6570,7930,7630,610,610,530,530,1220,1220,1070,1070,2430,2430,2130,2130,100,210,null,null,null,10,100,200,300,400,500,600,700]
[31,360,700,1040,null,null,30,60,null,null,140,60,30,60,130,260,60,120,180,250,310,370,430,null,null,null,null,null,null,null,90,180,null,null,50,90,null,null,null,null,null,null,null,null,null,null,null,null,null,null,null,null,null,null,114,228,225,450,null,null,null,null,null,null,null,null,null,null,null,null,null,null,null,null,null,2800,5500,850,1600,1530,2960,610,530,1220,1070,2430,2130,1460,1380,2070,1920,3280,2980,2210,2130,2820,2670,4030,3730,3410,3330,4020,3870,5230,4930,6110,6030,6720,6570,7930,7630,610,610,530,530,1220,1220,1070,1070,2430,2430,2130,2130,100,210,null,null,null,10,100,200,300,400,500,600,700]
[32,360,700,1040,null,null,30,60,null,null,140,60,30,60,130,260,60,120,180,250,310,370,430,null,null,null,null,null,null,null,90,180,null,null,50,90,null,null,null,null,null,null,null,null,null,null,null,null,null,null,null,null,null,null,114,228,225,450,null,null,null,null,null,null,null,null,null,null,null,null,null,null,null,null,null,2800,5500,850,1600,1530,2960,610,530,1220,1070,2430,2130,1460,1380,2070,1920,3280,2980,2210,2130,2820,2670,4030,3730,3410,3330,4020,3870,5230,4930,6110,6030,6720,6570,7930,7630,610,610,530,530,1220,1220,1070,1070,2430,2430,2130,2130,100,210,null,null,null,10,100,200,300,400,500,600,700]
[33,360,700,1040,null,null,30,60,null,null,140,60,30,60,130,260,60,120,180,250,310,370,430,null,null,null,null,null,null,null,90,180,null,null,50,90,null,null,null,null,null,null,null,null,null,null,null,null,null,null,null,null,null,null,114,228,225,450,null,null,null,null,null,null,null,null,null,null,null,null,null,null,null,null,null,2800,5500,850,1600,1530,2960,610,530,1220,1070,2430,2130,1460,1380,2070,1920,3280,2980,2210,2130,2820,2670,4030,3730,3410,3330,4020,3870,5230,4930,6110,6030,6720,6570,7930,7630,610,610,530,530,1220,1220,1070,1070,2430,2430,2130,2130,100,210,null,null,null,10,100,200,300,400,500,600,700]
[34,360,700,1040,null,null,30,60,null,null,140,60,30,60,130,260,60,120,180,250,310,370,430,null,null,null,null,null,null,null,90,180,null,null,50,90,null,null,null,null,null,null,null,null,null,null,null,null,null,null,null,null,null,null,114,228,225,450,null,null,null,null,null,null,null,null,null,null,null,null,null,null,null,null,null,2800,5500,850,1600,1530,2960,610,530,1220,1070,2430,2130,1460,1380,2070,1920,3280,2980,2210,2130,2820,2670,4030,3730,3410,3330,4020,3870,5230,4930,6110,6030,6720,6570,7930,7630,610,610,530,530,1220,1220,1070,1070,2430,2430,2130,2130,100,210,null,null,null,10,100,200,300,400,500,600,700]
[35,410,800,1190,null,null,60,120,null,null,170,60,20,50,160,320,100,200,300,390,490,590,690,null,null,null,null,null,null,null,100,200,null,null,40,80,null,null,null,null,null,null,null,null,null,null,null,null,null,null,null,null,null,null,153,306,283,566,null,null,null,null,null,null,null,null,null,null,null,null,null,null,null,null,null,2800,5500,850,1600,1530,2960,700,650,1400,1310,2790,2610,1550,1500,2250,2160,3640,3460,2300,2250,3000,2910,4390,4210,3500,3450,4200,4110,5590,5410,6200,6150,6900,6810,8290,8110,700,700,650,650,1400,1400,1310,1310,2790,2790,2610,2610,110,240,null,null,null,10,160,320,480,640,800,960,1120]
[36,410,800,1190,null,null,60,120,null,null,170,60,20,50,160,320,100,200,300,390,490,590,690,null,null,null,null,null,null,null,100,200,null,null,40,80,null,null,null,null,null,null,null,null,null,null,null,null,null,null,null,null,null,null,153,306,283,566,null,null,null,null,null,null,null,null,null,null,null,null,null,null,null,null,null,2800,5500,850,1600,1530,2960,700,650,1400,1310,2790,2610,1550,1500,2250,2160,3640,3460,2300,2250,3000,2910,4390,4210,3500,3450,4200,4110,5590,5410,6200,6150,6900,6810,8290,8110,700,700,650,650,1400,1400,1310,1310,2790,2790,2610,2610,110,240,null,null,null,10,160,320,480,640,800,960,1120]
[37,410,800,1190,null,null,60,120,null,null,170,60,20,50,160,320,100,200,300,390,490,590,690,null,null,null,null,null,null,null,100,200,null,null,40,80,null,null,null,null,null,null,null,null,null,null,null,null,null,null,null,null,null,null,153,306,283,566,null,null,null,null,null,null,null,null,null,null,null,null,null,null,null,null,null,2800,5500,850,1600,1530,2960,700,650,1400,1310,2790,2610,1550,1500,2250,2160,3640,3460,2300,2250,3000,2910,4390,4210,3500,3450,4200,4110,5590,5410,6200,6150,6900,6810,8290,8110,700,700,650,650,1400,1400,1310,1310,2790,2790,2610,2610,110,240,null,null,null,10,160,320,480,640,800,960,1120]
[38,410,800,1190,null,null,60,120,null,null,170,60,20,50,160,320,100,200,300,390,490,590,690,null,null,null,null,null,null,null,100,200,null,null,40,80,null,null,null,null,null,null,null,null,null,null,null,null,null,null,null,null,null,null,153,306,283,566,null,null,null,null,null,null,null,null,null,null,null,null,null,null,null,null,null,2800,5500,850,1600,1530,2960,700,650,1400,1310,2790,2610,1550,1500,2250,2160,3640,3460,2300,2250,3000,2910,4390,4210,3500,3450,4200,4110,5590,5410,6200,6150,6900,6810,8290,8110,700,700,650,650,1400,1400,1310,1310,2790,2790,2610,2610,110,240,null,null,null,10,160,320,480,640,800,960,1120]
[39,410,800,1190,null,null,60,120,null,null,170,60,20,50,160,320,100,200,300,390,490,590,690,null,null,null,null,null,null,null,100,200,null,null,40,80,null,null,null,null,null,null,null,null,null,null,null,null,null,null,null,null,null,null,153,306,283,566,null,null,null,null,null,null,null,null,null,null,null,null,null,null,null,null,null,2800,5500,850,1600,1530,2960,700,650,1400,1310,2790,2610,1550,1500,2250,2160,3640,3460,2300,2250,3000,2910,4390,4210,3500,3450,4200,4110,5590,5410,6200,6150,6900,6810,8290,8110,700,700,650,650,1400,1400,1310,1310,2790,2790,2610,2610,110,240,null,null,null,10,160,320,480,640,800,960,1120]
[40,490,960,1430,null,null,100,200,null,null,190,60,30,60,200,400,160,310,470,630,790,940,1100,null,null,null,null,null,null,null,220,440,null,null,40,70,null,null,null,null,null,null,null,null,null,null,null,null,null,null,null,null,null,null,221,442,393,786,null,null,null,null,null,null,null,null,null,null,null,null,null,null,null,null,null,2800,5500,850,1600,1530,2960,870,820,1750,1640,3480,3270,1720,1670,2600,2490,4330,4120,2470,2420,3350,3240,5080,4870,3670,3620,4550,4440,6280,6070,6370,6320,7250,7140,8980,8770,870,870,820,820,1750,1750,1640,1640,3480,3480,3270,3270,130,280,null,null,null,10,260,510,770,1030,1290,1540,1800]
[41,490,960,1430,null,null,100,200,null,null,190,60,30,60,200,400,160,310,470,630,790,940,1100,null,null,null,null,null,null,null,220,440,null,null,40,70,null,null,null,null,null,null,null,null,null,null,null,null,null,null,null,null,null,null,221,442,393,786,null,null,null,null,null,null,null,null,null,null,null,null,null,null,null,null,null,2800,5500,850,1600,1530,2960,870,820,1750,1640,3480,3270,1720,1670,2600,2490,4330,4120,2470,2420,3350,3240,5080,4870,3670,3620,4550,4440,6280,6070,6370,6320,7250,7140,8980,8770,870,870,820,820,1750,1750,1640,1640,3480,3480,3270,3270,130,280,null,null,null,10,260,510,770,1030,1290,1540,1800]
[42,490,960,1430,null,null,100,200,null,null,190,60,30,60,200,400,160,310,470,630,790,940,1100,null,null,null,null,null,null,null,220,440,null,null,40,70,null,null,null,null,null,null,null,null,null,null,null,null,null,null,null,null,null,null,221,442,393,786,null,null,null,null,null,null,null,null,null,null,null,null,null,null,null,null,null,2800,5500,850,1600,1530,2960,870,820,1750,1640,3480,3270,1720,1670,2600,2490,4330,4120,2470,2420,3350,3240,5080,4870,3670,3620,4550,4440,6280,6070,6370,6320,7250,7140,8980,8770,870,870,820,820,1750,1750,1640,1640,3480,3480,3270,3270,130,280,null,null,null,10,260,510,770,1030,1290,1540,1800]
[43,490,960,1430,null,null,100,200,null,null,190,60,30,60,200,400,160,310,470,630,790,940,1100,null,null,null,null,null,null,null,220,440,null,null,40,70,null,null,null,null,null,null,null,null,null,null,null,null,null,null,null,null,null,null,221,442,393,786,null,null,null,null,null,null,null,null,null,null,null,null,null,null,null,null,null,2800,5500,850,1600,1530,2960,870,820,1750,1640,3480,3270,1720,1670,2600,2490,4330,4120,2470,2420,3350,3240,5080,4870,3670,3620,4550,4440,6280,6070,6370,6320,7250,7140,8980,8770,870,870,820,820,1750,1750,1640,1640,3480,3480,3270,3270,130,280,null,null,null,10,260,510,770,1030,1290,1540,1800]
[44,490,960,1430,null,null,100,200,null,null,190,60,30,60,200,400,160,310,470,630,790,940,1100,null,null,null,null,null,null,null,220,440,null,null,40,70,null,null,null,null,null,null,null,null,null,null,null,null,null,null,null,null,null,null,221,442,393,786,null,null,null,null,null,null,null,null,null,null,null,null,null,null,null,null,null,2800,5500,850,1600,1530,2960,870,820,1750,1640,3480,3270,1720,1670,2600,2490,4330,4120,2470,2420,3350,3240,5080,4870,3670,3620,4550,4440,6280,6070,6370,6320,7250,7140,8980,8770,870,870,820,820,1750,1750,1640,1640,3480,3480,3270,3270,130,280,null,null,null,10,260,510,770,1030,1290,1540,1800]
[45,650,1230,1810,null,null,170,340,null,null,210,60,40,90,210,420,240,470,710,940,1180,1410,1650,null,null,null,null,null,null,null,370,740,null,null,70,140,null,null,null,null,null,null,null,null,null,null,null,null,null,null,null,null,null,null,329,658,516,1032,null,null,null,null,null,null,null,null,null,null,null,null,null,null,null,null,null,2800,5500,850,1600,1530,2960,1040,1000,2070,1980,4140,3960,1890,1850,2920,2830,4990,4810,2640,2600,3670,3580,5740,5560,3840,3800,4870,4780,6940,6760,6540,6500,7570,7480,9640,9460,1040,1040,1000,1000,2070,2070,1980,1980,4140,4140,3960,3960,140,290,null,null,null,10,380,750,1130,1510,1890,2260,2640]
[46,650,1230,1810,null,null,170,340,null,null,210,60,40,90,210,420,240,470,710,940,1180,1410,1650,null,null,null,null,null,null,null,370,740,null,null,70,140,null,null,null,null,null,null,null,null,null,null,null,null,null,null,null,null,null,null,329,658,516,1032,null,null,null,null,null,null,null,null,null,null,null,null,null,null,null,null,null,2800,5500,850,1600,1530,2960,1040,1000,2070,1980,4140,3960,1890,1850,2920,2830,4990,4810,2640,2600,3670,3580,5740,5560,3840,3800,4870,4780,6940,6760,6540,6500,7570,7480,9640,9460,1040,1040,1000,1000,2070,2070,1980,1980,4140,4140,3960,3960,140,290,null,null,null,10,380,750,1130,1510,1890,2260,2640]
[47,650,1230,1810,null,null,170,340,null,null,210,60,40,90,210,420,240,470,710,940,1180,1410,1650,null,null,null,null,null,null,null,370,740,null,null,70,140,null,null,null,null,null,null,null,null,null,null,null,null,null,null,null,null,null,null,329,658,516,1032,null,null,null,null,null,null,null,null,null,null,null,null,null,null,null,null,null,2800,5500,850,1600,1530,2960,1040,1000,2070,1980,4140,3960,1890,1850,2920,2830,4990,4810,2640,2600,3670,3580,5740,5560,3840,3800,4870,4780,6940,6760,6540,6500,7570,7480,9640,9460,1040,1040,1000,1000,2070,2070,1980,1980,4140,4140,3960,3960,140,290,null,null,null,10,380,750,1130,1510,1890,2260,2640]
[48,650,1230,1810,null,null,170,340,null,null,210,60,40,90,210,420,240,470,710,940,1180,1410,1650,null,null,null,null,null,null,null,370,740,null,null,70,140,null,null,null,null,null,null,null,null,null,null,null,null,null,null,null,null,null,null,329,658,516,1032,null,null,null,null,null,null,null,null,null,null,null,null,null,null,null,null,null,2800,5500,850,1600,1530,2960,1040,1000,2070,1980,4140,3960,1890,1850,2920,2830,4990,4810,2640,2600,3670,3580,5740,5560,3840,3800,4870,4780,6940,6760,6540,6500,7570,7480,9640,9460,1040,1040,1000,1000,2070,2070,1980,1980,4140,4140,3960,3960,140,290,null,null,null,10,380,750,1130,1510,1890,2260,2640]
[49,650,1230,1810,null,null,170,340,null,null,210,60,40,90,210,420,240,470,710,940,1180,1410,1650,null,null,null,null,null,null,null,370,740,null,null,70,140,null,null,null,null,null,null,null,null,null,null,null,null,null,null,null,null,null,null,329,658,516,1032,null,null,null,null,null,null,null,null,null,null,null,null,null,null,null,null,null,2800,5500,850,1600,1530,2960,1040,1000,2070,1980,4140,3960,1890,1850,2920,2830,4990,4810,2640,2600,3670,3580,5740,5560,3840,3800,4870,4780,6940,6760,6540,6500,7570,7480,9640,9460,1040,1040,1000,1000,2070,2070,1980,1980,4140,4140,3960,3960,140,290,null,null,null,10,380,750,1130,1510,1890,2260,2640]
[50,840,1580,2320,null,null,270,540,null,null,280,60,70,140,280,560,290,580,870,1160,1450,1740,2030,null,null,null,null,null,null,null,510,1010,null,null,130,260,null,null,null,null,null,null,null,null,null,null,null,null,null,null,null,null,null,null,525,1050,592,1184,null,null,null,null,null,null,null,null,null,null,null,null,null,null,null,null,null,2800,5500,850,1600,1530,2960,1160,1110,2330,2230,4650,4440,2010,1960,3180,3080,5500,5290,2760,2710,3930,3830,6250,6040,3960,3910,5130,5030,7450,7240,6660,6610,7830,7730,10150,9940,1160,1160,1110,1110,2330,2330,2230,2230,4650,4650,4440,4440,160,330,null,null,10,20,480,970,1450,1940,2420,2910,3390]
[51,840,1580,2320,null,null,270,540,null,null,280,60,70,140,280,560,290,580,870,1160,1450,1740,2030,null,null,null,null,null,null,null,510,1010,null,null,130,260,null,null,null,null,null,null,null,null,null,null,null,null,null,null,null,null,null,null,525,1050,592,1184,null,null,null,null,null,null,null,null,null,null,null,null,null,null,null,null,null,2800,5500,850,1600,1530,2960,1160,1110,2330,2230,4650,4440,2010,1960,3180,3080,5500,5290,2760,2710,3930,3830,6250,6040,3960,3910,5130,5030,7450,7240,6660,6610,7830,7730,10150,9940,1160,1160,1110,1110,2330,2330,2230,2230,4650,4650,4440,4440,160,330,null,null,10,20,480,970,1450,1940,2420,2910,3390]
[52,840,1580,2320,null,null,270,540,null,null,280,60,70,140,280,560,290,580,870,1160,1450,1740,2030,null,null,null,null,null,null,null,510,1010,null,null,130,260,null,null,null,null,null,null,null,null,null,null,null,null,null,null,null,null,null,null,525,1050,592,1184,null,null,null,null,null,null,null,null,null,null,null,null,null,null,null,null,null,2800,5500,850,1600,1530,2960,1160,1110,2330,2230,4650,4440,2010,1960,3180,3080,5500,5290,2760,2710,3930,3830,6250,6040,3960,3910,5130,5030,7450,7240,6660,6610,7830,7730,10150,9940,1160,1160,1110,1110,2330,2330,2230,2230,4650,4650,4440,4440,160,330,null,null,10,20,480,970,1450,1940,2420,2910,3390]
[53,840,1580,2320,null,null,270,540,null,null,280,60,70,140,280,560,290,580,870,1160,1450,1740,2030,null,null,null,null,null,null,null,510,1010,null,null,130,260,null,null,null,null,null,null,null,null,null,null,null,null,null,null,null,null,null,null,525,1050,592,1184,null,null,null,null,null,null,null,null,null,null,null,null,null,null,null,null,null,2800,5500,850,1600,1530,2960,1160,1110,2330,2230,4650,4440,2010,1960,3180,3080,5500,5290,2760,2710,3930,3830,6250,6040,3960,3910,5130,5030,7450,7240,6660,6610,7830,7730,10150,9940,1160,1160,1110,1110,2330,2330,2230,2230,4650,4650,4440,4440,160,330,null,null,10,20,480,970,1450,1940,2420,2910,3390]
[54,840,1580,2320,null,null,270,540,null,null,280,60,70,140,280,560,290,580,870,1160,1450,1740,2030,null,null,null,null,null,null,null,510,1010,null,null,130,260,null,null,null,null,null,null,null,null,null,null,null,null,null,null,null,null,null,null,525,1050,592,1184,null,null,null,null,null,null,null,null,null,null,null,null,null,null,null,null,null,2800,5500,850,1600,1530,2960,1160,1110,2330,2230,4650,4440,2010,1960,3180,3080,5500,5290,2760,2710,3930,3830,6250,6040,3960,3910,5130,5030,7450,7240,6660,6610,7830,7730,10150,9940,1160,1160,1110,1110,2330,2330,2230,2230,4650,4650,4440,4440,160,330,null,null,10,20,480,970,1450,1940,2420,2910,3390]
[55,1110,2070,3030,null,null,400,800,null,null,350,60,110,220,320,640,470,930,1400,1860,2330,2790,3260,null,null,null,null,null,null,null,550,1090,null,null,250,500,null,null,null,null,null,null,null,null,null,null,null,null,null,null,null,null,null,null,847,1694,585,1170,null,null,null,null,null,null,null,null,null,null,null,null,null,null,null,null,null,2800,5500,850,1600,1530,2960,1210,1180,2440,2360,4860,4710,2060,2030,3290,3210,5710,5560,2810,2780,4040,3960,6460,6310,4010,3980,5240,5160,7660,7510,6710,6680,7940,7860,10360,10210,1210,1210,1180,1180,2440,2440,2360,2360,4860,4860,4710,4710,180,370,20,40,30,60,730,1460,2190,2920,3650,4380,5110]
[56,1110,2070,3030,null,null,400,800,null,null,350,60,110,220,320,640,470,930,1400,1860,2330,2790,3260,null,null,null,null,null,null,null,550,1090,null,null,250,500,null,null,null,null,null,null,null,null,null,null,null,null,null,null,null,null,null,null,847,1694,585,1170,null,null,null,null,null,null,null,null,null,null,null,null,null,null,null,null,null,2800,5500,850,1600,1530,2960,1210,1180,2440,2360,4860,4710,2060,2030,3290,3210,5710,5560,2810,2780,4040,3960,6460,6310,4010,3980,5240,5160,7660,7510,6710,6680,7940,7860,10360,10210,1210,1210,1180,1180,2440,2440,2360,2360,4860,4860,4710,4710,180,370,20,40,30,60,730,1460,2190,2920,3650,4380,5110]
[57,1110,2070,3030,null,null,400,800,null,null,350,60,110,220,320,640,470,930,1400,1860,2330,2790,3260,null,null,null,null,null,null,null,550,1090,null,null,250,500,null,null,null,null,null,null,null,null,null,null,null,null,null,null,null,null,null,null,847,1694,585,1170,null,null,null,null,null,null,null,null,null,null,null,null,null,null,null,null,null,2800,5500,850,1600,1530,2960,1210,1180,2440,2360,4860,4710,2060,2030,3290,3210,5710,5560,2810,2780,4040,3960,6460,6310,4010,3980,5240,5160,7660,7510,6710,6680,7940,7860,10360,10210,1210,1210,1180,1180,2440,2440,2360,2360,4860,4860,4710,4710,180,370,20,40,30,60,730,1460,2190,2920,3650,4380,5110]
[58,1110,2070,3030,null,null,400,800,null,null,350,60,110,220,320,640,470,930,1400,1860,2330,2790,3260,null,null,null,null,null,null,null,550,1090,null,null,250,500,null,null,null,null,null,null,null,null,null,null,null,null,null,null,null,null,null,null,847,1694,585,1170,null,null,null,null,null,null,null,null,null,null,null,null,null,null,null,null,null,2800,5500,850,1600,1530,2960,1210,1180,2440,2360,4860,4710,2060,2030,3290,3210,5710,5560,2810,2780,4040,3960,6460,6310,4010,3980,5240,5160,7660,7510,6710,6680,7940,7860,10360,10210,1210,1210,1180,1180,2440,2440,2360,2360,4860,4860,4710,4710,180,370,20,40,30,60,730,1460,2190,2920,3650,4380,5110]
[59,1110,2070,3030,null,null,400,800,null,null,350,60,110,220,320,640,470,930,1400,1860,2330,2790,3260,null,null,null,null,null,null,null,550,1090,null,null,250,500,null,null,null,null,null,null,null,null,null,null,null,null,null,null,null,null,null,null,847,1694,585,1170,null,null,null,null,null,null,null,null,null,null,null,null,null,null,null,null,null,2800,5500,850,1600,1530,2960,1210,1180,2440,2360,4860,4710,2060,2030,3290,3210,5710,5560,2810,2780,4040,3960,6460,6310,4010,3980,5240,5160,7660,7510,6710,6680,7940,7860,10360,10210,1210,1210,1180,1180,2440,2440,2360,2360,4860,4860,4710,4710,180,370,20,40,30,60,730,1460,2190,2920,3650,4380,5110]
[60,1430,2660,3890,null,null,570,1140,null,null,470,60,170,350,410,820,910,1820,2730,3640,4550,5460,6370,null,null,null,null,null,null,null,620,1230,null,null,450,900,null,null,null,null,null,null,null,null,null,null,null,null,null,null,null,null,null,null,1399,2798,null,null,null,null,null,null,null,null,null,null,null,null,null,null,null,null,null,null,null,2800,5500,850,1600,1530,2960,1250,1220,2510,2430,5010,4860,2100,2070,3360,3280,5860,5710,2850,2820,4110,4030,6610,6460,4050,4020,5310,5230,7810,7660,6750,6720,8010,7930,10510,10360,1250,1250,1220,1220,2510,2510,2430,2430,5010,5010,4860,4860,210,430,40,90,60,130,1300,2600,3900,5210,6510,7810,9110]
[61,1430,2660,3890,null,null,570,1140,null,null,470,60,170,350,410,820,910,1820,2730,3640,4550,5460,6370,null,null,null,null,null,null,null,620,1230,null,null,450,900,null,null,null,null,null,null,null,null,null,null,null,null,null,null,null,null,null,null,1399,2798,null,null,null,null,null,null,null,null,null,null,null,null,null,null,null,null,null,null,null,2800,5500,850,1600,1530,2960,1250,1220,2510,2430,5010,4860,2100,2070,3360,3280,5860,5710,2850,2820,4110,4030,6610,6460,4050,4020,5310,5230,7810,7660,6750,6720,8010,7930,10510,10360,1250,1250,1220,1220,2510,2510,2430,2430,5010,5010,4860,4860,210,430,40,90,60,130,1300,2600,3900,5210,6510,7810,9110]
[62,1430,2660,3890,null,null,570,1140,null,null,470,60,170,350,410,820,910,1820,2730,3640,4550,5460,6370,null,null,null,null,null,null,null,620,1230,null,null,450,900,null,null,null,null,null,null,null,null,null,null,null,null,null,null,null,null,null,null,1399,2798,null,null,null,null,null,null,null,null,null,null,null,null,null,null,null,null,null,null,null,2800,5500,850,1600,1530,2960,1250,1220,2510,2430,5010,4860,2100,2070,3360,3280,5860,5710,2850,2820,4110,4030,6610,6460,4050,4020,5310,5230,7810,7660,6750,6720,8010,7930,10510,10360,1250,1250,1220,1220,2510,2510,2430,2430,5010,5010,4860,4860,210,430,40,90,60,130,1300,2600,3900,5210,6510,7810,9110]
[63,1430,2660,3890,null,null,570,1140,null,null,470,60,170,350,410,820,910,1820,2730,3640,4550,5460,6370,null,null,null,null,null,null,null,620,1230,null,null,450,900,null,null,null,null,null,null,null,null,null,null,null,null,null,null,null,null,null,null,1399,2798,null,null,null,null,null,null,null,null,null,null,null,null,null,null,null,null,null,null,null,2800,5500,850,1600,1530,2960,1250,1220,2510,2430,5010,4860,2100,2070,3360,3280,5860,5710,2850,2820,4110,4030,6610,6460,4050,4020,5310,5230,7810,7660,6750,6720,8010,7930,10510,10360,1250,1250,1220,1220,2510,2510,2430,2430,5010,5010,4860,4860,210,430,40,90,60,130,1300,2600,3900,5210,6510,7810,9110]
[64,1430,2660,3890,null,null,570,1140,null,null,470,60,170,350,410,820,910,1820,2730,3640,4550,5460,6370,null,null,null,null,null,null,null,620,1230,null,null,450,900,null,null,null,null,null,null,null,null,null,null,null,null,null,null,null,null,null,null,1399,2798,null,null,null,null,null,null,null,null,null,null,null,null,null,null,null,null,null,null,null,2800,5500,850,1600,1530,2960,1250,1220,2510,2430,5010,4860,2100,2070,3360,3280,5860,5710,2850,2820,4110,4030,6610,6460,4050,4020,5310,5230,7810,7660,6750,6720,8010,7930,10510,10360,1250,1250,1220,1220,2510,2510,2430,2430,5010,5010,4860,4860,210,430,40,90,60,130,1300,2600,3900,5210,6510,7810,9110]
[65,1850,3420,4990,null,null,760,1520,null,null,590,60,280,570,470,940,1220,2440,3660,4890,6110,7330,8550,null,null,null,null,null,null,null,770,1550,null,null,840,1690,null,null,null,null,null,null,null,null,null,null,null,null,null,null,null,null,null,null,null,null,null,null,null,null,null,null,null,null,null,null,null,null,null,null,null,null,null,null,null,2800,5500,850,1600,1530,2960,1530,1490,3050,2980,6090,5940,2380,2340,3900,3830,6940,6790,3130,3090,4650,4580,7690,7540,4330,4290,5850,5780,8890,8740,7030,6990,8550,8480,11590,11440,1530,1530,1490,1490,3050,3050,2980,2980,6090,6090,5940,5940,230,470,100,200,150,300,1800,3600,5400,7200,9000,10800,12600]
[66,1850,3420,4990,null,null,760,1520,null,null,590,60,280,570,470,940,1220,2440,3660,4890,6110,7330,8550,null,null,null,null,null,null,null,770,1550,null,null,840,1690,null,null,null,null,null,null,null,null,null,null,null,null,null,null,null,null,null,null,null,null,null,null,null,null,null,null,null,null,null,null,null,null,null,null,null,null,null,null,null,2800,5500,850,1600,1530,2960,1530,1490,3050,2980,6090,5940,2380,2340,3900,3830,6940,6790,3130,3090,4650,4580,7690,7540,4330,4290,5850,5780,8890,8740,7030,6990,8550,8480,11590,11440,1530,1530,1490,1490,3050,3050,2980,2980,6090,6090,5940,5940,230,470,100,200,150,300,1800,3600,5400,7200,9000,10800,12600]
[67,1850,3420,4990,null,null,760,1520,null,null,590,60,280,570,470,940,1220,2440,3660,4890,6110,7330,8550,null,null,null,null,null,null,null,770,1550,null,null,840,1690,null,null,null,null,null,null,null,null,null,null,null,null,null,null,null,null,null,null,null,null,null,null,null,null,null,null,null,null,null,null,null,null,null,null,null,null,null,null,null,2800,5500,850,1600,1530,2960,1530,1490,3050,2980,6090,5940,2380,2340,3900,3830,6940,6790,3130,3090,4650,4580,7690,7540,4330,4290,5850,5780,8890,8740,7030,6990,8550,8480,11590,11440,1530,1530,1490,1490,3050,3050,2980,2980,6090,6090,5940,5940,230,470,100,200,150,300,1800,3600,5400,7200,9000,10800,12600]
[68,1850,3420,4990,null,null,760,1520,null,null,590,60,280,570,470,940,1220,2440,3660,4890,6110,7330,8550,null,null,null,null,null,null,null,770,1550,null,null,840,1690,null,null,null,null,null,null,null,null,null,null,null,null,null,null,null,null,null,null,null,null,null,null,null,null,null,null,null,null,null,null,null,null,null,null,null,null,null,null,null,2800,5500,850,1600,1530,2960,1530,1490,3050,2980,6090,5940,2380,2340,3900,3830,6940,6790,3130,3090,4650,4580,7690,7540,4330,4290,5850,5780,8890,8740,7030,6990,8550,8480,11590,11440,1530,1530,1490,1490,3050,3050,2980,2980,6090,6090,5940,5940,230,470,100,200,150,300,1800,3600,5400,7200,9000,10800,12600]
[69,1850,3420,4990,null,null,760,1520,null,null,590,60,280,570,470,940,1220,2440,3660,4890,6110,7330,8550,null,null,null,null,null,null,null,770,1550,null,null,840,1690,null,null,null,null,null,null,null,null,null,null,null,null,null,null,null,null,null,null,null,null,null,null,null,null,null,null,null,null,null,null,null,null,null,null,null,null,null,null,null,2800,5500,850,1600,1530,2960,1530,1490,3050,2980,6090,5940,2380,2340,3900,3830,6940,6790,3130,3090,4650,4580,7690,7540,4330,4290,5850,5780,8890,8740,7030,6990,8550,8480,11590,11440,1530,1530,1490,1490,3050,3050,2980,2980,6090,6090,5940,5940,230,470,100,200,150,300,1800,3600,5400,7200,9000,10800,12600]
[70,null,null,null,2270,3780,1130,2260,null,null,740,60,520,1050,610,1220,1570,3140,4710,6270,7840,9410,10980,null,null,null,null,null,null,null,950,1900,null,null,1580,3160,null,null,null,null,null,null,null,null,null,null,null,null,null,null,null,null,null,null,null,null,null,null,null,null,null,null,null,null,null,null,null,null,null,null,null,null,null,null,null,2800,5500,850,1600,1530,2960,null,null,null,null,null,null,null,null,null,null,null,null,null,null,null,null,null,null,null,null,null,null,null,null,null,null,null,null,null,null,null,null,null,null,null,null,null,null,null,null,null,null,280,570,220,440,340,690,2340,4680,7020,9360,11700,14040,16380]
[71,null,null,null,2270,3780,1130,2260,null,null,740,60,520,1050,610,1220,1570,3140,4710,6270,7840,9410,10980,null,null,null,null,null,null,null,950,1900,null,null,1580,3160,null,null,null,null,null,null,null,null,null,null,null,null,null,null,null,null,null,null,null,null,null,null,null,null,null,null,null,null,null,null,null,null,null,null,null,null,null,null,null,2800,5500,850,1600,1530,2960,null,null,null,null,null,null,null,null,null,null,null,null,null,null,null,null,null,null,null,null,null,null,null,null,null,null,null,null,null,null,null,null,null,null,null,null,null,null,null,null,null,null,280,570,220,440,340,690,2340,4680,7020,9360,11700,14040,16380]
[72,null,null,null,2270,3780,1130,2260,null,null,740,60,520,1050,610,1220,1570,3140,4710,6270,7840,9410,10980,null,null,null,null,null,null,null,950,1900,null,null,1580,3160,null,null,null,null,null,null,null,null,null,null,null,null,null,null,null,null,null,null,null,null,null,null,null,null,null,null,null,null,null,null,null,null,null,null,null,null,null,null,null,2800,5500,850,1600,1530,2960,null,null,null,null,null,null,null,null,null,null,null,null,null,null,null,null,null,null,null,null,null,null,null,null,null,null,null,null,null,null,null,null,null,null,null,null,null,null,null,null,null,null,280,570,220,440,340,690,2340,4680,7020,9360,11700,14040,16380]
[73,null,null,null,2270,3780,1130,2260,null,null,740,60,520,1050,610,1220,1570,3140,4710,6270,7840,9410,10980,null,null,null,null,null,null,null,950,1900,null,null,1580,3160,null,null,null,null,null,null,null,null,null,null,null,null,null,null,null,null,null,null,null,null,null,null,null,null,null,null,null,null,null,null,null,null,null,null,null,null,null,null,null,2800,5500,850,1600,1530,2960,null,null,null,null,null,null,null,null,null,null,null,null,null,null,null,null,null,null,null,null,null,null,null,null,null,null,null,null,null,null,null,null,null,null,null,null,null,null,null,null,null,null,280,570,220,440,340,690,2340,4680,7020,9360,11700,14040,16380]
[74,null,null,null,2270,3780,1130,2260,null,null,740,60,520,1050,610,1220,1570,3140,4710,6270,7840,9410,10980,null,null,null,null,null,null,null,950,1900,null,null,1580,3160,null,null,null,null,null,null,null,null,null,null,null,null,null,null,null,null,null,null,null,null,null,null,null,null,null,null,null,null,null,null,null,null,null,null,null,null,null,null,null,2800,5500,850,1600,1530,2960,null,null,null,null,null,null,null,null,null,null,null,null,null,null,null,null,null,null,null,null,null,null,null,null,null,null,null,null,null,null,null,null,null,null,null,null,null,null,null,null,null,null,280,570,220,440,340,690,2340,4680,7020,9360,11700,14040,16380]
[75,null,null,null,2460,4100,1310,2620,null,null,760,60,770,1530,510,1020,1580,3160,4740,6330,7910,9490,11070,null,null,null,null,null,null,null,1190,2380,null,null,2640,5270,null,null,null,null,null,null,null,null,null,null,null,null,null,null,null,null,null,null,null,null,null,null,null,null,null,null,null,null,null,null,null,null,null,null,null,null,null,null,null,2800,5500,850,1600,1530,2960,null,null,null,null,null,null,null,null,null,null,null,null,null,null,null,null,null,null,null,null,null,null,null,null,null,null,null,null,null,null,null,null,null,null,null,null,null,null,null,null,null,null,200,400,480,960,760,1530,2560,5130,7690,10260,12820,15390,17950]
[76,null,null,null,2460,4100,1310,2620,null,null,760,60,770,1530,510,1020,1580,3160,4740,6330,7910,9490,11070,null,null,null,null,null,null,null,1190,2380,null,null,2640,5270,null,null,null,null,null,null,null,null,null,null,null,null,null,null,null,null,null,null,null,null,null,null,null,null,null,null,null,null,null,null,null,null,null,null,null,null,null,null,null,2800,5500,850,1600,1530,2960,null,null,null,null,null,null,null,null,null,null,null,null,null,null,null,null,null,null,null,null,null,null,null,null,null,null,null,null,null,null,null,null,null,null,null,null,null,null,null,null,null,null,200,400,480,960,760,1530,2560,5130,7690,10260,12820,15390,17950]
[77,null,null,null,2460,4100,1310,2620,null,null,760,60,770,1530,510,1020,1580,3160,4740,6330,7910,9490,11070,null,null,null,null,null,null,null,1190,2380,null,null,2640,5270,null,null,null,null,null,null,null,null,null,null,null,null,null,null,null,null,null,null,null,null,null,null,null,null,null,null,null,null,null,null,null,null,null,null,null,null,null,null,null,2800,5500,850,1600,1530,2960,null,null,null,null,null,null,null,null,null,null,null,null,null,null,null,null,null,null,null,null,null,null,null,null,null,null,null,null,null,null,null,null,null,null,null,null,null,null,null,null,null,null,200,400,480,960,760,1530,2560,5130,7690,10260,12820,15390,17950]
[78,null,null,null,2460,4100,1310,2620,null,null,760,60,770,1530,510,1020,1580,3160,4740,6330,7910,9490,11070,null,null,null,null,null,null,null,1190,2380,null,null,2640,5270,null,null,null,null,null,null,null,null,null,null,null,null,null,null,null,null,null,null,null,null,null,null,null,null,null,null,null,null,null,null,null,null,null,null,null,null,null,null,null,2800,5500,850,1600,1530,2960,null,null,null,null,null,null,null,null,null,null,null,null,null,null,null,null,null,null,null,null,null,null,null,null,null,null,null,null,null,null,null,null,null,null,null,null,null,null,null,null,null,null,200,400,480,960,760,1530,2560,5130,7690,10260,12820,15390,17950]
[79,null,null,null,2460,4100,1310,2620,null,null,760,60,770,1530,510,1020,1580,3160,4740,6330,7910,9490,11070,null,null,null,null,null,null,null,1190,2380,null,null,2640,5270,null,null,null,null,null,null,null,null,null,null,null,null,null,null,null,null,null,null,null,null,null,null,null,null,null,null,null,null,null,null,null,null,null,null,null,null,null,null,null,2800,5500,850,1600,1530,2960,null,null,null,null,null,null,null,null,null,null,null,null,null,null,null,null,null,null,null,null,null,null,null,null,null,null,null,null,null,null,null,null,null,null,null,null,null,null,null,null,null,null,200,400,480,960,760,1530,2560,5130,7690,10260,12820,15390,17950]
[80,null,null,null,2850,4770,1650,3300,null,null,940,60,900,1800,490,980,870,1740,2610,3470,4340,5210,6080,null,null,null,null,null,null,null,1040,2070,null,null,5490,10980,null,null,null,null,null,null,null,null,null,null,null,null,null,null,null,null,null,null,null,null,null,null,null,null,null,null,null,null,null,null,null,null,null,null,null,null,null,null,null,2800,5500,850,1600,1530,2960,null,null,null,null,null,null,null,null,null,null,null,null,null,null,null,null,null,null,null,null,null,null,null,null,null,null,null,null,null,null,null,null,null,null,null,null,null,null,null,null,null,null,150,320,1220,2450,1980,3950,1990,3970,5960,7950,9940,11920,13910]
[81,null,null,null,2850,4770,1650,3300,null,null,940,60,900,1800,490,980,870,1740,2610,3470,4340,5210,6080,null,null,null,null,null,null,null,1040,2070,null,null,5490,10980,null,null,null,null,null,null,null,null,null,null,null,null,null,null,null,null,null,null,null,null,null,null,null,null,null,null,null,null,null,null,null,null,null,null,null,null,null,null,null,2800,5500,850,1600,1530,2960,null,null,null,null,null,null,null,null,null,null,null,null,null,null,null,null,null,null,null,null,null,null,null,null,null,null,null,null,null,null,null,null,null,null,null,null,null,null,null,null,null,null,150,320,1220,2450,1980,3950,1990,3970,5960,7950,9940,11920,13910]
[82,null,null,null,2850,4770,1650,3300,null,null,940,60,900,1800,490,980,870,1740,2610,3470,4340,5210,6080,null,null,null,null,null,null,null,1040,2070,null,null,5490,10980,null,null,null,null,null,null,null,null,null,null,null,null,null,null,null,null,null,null,null,null,null,null,null,null,null,null,null,null,null,null,null,null,null,null,null,null,null,null,null,2800,5500,850,1600,1530,2960,null,null,null,null,null,null,null,null,null,null,null,null,null,null,null,null,null,null,null,null,null,null,null,null,null,null,null,null,null,null,null,null,null,null,null,null,null,null,null,null,null,null,150,320,1220,2450,1980,3950,1990,3970,5960,7950,9940,11920,13910]
[83,null,null,null,2850,4770,1650,3300,null,null,940,60,900,1800,490,980,870,1740,2610,3470,4340,5210,6080,null,null,null,null,null,null,null,1040,2070,null,null,5490,10980,null,null,null,null,null,null,null,null,null,null,null,null,null,null,null,null,null,null,null,null,null,null,null,null,null,null,null,null,null,null,null,null,null,null,null,null,null,null,null,2800,5500,850,1600,1530,2960,null,null,null,null,null,null,null,null,null,null,null,null,null,null,null,null,null,null,null,null,null,null,null,null,null,null,null,null,null,null,null,null,null,null,null,null,null,null,null,null,null,null,150,320,1220,2450,1980,3950,1990,3970,5960,7950,9940,11920,13910]
[84,null,null,null,2850,4770,1650,3300,null,null,940,60,900,1800,490,980,870,1740,2610,3470,4340,5210,6080,null,null,null,null,null,null,null,1040,2070,null,null,5490,10980,null,null,null,null,null,null,null,null,null,null,null,null,null,null,null,null,null,null,null,null,null,null,null,null,null,null,null,null,null,null,null,null,null,null,null,null,null,null,null,2800,5500,850,1600,1530,2960,null,null,null,null,null,null,null,null,null,null,null,null,null,null,null,null,null,null,null,null,null,null,null,null,null,null,null,null,null,null,null,null,null,null,null,null,null,null,null,null,null,null,150,320,1220,2450,1980,3950,1990,3970,5960,7950,9940,11920,13910]
[85,null,null,null,3260,5440,2020,4040,null,null,960,60,1040,2070,560,1120,570,1130,1700,2270,2840,3400,3970,null,null,null,null,null,null,null,1010,2030,null,null,9360,18730,null,null,null,null,null,null,null,null,null,null,null,null,null,null,null,null,null,null,null,null,null,null,null,null,null,null,null,null,null,null,null,null,null,null,null,null,null,null,null,2800,5500,850,1600,1530,2960,null,null,null,null,null,null,null,null,null,null,null,null,null,null,null,null,null,null,null,null,null,null,null,null,null,null,null,null,null,null,null,null,null,null,null,null,null,null,null,null,null,null,130,280,2640,5270,3990,7980,1770,3550,5320,7090,8860,10640,12410]
[86,null,null,null,3260,5440,2020,4040,null,null,960,60,1040,2070,560,1120,570,1130,1700,2270,2840,3400,3970,null,null,null,null,null,null,null,1010,2030,null,null,9360,18730,null,null,null,null,null,null,null,null,null,null,null,null,null,null,null,null,null,null,null,null,null,null,null,null,null,null,null,null,null,null,null,null,null,null,null,null,null,null,null,2800,5500,850,1600,1530,2960,null,null,null,null,null,null,null,null,null,null,null,null,null,null,null,null,null,null,null,null,null,null,null,null,null,null,null,null,null,null,null,null,null,null,null,null,null,null,null,null,null,null,130,280,2640,5270,3990,7980,1770,3550,5320,7090,8860,10640,12410]
[87,null,null,null,3260,5440,2020,4040,null,null,960,60,1040,2070,560,1120,570,1130,1700,2270,2840,3400,3970,null,null,null,null,null,null,null,1010,2030,null,null,9360,18730,null,null,null,null,null,null,null,null,null,null,null,null,null,null,null,null,null,null,null,null,null,null,null,null,null,null,null,null,null,null,null,null,null,null,null,null,null,null,null,2800,5500,850,1600,1530,2960,null,null,null,null,null,null,null,null,null,null,null,null,null,null,null,null,null,null,null,null,null,null,null,null,null,null,null,null,null,null,null,null,null,null,null,null,null,null,null,null,null,null,130,280,2640,5270,3990,7980,1770,3550,5320,7090,8860,10640,12410]
[88,null,null,null,3260,5440,2020,4040,null,null,960,60,1040,2070,560,1120,570,1130,1700,2270,2840,3400,3970,null,null,null,null,null,null,null,1010,2030,null,null,9360,18730,null,null,null,null,null,null,null,null,null,null,null,null,null,null,null,null,null,null,null,null,null,null,null,null,null,null,null,null,null,null,null,null,null,null,null,null,null,null,null,2800,5500,850,1600,1530,2960,null,null,null,null,null,null,null,null,null,null,null,null,null,null,null,null,null,null,null,null,null,null,null,null,null,null,null,null,null,null,null,null,null,null,null,null,null,null,null,null,null,null,130,280,2640,5270,3990,7980,1770,3550,5320,7090,8860,10640,12410]
[89,null,null,null,3260,5440,2020,4040,null,null,960,60,1040,2070,560,1120,570,1130,1700,2270,2840,3400,3970,null,null,null,null,null,null,null,1010,2030,null,null,9360,18730,null,null,null,null,null,null,null,null,null,null,null,null,null,null,null,null,null,null,null,null,null,null,null,null,null,null,null,null,null,null,null,null,null,null,null,null,null,null,null,2800,5500,850,1600,1530,2960,null,null,null,null,null,null,null,null,null,null,null,null,null,null,null,null,null,null,null,null,null,null,null,null,null,null,null,null,null,null,null,null,null,null,null,null,null,null,null,null,null,null,130,280,2640,5270,3990,7980,1770,3550,5320,7090,8860,10640,12410]
[90,null,null,null,3260,5440,2020,4040,null,null,960,60,1040,2070,560,1120,570,1130,1700,2270,2840,3400,3970,null,null,null,null,null,null,null,1010,2030,null,null,9360,18730,null,null,null,null,null,null,null,null,null,null,null,null,null,null,null,null,null,null,null,null,null,null,null,null,null,null,null,null,null,null,null,null,null,null,null,null,null,null,null,2800,5500,850,1600,1530,2960,null,null,null,null,null,null,null,null,null,null,null,null,null,null,null,null,null,null,null,null,null,null,null,null,null,null,null,null,null,null,null,null,null,null,null,null,null,null,null,null,null,null,130,280,2640,5270,3990,7980,1770,3550,5320,7090,8860,10640,12410]
[91,null,null,null,3260,5440,2020,4040,null,null,960,60,1040,2070,560,1120,570,1130,1700,2270,2840,3400,3970,null,null,null,null,null,null,null,1010,2030,null,null,9360,18730,null,null,null,null,null,null,null,null,null,null,null,null,null,null,null,null,null,null,null,null,null,null,null,null,null,null,null,null,null,null,null,null,null,null,null,null,null,null,null,2800,5500,850,1600,1530,2960,null,null,null,null,null,null,null,null,null,null,null,null,null,null,null,null,null,null,null,null,null,null,null,null,null,null,null,null,null,null,null,null,null,null,null,null,null,null,null,null,null,null,130,280,2640,5270,3990,7980,1770,3550,5320,7090,8860,10640,12410]
[92,null,null,null,3260,5440,2020,4040,null,null,960,60,1040,2070,560,1120,570,1130,1700,2270,2840,3400,3970,null,null,null,null,null,null,null,1010,2030,null,null,9360,18730,null,null,null,null,null,null,null,null,null,null,null,null,null,null,null,null,null,null,null,null,null,null,null,null,null,null,null,null,null,null,null,null,null,null,null,null,null,null,null,2800,5500,850,1600,1530,2960,null,null,null,null,null,null,null,null,null,null,null,null,null,null,null,null,null,null,null,null,null,null,null,null,null,null,null,null,null,null,null,null,null,null,null,null,null,null,null,null,null,null,130,280,2640,5270,3990,7980,1770,3550,5320,7090,8860,10640,12410]
[93,null,null,null,3260,5440,2020,4040,null,null,960,60,1040,2070,560,1120,570,1130,1700,2270,2840,3400,3970,null,null,null,null,null,null,null,1010,2030,null,null,9360,18730,null,null,null,null,null,null,null,null,null,null,null,null,null,null,null,null,null,null,null,null,null,null,null,null,null,null,null,null,null,null,null,null,null,null,null,null,null,null,null,2800,5500,850,1600,1530,2960,null,null,null,null,null,null,null,null,null,null,null,null,null,null,null,null,null,null,null,null,null,null,null,null,null,null,null,null,null,null,null,null,null,null,null,null,null,null,null,null,null,null,130,280,2640,5270,3990,7980,1770,3550,5320,7090,8860,10640,12410]
[94,null,null,null,3260,5440,2020,4040,null,null,960,60,1040,2070,560,1120,570,1130,1700,2270,2840,3400,3970,null,null,null,null,null,null,null,1010,2030,null,null,9360,18730,null,null,null,null,null,null,null,null,null,null,null,null,null,null,null,null,null,null,null,null,null,null,null,null,null,null,null,null,null,null,null,null,null,null,null,null,null,null,null,2800,5500,850,1600,1530,2960,null,null,null,null,null,null,null,null,null,null,null,null,null,null,null,null,null,null,null,null,null,null,null,null,null,null,null,null,null,null,null,null,null,null,null,null,null,null,null,null,null,null,130,280,2640,5270,3990,7980,1770,3550,5320,7090,8860,10640,12410]
[95,null,null,null,3260,5440,2020,4040,null,null,960,60,1040,2070,560,1120,570,1130,1700,2270,2840,3400,3970,null,null,null,null,null,null,null,1010,2030,null,null,9360,18730,null,null,null,null,null,null,null,null,null,null,null,null,null,null,null,null,null,null,null,null,null,null,null,null,null,null,null,null,null,null,null,null,null,null,null,null,null,null,null,2800,5500,850,1600,1530,2960,null,null,null,null,null,null,null,null,null,null,null,null,null,null,null,null,null,null,null,null,null,null,null,null,null,null,null,null,null,null,null,null,null,null,null,null,null,null,null,null,null,null,130,280,2640,5270,3990,7980,1770,3550,5320,7090,8860,10640,12410]
[96,null,null,null,3260,5440,2020,4040,null,null,960,60,1040,2070,560,1120,570,1130,1700,2270,2840,3400,3970,null,null,null,null,null,null,null,1010,2030,null,null,9360,18730,null,null,null,null,null,null,null,null,null,null,null,null,null,null,null,null,null,null,null,null,null,null,null,null,null,null,null,null,null,null,null,null,null,null,null,null,null,null,null,2800,5500,850,1600,1530,2960,null,null,null,null,null,null,null,null,null,null,null,null,null,null,null,null,null,null,null,null,null,null,null,null,null,null,null,null,null,null,null,null,null,null,null,null,null,null,null,null,null,null,130,280,2640,5270,3990,7980,1770,3550,5320,7090,8860,10640,12410]
[97,null,null,null,3260,5440,2020,4040,null,null,960,60,1040,2070,560,1120,570,1130,1700,2270,2840,3400,3970,null,null,null,null,null,null,null,1010,2030,null,null,9360,18730,null,null,null,null,null,null,null,null,null,null,null,null,null,null,null,null,null,null,null,null,null,null,null,null,null,null,null,null,null,null,null,null,null,null,null,null,null,null,null,2800,5500,850,1600,1530,2960,null,null,null,null,null,null,null,null,null,null,null,null,null,null,null,null,null,null,null,null,null,null,null,null,null,null,null,null,null,null,null,null,null,null,null,null,null,null,null,null,null,null,130,280,2640,5270,3990,7980,1770,3550,5320,7090,8860,10640,12410]
[98,null,null,null,3260,5440,2020,4040,null,null,960,60,1040,2070,560,1120,570,1130,1700,2270,2840,3400,3970,null,null,null,null,null,null,null,1010,2030,null,null,9360,18730,null,null,null,null,null,null,null,null,null,null,null,null,null,null,null,null,null,null,null,null,null,null,null,null,null,null,null,null,null,null,null,null,null,null,null,null,null,null,null,2800,5500,850,1600,1530,2960,null,null,null,null,null,null,null,null,null,null,null,null,null,null,null,null,null,null,null,null,null,null,null,null,null,null,null,null,null,null,null,null,null,null,null,null,null,null,null,null,null,null,130,280,2640,5270,3990,7980,1770,3550,5320,7090,8860,10640,12410]
[99,null,null,null,3260,5440,2020,4040,null,null,960,60,1040,2070,560,1120,570,1130,1700,2270,2840,3400,3970,null,null,null,null,null,null,null,1010,2030,null,null,9360,18730,null,null,null,null,null,null,null,null,null,null,null,null,null,null,null,null,null,null,null,null,null,null,null,null,null,null,null,null,null,null,null,null,null,null,null,null,null,null,null,2800,5500,850,1600,1530,2960,null,null,null,null,null,null,null,null,null,null,null,null,null,null,null,null,null,null,null,null,null,null,null,null,null,null,null,null,null,null,null,null,null,null,null,null,null,null,null,null,null,null,130,280,2640,5270,3990,7980,1770,3550,5320,7090,8860,10640,12410]
[100,null,null,null,3260,5440,2020,4040,null,null,960,60,1040,2070,560,1120,570,1130,1700,2270,2840,3400,3970,null,null,null,null,null,null,null,1010,2030,null,null,9360,18730,null,null,null,null,null,null,null,null,null,null,null,null,null,null,null,null,null,null,null,null,null,null,null,null,null,null,null,null,null,null,null,null,null,null,null,null,null,null,null,2800,5500,850,1600,1530,2960,null,null,null,null,null,null,null,null,null,null,null,null,null,null,null,null,null,null,null,null,null,null,null,null,null,null,null,null,null,null,null,null,null,null,null,null,null,null,null,null,null,null,130,280,2640,5270,3990,7980,1770,3550,5320,7090,8860,10640,12410]
[101,null,null,null,null,null,null,null,null,null,null,null,null,null,null,null,null,null,null,null,null,null,null,null,null,null,null,null,null,null,null,null,null,null,null,null,null,null,null,null,null,null,null,null,null,null,null,null,null,null,null,null,null,null,null,null,null,null,null,null,null,null,null,null,null,null,null,null,null,null,null,null,null,null,null,2800,5500,850,1600,1530,2960]
[102,null,null,null,null,null,null,null,null,null,null,null,null,null,null,null,null,null,null,null,null,null,null,null,null,null,null,null,null,null,null,null,null,null,null,null,null,null,null,null,null,null,null,null,null,null,null,null,null,null,null,null,null,null,null,null,null,null,null,null,null,null,null,null,null,null,null,null,null,null,null,null,null,null,null,2800,5500,850,1600,1530,2960]
[103,null,null,null,null,null,null,null,null,null,null,null,null,null,null,null,null,null,null,null,null,null,null,null,null,null,null,null,null,null,null,null,null,null,null,null,null,null,null,null,null,null,null,null,null,null,null,null,null,null,null,null,null,null,null,null,null,null,null,null,null,null,null,null,null,null,null,null,null,null,null,null,null,null,null,2800,5500,850,1600,1530,2960]
[104,null,null,null,null,null,null,null,null,null,null,null,null,null,null,null,null,null,null,null,null,null,null,null,null,null,null,null,null,null,null,null,null,null,null,null,null,null,null,null,null,null,null,null,null,null,null,null,null,null,null,null,null,null,null,null,null,null,null,null,null,null,null,null,null,null,null,null,null,null,null,null,null,null,null,2800,5500,850,1600,1530,2960]
[105,null,null,null,null,null,null,null,null,null,null,null,null,null,null,null,null,null,null,null,null,null,null,null,null,null,null,null,null,null,null,null,null,null,null,null,null,null,null,null,null,null,null,null,null,null,null,null,null,null,null,null,null,null,null,null,null,null,null,null,null,null,null,null,null,null,null,null,null,null,null,null,null,null,null,2800,5500,850,1600,1530,2960]
[106,null,null,null,null,null,null,null,null,null,null,null,null,null,null,null,null,null,null,null,null,null,null,null,null,null,null,null,null,null,null,null,null,null,null,null,null,null,null,null,null,null,null,null,null,null,null,null,null,null,null,null,null,null,null,null,null,null,null,null,null,null,null,null,null,null,null,null,null,null,null,null,null,null,null,2800,5500,850,1600,1530,2960]
[107,null,null,null,null,null,null,null,null,null,null,null,null,null,null,null,null,null,null,null,null,null,null,null,null,null,null,null,null,null,null,null,null,null,null,null,null,null,null,null,null,null,null,null,null,null,null,null,null,null,null,null,null,null,null,null,null,null,null,null,null,null,null,null,null,null,null,null,null,null,null,null,null,null,null,2800,5500,850,1600,1530,2960]
[108,null,null,null,null,null,null,null,null,null,null,null,null,null,null,null,null,null,null,null,null,null,null,null,null,null,null,null,null,null,null,null,null,null,null,null,null,null,null,null,null,null,null,null,null,null,null,null,null,null,null,null,null,null,null,null,null,null,null,null,null,null,null,null,null,null,null,null,null,null,null,null,null,null,null,2800,5500,850,1600,1530,2960]
[109,null,null,null,null,null,null,null,null,null,null,null,null,null,null,null,null,null,null,null,null,null,null,null,null,null,null,null,null,null,null,null,null,null,null,null,null,null,null,null,null,null,null,null,null,null,null,null,null,null,null,null,null,null,null,null,null,null,null,null,null,null,null,null,null,null,null,null,null,null,null,null,null,null,null,2800,5500,850,1600,1530,2960]
[110,null,null,null,null,null,null,null,null,null,null,null,null,null,null,null,null,null,null,null,null,null,null,null,null,null,null,null,null,null,null,null,null,null,null,null,null,null,null,null,null,null,null,null,null,null,null,null,null,null,null,null,null,null,null,null,null,null,null,null,null,null,null,null,null,null,null,null,null,null,null,null,null,null,null,2800,5500,850,1600,1530,2960]

{"sheet":"保険料（控除対象）","index":6,"n_rows":115,"n_cols":151,"rows_kept":115,"cut":false,"hidden":true,"merged":[]}
[null,"F1_1","F1_2","F1_3","S3_1","S5_1","FD_1","FD_2","G3_1","G5_1","F2_1","FA_1","FH_1","FB_1","F3_1","F3_2","FE_1","F5_1","×","F4_1","×","×","×","FF_1","F7_1","×","F6_1","×","×","×","FL_1","FK_1","FG_1","F8_1","FJ_1","FC_1","KF_1","KP_1","KS_1","HC2_1","HC5_1","HC8_1","H22_1","H25_1","H28_1","HP2_1","HP5_1","HP8_1","HF2_1","HF5_1","HF8_1","HS2_1","HS5_1","HS8_1","GN_1","GN_2","GM_1","GM_2","×","×","×","J3_1","J5_1","CP5_1","CP1_1","CP2_1","CF5_1","CF1_1","CF2_1","CS5_1","CS1_1","CS2_1","×","×","×","FS_1","FS_2","PS_1","PS_2","SC_1","SC_2","×","×","×","×","×","×","×","×","×","×","×","×","×","×","×","×","×","×","×","×","×","×","×","×","×","×","×","×","×","×","E4P_1","E4F_1","E7P_1","E7F_1","B4P_1","B4F_1","B7P_1","B7F_1","W4P_1","W4F_1","W7P_1","W7F_1","FN_1","FM_1","F8_1","FG_1","FP_1","FQ_1","FT_1","FU_1","×","FV_1","×","×","×","HP2_1","HP5_1","HP8_1","HF2_1","HF5_1","HF8_1","HS2_1","HS5_1","HS8_1","HK2_1","HK5_1","HK8_1","HH2_1","HH5_1","HH8_1"]
[null,"Iryo1","Iryo2","Iryo3","Iryo1","Iryo2","Godai1","Godai2","×","×","Shippei","Senshin","TaiinH","Taiin","Ryoyo1","Ryoyo2","Gan50","Gan100","Gan50Gan100","Gan200","Gan50Gan200","Gan100Gan200","Gan50Gan100Gan200","San50","San100","San50San100","San200","San50San200","San100San200","San50San100San200","Kougan5","Kougan10","Ichiji50","Ichiji","Nenkin30","Nenkin","KeikohinF","KeikohinP","KeikohinS","Hole20F","Hole50F","Hole80F","×","×","×","Hole20","Hole50","Hole80","×","×","×","×","×","×","Choki1","Choki2","Choki3","Choki4","×","×","Kenshin","Handi30","Handi50","shakuyanin500","shakuyanin1000","shakuyanin2000","×","×","×","×","×","×","×","×","×","Fam1","Fam2","Per1","Per2","Sen1","Sen2","E4","E7","B4","B7","W4","W7","Per1E4","Per1E7","Per1B4","Per1B7","Per1W4","Per1W7","Per2E4","Per2E7","Per2B4","Per2B7","Per2W4","Per2W7","Fam1E4","Fam1E7","Fam1B4","Fam1B7","Fam1W4","Fam1W7","Fam2E4","Fam2E7","Fam2B4","Fam2B7","Fam2W4","Fam2W7","×","×","×","×","×","×","×","×","×","×","×","×","Nyuuin2","Nyuuin4","Ichiji50Yo3","Ichiji100Yo3","Ichiji50Yo2","Ichiji100Yo2","Sei50","Sei100","Sei50Sei100","Sei200","Sei50Sei200","Sei100Sei200","Sei50Sei100Sei200","Hole20","Hole50","Hole80","×","×","×","×","×","×","HoleHaigu20","HoleHaigu50","HoleHaigu80","×","×","×"]
[null,"医療保障1","医療保障2","医療保障3","医療保障1シニア","医療保障2シニア","五大疾病入院保障1","五大疾病入院保障2","五大疾病入院保障1シニア","五大疾病入院保障2シニア","疾病手術保障","高度医療保障","疾病退院後通院保障1500","疾病退院後通院保障","療養保障1","療養保障2","ｶﾞﾝ50万円","ｶﾞﾝ100万円","ｶﾞﾝ150万円","ｶﾞﾝ200万円","ｶﾞﾝ250万円","ｶﾞﾝ300万円","ｶﾞﾝ350万円","3大疾病50万円","3大疾病100万円","3大疾病150万円","3大疾病200万円","3大疾病250万円","3大疾病300万円","3大疾病350万円","抗ガン剤治療保障5万円","抗ガン剤治療保障10万円","一時金50万円","一時金100万円","年金30万円","年金60万円","携行品F","携行品P","携行品S","ﾎｰﾙｲﾝﾜﾝ20夫婦型","ﾎｰﾙｲﾝﾜﾝ50夫婦型","ﾎｰﾙｲﾝﾜﾝ80夫婦型","ﾎｰﾙｲﾝﾜﾝ20夫婦型","ﾎｰﾙｲﾝﾜﾝ50夫婦型","ﾎｰﾙｲﾝﾜﾝ80夫婦型","ﾎｰﾙｲﾝﾜﾝ20本人型","ﾎｰﾙｲﾝﾜﾝ50本人型","ﾎｰﾙｲﾝﾜﾝ80本人型","ﾎｰﾙｲﾝﾜﾝ20本人型","ﾎｰﾙｲﾝﾜﾝ50本人型","ﾎｰﾙｲﾝﾜﾝ80本人型","ﾎｰﾙｲﾝﾜﾝ20本人型","ﾎｰﾙｲﾝﾜﾝ50本人型","ﾎｰﾙｲﾝﾜﾝ80本人型","長期所得5年型1","長期所得5年型2","長期所得60才型1","長期所得60才型2","施設賠","生産物","施設\n賠償\n責任","ﾊﾝﾃﾞｨﾀｰﾐﾅﾙｾｯﾄ30","ﾊﾝﾃﾞｨﾀｰﾐﾅﾙｾｯﾄ50","借家人賠償保障500","借家人賠償保障1000","借家人賠償保障2000","借家人賠償保障500","借家人賠償保障1000","借家人賠償保障2000","借家人賠償保障500","借家人賠償保障1000","借家人賠償保障2000","借りもの保障","借りもの保障","借りもの保障","ﾌｧﾐﾘｰ1","ﾌｧﾐﾘｰ2","ﾊﾟｰｿﾅﾙ1","ﾊﾟｰｿﾅﾙ2","ｼﾆｱ1","ｼﾆｱ2","ｴｺﾉﾐｰ4","ｴｺﾉﾐｰ7","ﾍﾞｰｼｯｸ4","ﾍﾞｰｼｯｸ7","ﾜｲﾄﾞ4","ﾜｲﾄﾞ7","ﾊﾟｰｿﾅﾙ1\nｴｺﾉﾐｰ4","ﾊﾟｰｿﾅﾙ1\nｴｺﾉﾐｰ7","ﾊﾟｰｿﾅﾙ1\nﾍﾞｰｼｯｸ4","ﾊﾟｰｿﾅﾙ1\nﾍﾞｰｼｯｸ7","ﾊﾟｰｿﾅﾙ1\nﾜｲﾄﾞ4","ﾊﾟｰｿﾅﾙ1\nﾜｲﾄﾞ7","ﾊﾟｰｿﾅﾙ2\nｴｺﾉﾐｰ4","ﾊﾟｰｿﾅﾙ2\nｴｺﾉﾐｰ7","ﾊﾟｰｿﾅﾙ2\nﾍﾞｰｼｯｸ4","ﾊﾟｰｿﾅﾙ2\nﾍﾞｰｼｯｸ7","ﾊﾟｰｿﾅﾙ2\nﾜｲﾄﾞ4","ﾊﾟｰｿﾅﾙ2\nﾜｲﾄﾞ7","ﾌｧﾐﾘｰ1\nｴｺﾉﾐｰ4","ﾌｧﾐﾘｰ1\nｴｺﾆﾐｰ7","ﾌｧﾐﾘｰ1\nﾍﾞｰｼｯｸ4","ﾌｧﾐﾘｰ1\nﾍﾞｰｼｯｸ7","ﾌｧﾐﾘｰ1\nﾜｲﾄﾞ4","ﾌｧﾐﾘｰ1\nﾜｲﾄﾞ7","ﾌｧﾐﾘｰ2\nｴｺﾉﾐｰ4","ﾌｧﾐﾘｰ2\nｴｺﾆﾐｰ7","ﾌｧﾐﾘｰ2\nﾍﾞｰｼｯｸ4","ﾌｧﾐﾘｰ2\nﾍﾞｰｼｯｸ7","ﾌｧﾐﾘｰ2\nﾜｲﾄﾞ4","ﾌｧﾐﾘｰ2\nﾜｲﾄﾞ7","Pｴｺﾉﾐｰ免責4日7.5万","Fｴｺﾉﾐｰ免責4日7.5万","Pｴｺﾉﾐｰ免責7日7.5万","Fｴｺﾉﾐｰ免責7日7.5万","Pﾍﾞｰｼｯｸ免責4日15万","Fﾍﾞｰｼｯｸ免責4日15万","Pﾍﾞｰｼｯｸ免責7日15万","Fﾍﾞｰｼｯｸ免責7日15万","Pﾜｲﾄﾞ免責4日30万","Fﾜｲﾄﾞ免責4日30万","Pﾜｲﾄﾞ免責7日30万","Fﾜｲﾄﾞ免責7日30万","入院一時金2万","入院一時金4万","（要介護３）介護一時金50万円","（要介護３）介護一時金100万円","（要介護２）介護一時金50万円","（要介護２）介護一時金100万円","成人病50万円","成人病100万円","成人病150万円","成人病200万円","成人病250万円","成人病300万円","成人病350万円","ﾎｰﾙｲﾝﾜﾝ20本人型","ﾎｰﾙｲﾝﾜﾝ50本人型","ﾎｰﾙｲﾝﾜﾝ80本人型","ﾎｰﾙｲﾝﾜﾝ20本人型","ﾎｰﾙｲﾝﾜﾝ50本人型","ﾎｰﾙｲﾝﾜﾝ80本人型","ﾎｰﾙｲﾝﾜﾝ20本人型","ﾎｰﾙｲﾝﾜﾝ50本人型","ﾎｰﾙｲﾝﾜﾝ80本人型","ﾎｰﾙｲﾝﾜﾝ20配偶者型","ﾎｰﾙｲﾝﾜﾝ50配偶者型","ﾎｰﾙｲﾝﾜﾝ80配偶者型","ﾎｰﾙｲﾝﾜﾝ20配偶者型","ﾎｰﾙｲﾝﾜﾝ50配偶者型","ﾎｰﾙｲﾝﾜﾝ80配偶者型"]
["ZZZ"]
[0,180,330,480,null,null,10,20,null,null,60,60,40,80,30,60,null,10,null,30,null,40,null,null,null,null,null,null,null,null,30,70,null,null,60,110,null,null,null,null,null,null,null,null,null,null,null,null,null,null,null,null,null,null,null,null,null,null,null,null,null,null,null,null,null,null,null,null,null,null,null,null,null,null,null,null,null,null,null,null,null,null,null,null,null,null,null,null,null,null,null,null,null,null,null,null,null,null,null,null,null,null,null,null,null,null,null,null,null,null,null,null,null,null,null,null,null,null,null,null,null,null,null,60,110,null,null,null,10,20,30,50,60,80,90,110]
[1,180,330,480,null,null,10,20,null,null,60,60,40,80,30,60,null,10,null,30,null,40,null,null,null,null,null,null,null,null,30,70,null,null,60,110,null,null,null,null,null,null,null,null,null,null,null,null,null,null,null,null,null,null,null,null,null,null,null,null,null,null,null,null,null,null,null,null,null,null,null,null,null,null,null,null,null,null,null,null,null,null,null,null,null,null,null,null,null,null,null,null,null,null,null,null,null,null,null,null,null,null,null,null,null,null,null,null,null,null,null,null,null,null,null,null,null,null,null,null,null,null,null,60,110,null,null,null,10,20,30,50,60,80,90,110]
[2,180,330,480,null,null,10,20,null,null,60,60,40,80,30,60,null,10,null,30,null,40,null,null,null,null,null,null,null,null,30,70,null,null,60,110,null,null,null,null,null,null,null,null,null,null,null,null,null,null,null,null,null,null,null,null,null,null,null,null,null,null,null,null,null,null,null,null,null,null,null,null,null,null,null,null,null,null,null,null,null,null,null,null,null,null,null,null,null,null,null,null,null,null,null,null,null,null,null,null,null,null,null,null,null,null,null,null,null,null,null,null,null,null,null,null,null,null,null,null,null,null,null,60,110,null,null,null,10,20,30,50,60,80,90,110]
[3,180,330,480,null,null,10,20,null,null,60,60,40,80,30,60,null,10,null,30,null,40,null,null,null,null,null,null,null,null,30,70,null,null,60,110,null,null,null,null,null,null,null,null,null,null,null,null,null,null,null,null,null,null,null,null,null,null,null,null,null,null,null,null,null,null,null,null,null,null,null,null,null,null,null,null,null,null,null,null,null,null,null,null,null,null,null,null,null,null,null,null,null,null,null,null,null,null,null,null,null,null,null,null,null,null,null,null,null,null,null,null,null,null,null,null,null,null,null,null,null,null,null,60,110,null,null,null,10,20,30,50,60,80,90,110]
[4,180,330,480,null,null,10,20,null,null,60,60,40,80,30,60,null,10,null,30,null,40,null,null,null,null,null,null,null,null,30,70,null,null,60,110,null,null,null,null,null,null,null,null,null,null,null,null,null,null,null,null,null,null,null,null,null,null,null,null,null,null,null,null,null,null,null,null,null,null,null,null,null,null,null,null,null,null,null,null,null,null,null,null,null,null,null,null,null,null,null,null,null,null,null,null,null,null,null,null,null,null,null,null,null,null,null,null,null,null,null,null,null,null,null,null,null,null,null,null,null,null,null,60,110,null,null,null,10,20,30,50,60,80,90,110]
[5,90,170,250,null,null,10,20,null,null,60,60,10,30,10,20,null,10,null,30,null,40,null,null,null,null,null,null,null,null,30,70,null,null,60,110,null,null,null,null,null,null,null,null,null,null,null,null,null,null,null,null,null,null,null,null,null,null,null,null,null,null,null,null,null,null,null,null,null,null,null,null,null,null,null,null,null,null,null,null,null,null,null,null,null,null,null,null,null,null,null,null,null,null,null,null,null,null,null,null,null,null,null,null,null,null,null,null,null,null,null,null,null,null,null,null,null,null,null,null,null,null,null,30,60,null,null,null,10,20,30,50,60,80,90,110]
[6,90,170,250,null,null,10,20,null,null,60,60,10,30,10,20,null,10,null,30,null,40,null,null,null,null,null,null,null,null,30,70,null,null,60,110,null,null,null,null,null,null,null,null,null,null,null,null,null,null,null,null,null,null,null,null,null,null,null,null,null,null,null,null,null,null,null,null,null,null,null,null,null,null,null,null,null,null,null,null,null,null,null,null,null,null,null,null,null,null,null,null,null,null,null,null,null,null,null,null,null,null,null,null,null,null,null,null,null,null,null,null,null,null,null,null,null,null,null,null,null,null,null,30,60,null,null,null,10,20,30,50,60,80,90,110]
[7,90,170,250,null,null,10,20,null,null,60,60,10,30,10,20,null,10,null,30,null,40,null,null,null,null,null,null,null,null,30,70,null,null,60,110,null,null,null,null,null,null,null,null,null,null,null,null,null,null,null,null,null,null,null,null,null,null,null,null,null,null,null,null,null,null,null,null,null,null,null,null,null,null,null,null,null,null,null,null,null,null,null,null,null,null,null,null,null,null,null,null,null,null,null,null,null,null,null,null,null,null,null,null,null,null,null,null,null,null,null,null,null,null,null,null,null,null,null,null,null,null,null,30,60,null,null,null,10,20,30,50,60,80,90,110]
[8,90,170,250,null,null,10,20,null,null,60,60,10,30,10,20,null,10,null,30,null,40,null,null,null,null,null,null,null,null,30,70,null,null,60,110,null,null,null,null,null,null,null,null,null,null,null,null,null,null,null,null,null,null,null,null,null,null,null,null,null,null,null,null,null,null,null,null,null,null,null,null,null,null,null,null,null,null,null,null,null,null,null,null,null,null,null,null,null,null,null,null,null,null,null,null,null,null,null,null,null,null,null,null,null,null,null,null,null,null,null,null,null,null,null,null,null,null,null,null,null,null,null,30,60,null,null,null,10,20,30,50,60,80,90,110]
[9,90,170,250,null,null,10,20,null,null,60,60,10,30,10,20,null,10,null,30,null,40,null,null,null,null,null,null,null,null,30,70,null,null,60,110,null,null,null,null,null,null,null,null,null,null,null,null,null,null,null,null,null,null,null,null,null,null,null,null,null,null,null,null,null,null,null,null,null,null,null,null,null,null,null,null,null,null,null,null,null,null,null,null,null,null,null,null,null,null,null,null,null,null,null,null,null,null,null,null,null,null,null,null,null,null,null,null,null,null,null,null,null,null,null,null,null,null,null,null,null,null,null,30,60,null,null,null,10,20,30,50,60,80,90,110]
[10,80,150,220,null,null,10,20,null,null,70,60,10,20,20,40,null,10,null,30,null,40,null,null,null,null,null,null,null,null,40,70,null,null,60,110,null,null,null,null,null,null,null,null,null,null,null,null,null,null,null,null,null,null,null,null,null,null,null,null,null,null,null,null,null,null,null,null,null,null,null,null,null,null,null,null,null,null,null,null,null,null,null,null,null,null,null,null,null,null,null,null,null,null,null,null,null,null,null,null,null,null,null,null,null,null,null,null,null,null,null,null,null,null,null,null,null,null,null,null,null,null,null,30,70,null,null,null,10,20,30,50,70,90,100,120]
[11,80,150,220,null,null,10,20,null,null,70,60,10,20,20,40,null,10,null,30,null,40,null,null,null,null,null,null,null,null,40,70,null,null,60,110,null,null,null,null,null,null,null,null,null,null,null,null,null,null,null,null,null,null,null,null,null,null,null,null,null,null,null,null,null,null,null,null,null,null,null,null,null,null,null,null,null,null,null,null,null,null,null,null,null,null,null,null,null,null,null,null,null,null,null,null,null,null,null,null,null,null,null,null,null,null,null,null,null,null,null,null,null,null,null,null,null,null,null,null,null,null,null,30,70,null,null,null,10,20,30,50,70,90,100,120]
[12,80,150,220,null,null,10,20,null,null,70,60,10,20,20,40,null,10,null,30,null,40,null,null,null,null,null,null,null,null,40,70,null,null,60,110,null,null,null,null,null,null,null,null,null,null,null,null,null,null,null,null,null,null,null,null,null,null,null,null,null,null,null,null,null,null,null,null,null,null,null,null,null,null,null,null,null,null,null,null,null,null,null,null,null,null,null,null,null,null,null,null,null,null,null,null,null,null,null,null,null,null,null,null,null,null,null,null,null,null,null,null,null,null,null,null,null,null,null,null,null,null,null,30,70,null,null,null,10,20,30,50,70,90,100,120]
[13,80,150,220,null,null,10,20,null,null,70,60,10,20,20,40,null,10,null,30,null,40,null,null,null,null,null,null,null,null,40,70,null,null,60,110,null,null,null,null,null,null,null,null,null,null,null,null,null,null,null,null,null,null,null,null,null,null,null,null,null,null,null,null,null,null,null,null,null,null,null,null,null,null,null,null,null,null,null,null,null,null,null,null,null,null,null,null,null,null,null,null,null,null,null,null,null,null,null,null,null,null,null,null,null,null,null,null,null,null,null,null,null,null,null,null,null,null,null,null,null,null,null,30,70,null,null,null,10,20,30,50,70,90,100,120]
[14,80,150,220,null,null,10,20,null,null,70,60,10,20,20,40,null,10,null,30,null,40,null,null,null,null,null,null,null,null,40,70,null,null,60,110,null,null,null,null,null,null,null,null,null,null,null,null,null,null,null,null,null,null,null,null,null,null,null,null,null,null,null,null,null,null,null,null,null,null,null,null,null,null,null,null,null,null,null,null,null,null,null,null,null,null,null,null,null,null,null,null,null,null,null,null,null,null,null,null,null,null,null,null,null,null,null,null,null,null,null,null,null,null,null,null,null,null,null,null,null,null,null,30,70,null,null,null,10,20,30,50,70,90,100,120]
[15,120,230,340,null,null,10,20,null,null,80,60,10,20,50,100,null,10,null,30,null,40,null,null,null,null,null,null,null,null,30,70,null,null,60,110,null,null,null,null,null,null,null,null,null,null,null,null,null,null,null,null,null,null,71,142,170,340,null,null,null,null,null,null,null,null,null,null,null,null,null,null,null,null,null,null,null,null,null,null,null,310,260,620,530,1230,1050,null,null,null,null,null,null,null,null,null,null,null,null,null,null,null,null,null,null,null,null,null,null,null,null,310,310,260,260,620,620,530,530,1230,1230,1050,1050,50,100,null,null,null,10,20,40,60,70,90,110,130]
[16,120,230,340,null,null,10,20,null,null,80,60,10,20,50,100,null,10,null,30,null,40,null,null,null,null,null,null,null,null,30,70,null,null,60,110,null,null,null,null,null,null,null,null,null,null,null,null,null,null,null,null,null,null,71,142,170,340,null,null,null,null,null,null,null,null,null,null,null,null,null,null,null,null,null,null,null,null,null,null,null,310,260,620,530,1230,1050,null,null,null,null,null,null,null,null,null,null,null,null,null,null,null,null,null,null,null,null,null,null,null,null,310,310,260,260,620,620,530,530,1230,1230,1050,1050,50,100,null,null,null,10,20,40,60,70,90,110,130]
[17,120,230,340,null,null,10,20,null,null,80,60,10,20,50,100,null,10,null,30,null,40,null,null,null,null,null,null,null,null,30,70,null,null,60,110,null,null,null,null,null,null,null,null,null,null,null,null,null,null,null,null,null,null,71,142,170,340,null,null,null,null,null,null,null,null,null,null,null,null,null,null,null,null,null,null,null,null,null,null,null,310,260,620,530,1230,1050,null,null,null,null,null,null,null,null,null,null,null,null,null,null,null,null,null,null,null,null,null,null,null,null,310,310,260,260,620,620,530,530,1230,1230,1050,1050,50,100,null,null,null,10,20,40,60,70,90,110,130]
[18,120,230,340,null,null,10,20,null,null,80,60,10,20,50,100,null,10,null,30,null,40,null,null,null,null,null,null,null,null,30,70,null,null,60,110,null,null,null,null,null,null,null,null,null,null,null,null,null,null,null,null,null,null,71,142,170,340,null,null,null,null,null,null,null,null,null,null,null,null,null,null,null,null,null,null,null,null,null,null,null,310,260,620,530,1230,1050,null,null,null,null,null,null,null,null,null,null,null,null,null,null,null,null,null,null,null,null,null,null,null,null,310,310,260,260,620,620,530,530,1230,1230,1050,1050,50,100,null,null,null,10,20,40,60,70,90,110,130]
[19,120,230,340,null,null,10,20,null,null,80,60,10,20,50,100,null,10,null,30,null,40,null,null,null,null,null,null,null,null,30,70,null,null,60,110,null,null,null,null,null,null,null,null,null,null,null,null,null,null,null,null,null,null,71,142,170,340,null,null,null,null,null,null,null,null,null,null,null,null,null,null,null,null,null,null,null,null,null,null,null,310,260,620,530,1230,1050,null,null,null,null,null,null,null,null,null,null,null,null,null,null,null,null,null,null,null,null,null,null,null,null,310,310,260,260,620,620,530,530,1230,1230,1050,1050,50,100,null,null,null,10,20,40,60,70,90,110,130]
[20,220,430,640,null,null,10,20,null,null,100,60,20,30,90,180,10,20,30,40,50,60,70,null,null,null,null,null,null,null,30,70,null,null,60,110,null,null,null,null,null,null,null,null,null,null,null,null,null,null,null,null,null,null,71,142,170,340,null,null,null,null,null,null,null,null,null,null,null,null,null,null,null,null,null,null,null,null,null,null,null,430,370,880,740,1740,1470,null,null,null,null,null,null,null,null,null,null,null,null,null,null,null,null,null,null,null,null,null,null,null,null,430,430,370,370,880,880,740,740,1740,1740,1470,1470,90,180,null,null,null,10,30,50,80,100,130,150,180]
[21,220,430,640,null,null,10,20,null,null,100,60,20,30,90,180,10,20,30,40,50,60,70,null,null,null,null,null,null,null,30,70,null,null,60,110,null,null,null,null,null,null,null,null,null,null,null,null,null,null,null,null,null,null,71,142,170,340,null,null,null,null,null,null,null,null,null,null,null,null,null,null,null,null,null,null,null,null,null,null,null,430,370,880,740,1740,1470,null,null,null,null,null,null,null,null,null,null,null,null,null,null,null,null,null,null,null,null,null,null,null,null,430,430,370,370,880,880,740,740,1740,1740,1470,1470,90,180,null,null,null,10,30,50,80,100,130,150,180]
[22,220,430,640,null,null,10,20,null,null,100,60,20,30,90,180,10,20,30,40,50,60,70,null,null,null,null,null,null,null,30,70,null,null,60,110,null,null,null,null,null,null,null,null,null,null,null,null,null,null,null,null,null,null,71,142,170,340,null,null,null,null,null,null,null,null,null,null,null,null,null,null,null,null,null,null,null,null,null,null,null,430,370,880,740,1740,1470,null,null,null,null,null,null,null,null,null,null,null,null,null,null,null,null,null,null,null,null,null,null,null,null,430,430,370,370,880,880,740,740,1740,1740,1470,1470,90,180,null,null,null,10,30,50,80,100,130,150,180]
[23,220,430,640,null,null,10,20,null,null,100,60,20,30,90,180,10,20,30,40,50,60,70,null,null,null,null,null,null,null,30,70,null,null,60,110,null,null,null,null,null,null,null,null,null,null,null,null,null,null,null,null,null,null,71,142,170,340,null,null,null,null,null,null,null,null,null,null,null,null,null,null,null,null,null,null,null,null,null,null,null,430,370,880,740,1740,1470,null,null,null,null,null,null,null,null,null,null,null,null,null,null,null,null,null,null,null,null,null,null,null,null,430,430,370,370,880,880,740,740,1740,1740,1470,1470,90,180,null,null,null,10,30,50,80,100,130,150,180]
[24,220,430,640,null,null,10,20,null,null,100,60,20,30,90,180,10,20,30,40,50,60,70,null,null,null,null,null,null,null,30,70,null,null,60,110,null,null,null,null,null,null,null,null,null,null,null,null,null,null,null,null,null,null,71,142,170,340,null,null,null,null,null,null,null,null,null,null,null,null,null,null,null,null,null,null,null,null,null,null,null,430,370,880,740,1740,1470,null,null,null,null,null,null,null,null,null,null,null,null,null,null,null,null,null,null,null,null,null,null,null,null,430,430,370,370,880,880,740,740,1740,1740,1470,1470,90,180,null,null,null,10,30,50,80,100,130,150,180]
[25,240,460,680,null,null,10,20,null,null,120,60,20,50,80,160,30,60,90,130,160,190,220,null,null,null,null,null,null,null,60,110,null,null,50,100,null,null,null,null,null,null,null,null,null,null,null,null,null,null,null,null,null,null,82,164,187,374,null,null,null,null,null,null,null,null,null,null,null,null,null,null,null,null,null,null,null,null,null,null,null,470,420,950,850,1890,1680,null,null,null,null,null,null,null,null,null,null,null,null,null,null,null,null,null,null,null,null,null,null,null,null,470,470,420,420,950,950,850,850,1890,1890,1680,1680,80,160,null,null,null,10,60,120,180,230,290,350,410]
[26,240,460,680,null,null,10,20,null,null,120,60,20,50,80,160,30,60,90,130,160,190,220,null,null,null,null,null,null,null,60,110,null,null,50,100,null,null,null,null,null,null,null,null,null,null,null,null,null,null,null,null,null,null,82,164,187,374,null,null,null,null,null,null,null,null,null,null,null,null,null,null,null,null,null,null,null,null,null,null,null,470,420,950,850,1890,1680,null,null,null,null,null,null,null,null,null,null,null,null,null,null,null,null,null,null,null,null,null,null,null,null,470,470,420,420,950,950,850,850,1890,1890,1680,1680,80,160,null,null,null,10,60,120,180,230,290,350,410]
[27,240,460,680,null,null,10,20,null,null,120,60,20,50,80,160,30,60,90,130,160,190,220,null,null,null,null,null,null,null,60,110,null,null,50,100,null,null,null,null,null,null,null,null,null,null,null,null,null,null,null,null,null,null,82,164,187,374,null,null,null,null,null,null,null,null,null,null,null,null,null,null,null,null,null,null,null,null,null,null,null,470,420,950,850,1890,1680,null,null,null,null,null,null,null,null,null,null,null,null,null,null,null,null,null,null,null,null,null,null,null,null,470,470,420,420,950,950,850,850,1890,1890,1680,1680,80,160,null,null,null,10,60,120,180,230,290,350,410]
[28,240,460,680,null,null,10,20,null,null,120,60,20,50,80,160,30,60,90,130,160,190,220,null,null,null,null,null,null,null,60,110,null,null,50,100,null,null,null,null,null,null,null,null,null,null,null,null,null,null,null,null,null,null,82,164,187,374,null,null,null,null,null,null,null,null,null,null,null,null,null,null,null,null,null,null,null,null,null,null,null,470,420,950,850,1890,1680,null,null,null,null,null,null,null,null,null,null,null,null,null,null,null,null,null,null,null,null,null,null,null,null,470,470,420,420,950,950,850,850,1890,1890,1680,1680,80,160,null,null,null,10,60,120,180,230,290,350,410]
[29,240,460,680,null,null,10,20,null,null,120,60,20,50,80,160,30,60,90,130,160,190,220,null,null,null,null,null,null,null,60,110,null,null,50,100,null,null,null,null,null,null,null,null,null,null,null,null,null,null,null,null,null,null,82,164,187,374,null,null,null,null,null,null,null,null,null,null,null,null,null,null,null,null,null,null,null,null,null,null,null,470,420,950,850,1890,1680,null,null,null,null,null,null,null,null,null,null,null,null,null,null,null,null,null,null,null,null,null,null,null,null,470,470,420,420,950,950,850,850,1890,1890,1680,1680,80,160,null,null,null,10,60,120,180,230,290,350,410]
[30,270,520,770,null,null,30,60,null,null,140,60,30,60,90,180,60,120,180,250,310,370,430,null,null,null,null,null,null,null,90,180,null,null,50,90,null,null,null,null,null,null,null,null,null,null,null,null,null,null,null,null,null,null,114,228,225,450,null,null,null,null,null,null,null,null,null,null,null,null,null,null,null,null,null,null,null,null,null,null,null,610,530,1220,1070,2430,2130,null,null,null,null,null,null,null,null,null,null,null,null,null,null,null,null,null,null,null,null,null,null,null,null,610,610,530,530,1220,1220,1070,1070,2430,2430,2130,2130,90,180,null,null,null,10,100,200,300,400,500,600,700]
[31,270,520,770,null,null,30,60,null,null,140,60,30,60,90,180,60,120,180,250,310,370,430,null,null,null,null,null,null,null,90,180,null,null,50,90,null,null,null,null,null,null,null,null,null,null,null,null,null,null,null,null,null,null,114,228,225,450,null,null,null,null,null,null,null,null,null,null,null,null,null,null,null,null,null,null,null,null,null,null,null,610,530,1220,1070,2430,2130,null,null,null,null,null,null,null,null,null,null,null,null,null,null,null,null,null,null,null,null,null,null,null,null,610,610,530,530,1220,1220,1070,1070,2430,2430,2130,2130,90,180,null,null,null,10,100,200,300,400,500,600,700]
[32,270,520,770,null,null,30,60,null,null,140,60,30,60,90,180,60,120,180,250,310,370,430,null,null,null,null,null,null,null,90,180,null,null,50,90,null,null,null,null,null,null,null,null,null,null,null,null,null,null,null,null,null,null,114,228,225,450,null,null,null,null,null,null,null,null,null,null,null,null,null,null,null,null,null,null,null,null,null,null,null,610,530,1220,1070,2430,2130,null,null,null,null,null,null,null,null,null,null,null,null,null,null,null,null,null,null,null,null,null,null,null,null,610,610,530,530,1220,1220,1070,1070,2430,2430,2130,2130,90,180,null,null,null,10,100,200,300,400,500,600,700]
[33,270,520,770,null,null,30,60,null,null,140,60,30,60,90,180,60,120,180,250,310,370,430,null,null,null,null,null,null,null,90,180,null,null,50,90,null,null,null,null,null,null,null,null,null,null,null,null,null,null,null,null,null,null,114,228,225,450,null,null,null,null,null,null,null,null,null,null,null,null,null,null,null,null,null,null,null,null,null,null,null,610,530,1220,1070,2430,2130,null,null,null,null,null,null,null,null,null,null,null,null,null,null,null,null,null,null,null,null,null,null,null,null,610,610,530,530,1220,1220,1070,1070,2430,2430,2130,2130,90,180,null,null,null,10,100,200,300,400,500,600,700]
[34,270,520,770,null,null,30,60,null,null,140,60,30,60,90,180,60,120,180,250,310,370,430,null,null,null,null,null,null,null,90,180,null,null,50,90,null,null,null,null,null,null,null,null,null,null,null,null,null,null,null,null,null,null,114,228,225,450,null,null,null,null,null,null,null,null,null,null,null,null,null,null,null,null,null,null,null,null,null,null,null,610,530,1220,1070,2430,2130,null,null,null,null,null,null,null,null,null,null,null,null,null,null,null,null,null,null,null,null,null,null,null,null,610,610,530,530,1220,1220,1070,1070,2430,2430,2130,2130,90,180,null,null,null,10,100,200,300,400,500,600,700]
[35,320,620,920,null,null,60,120,null,null,170,60,20,50,120,240,100,200,300,390,490,590,690,null,null,null,null,null,null,null,100,200,null,null,40,80,null,null,null,null,null,null,null,null,null,null,null,null,null,null,null,null,null,null,153,306,283,566,null,null,null,null,null,null,null,null,null,null,null,null,null,null,null,null,null,null,null,null,null,null,null,700,650,1400,1310,2790,2610,null,null,null,null,null,null,null,null,null,null,null,null,null,null,null,null,null,null,null,null,null,null,null,null,700,700,650,650,1400,1400,1310,1310,2790,2790,2610,2610,100,210,null,null,null,10,160,320,480,640,800,960,1120]
[36,320,620,920,null,null,60,120,null,null,170,60,20,50,120,240,100,200,300,390,490,590,690,null,null,null,null,null,null,null,100,200,null,null,40,80,null,null,null,null,null,null,null,null,null,null,null,null,null,null,null,null,null,null,153,306,283,566,null,null,null,null,null,null,null,null,null,null,null,null,null,null,null,null,null,null,null,null,null,null,null,700,650,1400,1310,2790,2610,null,null,null,null,null,null,null,null,null,null,null,null,null,null,null,null,null,null,null,null,null,null,null,null,700,700,650,650,1400,1400,1310,1310,2790,2790,2610,2610,100,210,null,null,null,10,160,320,480,640,800,960,1120]
[37,320,620,920,null,null,60,120,null,null,170,60,20,50,120,240,100,200,300,390,490,590,690,null,null,null,null,null,null,null,100,200,null,null,40,80,null,null,null,null,null,null,null,null,null,null,null,null,null,null,null,null,null,null,153,306,283,566,null,null,null,null,null,null,null,null,null,null,null,null,null,null,null,null,null,null,null,null,null,null,null,700,650,1400,1310,2790,2610,null,null,null,null,null,null,null,null,null,null,null,null,null,null,null,null,null,null,null,null,null,null,null,null,700,700,650,650,1400,1400,1310,1310,2790,2790,2610,2610,100,210,null,null,null,10,160,320,480,640,800,960,1120]
[38,320,620,920,null,null,60,120,null,null,170,60,20,50,120,240,100,200,300,390,490,590,690,null,null,null,null,null,null,null,100,200,null,null,40,80,null,null,null,null,null,null,null,null,null,null,null,null,null,null,null,null,null,null,153,306,283,566,null,null,null,null,null,null,null,null,null,null,null,null,null,null,null,null,null,null,null,null,null,null,null,700,650,1400,1310,2790,2610,null,null,null,null,null,null,null,null,null,null,null,null,null,null,null,null,null,null,null,null,null,null,null,null,700,700,650,650,1400,1400,1310,1310,2790,2790,2610,2610,100,210,null,null,null,10,160,320,480,640,800,960,1120]
[39,320,620,920,null,null,60,120,null,null,170,60,20,50,120,240,100,200,300,390,490,590,690,null,null,null,null,null,null,null,100,200,null,null,40,80,null,null,null,null,null,null,null,null,null,null,null,null,null,null,null,null,null,null,153,306,283,566,null,null,null,null,null,null,null,null,null,null,null,null,null,null,null,null,null,null,null,null,null,null,null,700,650,1400,1310,2790,2610,null,null,null,null,null,null,null,null,null,null,null,null,null,null,null,null,null,null,null,null,null,null,null,null,700,700,650,650,1400,1400,1310,1310,2790,2790,2610,2610,100,210,null,null,null,10,160,320,480,640,800,960,1120]
[40,400,780,1160,null,null,100,200,null,null,190,60,30,60,160,320,160,310,470,630,790,940,1100,null,null,null,null,null,null,null,220,440,null,null,40,70,null,null,null,null,null,null,null,null,null,null,null,null,null,null,null,null,null,null,221,442,393,786,null,null,null,null,null,null,null,null,null,null,null,null,null,null,null,null,null,null,null,null,null,null,null,870,820,1750,1640,3480,3270,null,null,null,null,null,null,null,null,null,null,null,null,null,null,null,null,null,null,null,null,null,null,null,null,870,870,820,820,1750,1750,1640,1640,3480,3480,3270,3270,120,250,null,null,null,10,260,510,770,1030,1290,1540,1800]
[41,400,780,1160,null,null,100,200,null,null,190,60,30,60,160,320,160,310,470,630,790,940,1100,null,null,null,null,null,null,null,220,440,null,null,40,70,null,null,null,null,null,null,null,null,null,null,null,null,null,null,null,null,null,null,221,442,393,786,null,null,null,null,null,null,null,null,null,null,null,null,null,null,null,null,null,null,null,null,null,null,null,870,820,1750,1640,3480,3270,null,null,null,null,null,null,null,null,null,null,null,null,null,null,null,null,null,null,null,null,null,null,null,null,870,870,820,820,1750,1750,1640,1640,3480,3480,3270,3270,120,250,null,null,null,10,260,510,770,1030,1290,1540,1800]
[42,400,780,1160,null,null,100,200,null,null,190,60,30,60,160,320,160,310,470,630,790,940,1100,null,null,null,null,null,null,null,220,440,null,null,40,70,null,null,null,null,null,null,null,null,null,null,null,null,null,null,null,null,null,null,221,442,393,786,null,null,null,null,null,null,null,null,null,null,null,null,null,null,null,null,null,null,null,null,null,null,null,870,820,1750,1640,3480,3270,null,null,null,null,null,null,null,null,null,null,null,null,null,null,null,null,null,null,null,null,null,null,null,null,870,870,820,820,1750,1750,1640,1640,3480,3480,3270,3270,120,250,null,null,null,10,260,510,770,1030,1290,1540,1800]
[43,400,780,1160,null,null,100,200,null,null,190,60,30,60,160,320,160,310,470,630,790,940,1100,null,null,null,null,null,null,null,220,440,null,null,40,70,null,null,null,null,null,null,null,null,null,null,null,null,null,null,null,null,null,null,221,442,393,786,null,null,null,null,null,null,null,null,null,null,null,null,null,null,null,null,null,null,null,null,null,null,null,870,820,1750,1640,3480,3270,null,null,null,null,null,null,null,null,null,null,null,null,null,null,null,null,null,null,null,null,null,null,null,null,870,870,820,820,1750,1750,1640,1640,3480,3480,3270,3270,120,250,null,null,null,10,260,510,770,1030,1290,1540,1800]
[44,400,780,1160,null,null,100,200,null,null,190,60,30,60,160,320,160,310,470,630,790,940,1100,null,null,null,null,null,null,null,220,440,null,null,40,70,null,null,null,null,null,null,null,null,null,null,null,null,null,null,null,null,null,null,221,442,393,786,null,null,null,null,null,null,null,null,null,null,null,null,null,null,null,null,null,null,null,null,null,null,null,870,820,1750,1640,3480,3270,null,null,null,null,null,null,null,null,null,null,null,null,null,null,null,null,null,null,null,null,null,null,null,null,870,870,820,820,1750,1750,1640,1640,3480,3480,3270,3270,120,250,null,null,null,10,260,510,770,1030,1290,1540,1800]
[45,560,1050,1540,null,null,170,340,null,null,210,60,40,90,170,340,240,470,710,940,1180,1410,1650,null,null,null,null,null,null,null,370,740,null,null,70,140,null,null,null,null,null,null,null,null,null,null,null,null,null,null,null,null,null,null,329,658,516,1032,null,null,null,null,null,null,null,null,null,null,null,null,null,null,null,null,null,null,null,null,null,null,null,1040,1000,2070,1980,4140,3960,null,null,null,null,null,null,null,null,null,null,null,null,null,null,null,null,null,null,null,null,null,null,null,null,1040,1040,1000,1000,2070,2070,1980,1980,4140,4140,3960,3960,130,260,null,null,null,10,380,750,1130,1510,1890,2260,2640]
[46,560,1050,1540,null,null,170,340,null,null,210,60,40,90,170,340,240,470,710,940,1180,1410,1650,null,null,null,null,null,null,null,370,740,null,null,70,140,null,null,null,null,null,null,null,null,null,null,null,null,null,null,null,null,null,null,329,658,516,1032,null,null,null,null,null,null,null,null,null,null,null,null,null,null,null,null,null,null,null,null,null,null,null,1040,1000,2070,1980,4140,3960,null,null,null,null,null,null,null,null,null,null,null,null,null,null,null,null,null,null,null,null,null,null,null,null,1040,1040,1000,1000,2070,2070,1980,1980,4140,4140,3960,3960,130,260,null,null,null,10,380,750,1130,1510,1890,2260,2640]
[47,560,1050,1540,null,null,170,340,null,null,210,60,40,90,170,340,240,470,710,940,1180,1410,1650,null,null,null,null,null,null,null,370,740,null,null,70,140,null,null,null,null,null,null,null,null,null,null,null,null,null,null,null,null,null,null,329,658,516,1032,null,null,null,null,null,null,null,null,null,null,null,null,null,null,null,null,null,null,null,null,null,null,null,1040,1000,2070,1980,4140,3960,null,null,null,null,null,null,null,null,null,null,null,null,null,null,null,null,null,null,null,null,null,null,null,null,1040,1040,1000,1000,2070,2070,1980,1980,4140,4140,3960,3960,130,260,null,null,null,10,380,750,1130,1510,1890,2260,2640]
[48,560,1050,1540,null,null,170,340,null,null,210,60,40,90,170,340,240,470,710,940,1180,1410,1650,null,null,null,null,null,null,null,370,740,null,null,70,140,null,null,null,null,null,null,null,null,null,null,null,null,null,null,null,null,null,null,329,658,516,1032,null,null,null,null,null,null,null,null,null,null,null,null,null,null,null,null,null,null,null,null,null,null,null,1040,1000,2070,1980,4140,3960,null,null,null,null,null,null,null,null,null,null,null,null,null,null,null,null,null,null,null,null,null,null,null,null,1040,1040,1000,1000,2070,2070,1980,1980,4140,4140,3960,3960,130,260,null,null,null,10,380,750,1130,1510,1890,2260,2640]
[49,560,1050,1540,null,null,170,340,null,null,210,60,40,90,170,340,240,470,710,940,1180,1410,1650,null,null,null,null,null,null,null,370,740,null,null,70,140,null,null,null,null,null,null,null,null,null,null,null,null,null,null,null,null,null,null,329,658,516,1032,null,null,null,null,null,null,null,null,null,null,null,null,null,null,null,null,null,null,null,null,null,null,null,1040,1000,2070,1980,4140,3960,null,null,null,null,null,null,null,null,null,null,null,null,null,null,null,null,null,null,null,null,null,null,null,null,1040,1040,1000,1000,2070,2070,1980,1980,4140,4140,3960,3960,130,260,null,null,null,10,380,750,1130,1510,1890,2260,2640]
[50,750,1400,2050,null,null,270,540,null,null,280,60,70,140,240,480,290,580,870,1160,1450,1740,2030,null,null,null,null,null,null,null,510,1010,null,null,130,260,null,null,null,null,null,null,null,null,null,null,null,null,null,null,null,null,null,null,525,1050,592,1184,null,null,null,null,null,null,null,null,null,null,null,null,null,null,null,null,null,null,null,null,null,null,null,1160,1110,2330,2230,4650,4440,null,null,null,null,null,null,null,null,null,null,null,null,null,null,null,null,null,null,null,null,null,null,null,null,1160,1160,1110,1110,2330,2330,2230,2230,4650,4650,4440,4440,150,300,null,null,10,20,480,970,1450,1940,2420,2910,3390]
[51,750,1400,2050,null,null,270,540,null,null,280,60,70,140,240,480,290,580,870,1160,1450,1740,2030,null,null,null,null,null,null,null,510,1010,null,null,130,260,null,null,null,null,null,null,null,null,null,null,null,null,null,null,null,null,null,null,525,1050,592,1184,null,null,null,null,null,null,null,null,null,null,null,null,null,null,null,null,null,null,null,null,null,null,null,1160,1110,2330,2230,4650,4440,null,null,null,null,null,null,null,null,null,null,null,null,null,null,null,null,null,null,null,null,null,null,null,null,1160,1160,1110,1110,2330,2330,2230,2230,4650,4650,4440,4440,150,300,null,null,10,20,480,970,1450,1940,2420,2910,3390]
[52,750,1400,2050,null,null,270,540,null,null,280,60,70,140,240,480,290,580,870,1160,1450,1740,2030,null,null,null,null,null,null,null,510,1010,null,null,130,260,null,null,null,null,null,null,null,null,null,null,null,null,null,null,null,null,null,null,525,1050,592,1184,null,null,null,null,null,null,null,null,null,null,null,null,null,null,null,null,null,null,null,null,null,null,null,1160,1110,2330,2230,4650,4440,null,null,null,null,null,null,null,null,null,null,null,null,null,null,null,null,null,null,null,null,null,null,null,null,1160,1160,1110,1110,2330,2330,2230,2230,4650,4650,4440,4440,150,300,null,null,10,20,480,970,1450,1940,2420,2910,3390]
[53,750,1400,2050,null,null,270,540,null,null,280,60,70,140,240,480,290,580,870,1160,1450,1740,2030,null,null,null,null,null,null,null,510,1010,null,null,130,260,null,null,null,null,null,null,null,null,null,null,null,null,null,null,null,null,null,null,525,1050,592,1184,null,null,null,null,null,null,null,null,null,null,null,null,null,null,null,null,null,null,null,null,null,null,null,1160,1110,2330,2230,4650,4440,null,null,null,null,null,null,null,null,null,null,null,null,null,null,null,null,null,null,null,null,null,null,null,null,1160,1160,1110,1110,2330,2330,2230,2230,4650,4650,4440,4440,150,300,null,null,10,20,480,970,1450,1940,2420,2910,3390]
[54,750,1400,2050,null,null,270,540,null,null,280,60,70,140,240,480,290,580,870,1160,1450,1740,2030,null,null,null,null,null,null,null,510,1010,null,null,130,260,null,null,null,null,null,null,null,null,null,null,null,null,null,null,null,null,null,null,525,1050,592,1184,null,null,null,null,null,null,null,null,null,null,null,null,null,null,null,null,null,null,null,null,null,null,null,1160,1110,2330,2230,4650,4440,null,null,null,null,null,null,null,null,null,null,null,null,null,null,null,null,null,null,null,null,null,null,null,null,1160,1160,1110,1110,2330,2330,2230,2230,4650,4650,4440,4440,150,300,null,null,10,20,480,970,1450,1940,2420,2910,3390]
[55,1020,1890,2760,null,null,400,800,null,null,350,60,110,220,280,560,470,930,1400,1860,2330,2790,3260,null,null,null,null,null,null,null,550,1090,null,null,250,500,null,null,null,null,null,null,null,null,null,null,null,null,null,null,null,null,null,null,847,1694,585,1170,null,null,null,null,null,null,null,null,null,null,null,null,null,null,null,null,null,null,null,null,null,null,null,1210,1180,2440,2360,4860,4710,null,null,null,null,null,null,null,null,null,null,null,null,null,null,null,null,null,null,null,null,null,null,null,null,1210,1210,1180,1180,2440,2440,2360,2360,4860,4860,4710,4710,170,340,20,40,30,60,730,1460,2190,2920,3650,4380,5110]
[56,1020,1890,2760,null,null,400,800,null,null,350,60,110,220,280,560,470,930,1400,1860,2330,2790,3260,null,null,null,null,null,null,null,550,1090,null,null,250,500,null,null,null,null,null,null,null,null,null,null,null,null,null,null,null,null,null,null,847,1694,585,1170,null,null,null,null,null,null,null,null,null,null,null,null,null,null,null,null,null,null,null,null,null,null,null,1210,1180,2440,2360,4860,4710,null,null,null,null,null,null,null,null,null,null,null,null,null,null,null,null,null,null,null,null,null,null,null,null,1210,1210,1180,1180,2440,2440,2360,2360,4860,4860,4710,4710,170,340,20,40,30,60,730,1460,2190,2920,3650,4380,5110]
[57,1020,1890,2760,null,null,400,800,null,null,350,60,110,220,280,560,470,930,1400,1860,2330,2790,3260,null,null,null,null,null,null,null,550,1090,null,null,250,500,null,null,null,null,null,null,null,null,null,null,null,null,null,null,null,null,null,null,847,1694,585,1170,null,null,null,null,null,null,null,null,null,null,null,null,null,null,null,null,null,null,null,null,null,null,null,1210,1180,2440,2360,4860,4710,null,null,null,null,null,null,null,null,null,null,null,null,null,null,null,null,null,null,null,null,null,null,null,null,1210,1210,1180,1180,2440,2440,2360,2360,4860,4860,4710,4710,170,340,20,40,30,60,730,1460,2190,2920,3650,4380,5110]
[58,1020,1890,2760,null,null,400,800,null,null,350,60,110,220,280,560,470,930,1400,1860,2330,2790,3260,null,null,null,null,null,null,null,550,1090,null,null,250,500,null,null,null,null,null,null,null,null,null,null,null,null,null,null,null,null,null,null,847,1694,585,1170,null,null,null,null,null,null,null,null,null,null,null,null,null,null,null,null,null,null,null,null,null,null,null,1210,1180,2440,2360,4860,4710,null,null,null,null,null,null,null,null,null,null,null,null,null,null,null,null,null,null,null,null,null,null,null,null,1210,1210,1180,1180,2440,2440,2360,2360,4860,4860,4710,4710,170,340,20,40,30,60,730,1460,2190,2920,3650,4380,5110]
[59,1020,1890,2760,null,null,400,800,null,null,350,60,110,220,280,560,470,930,1400,1860,2330,2790,3260,null,null,null,null,null,null,null,550,1090,null,null,250,500,null,null,null,null,null,null,null,null,null,null,null,null,null,null,null,null,null,null,847,1694,585,1170,null,null,null,null,null,null,null,null,null,null,null,null,null,null,null,null,null,null,null,null,null,null,null,1210,1180,2440,2360,4860,4710,null,null,null,null,null,null,null,null,null,null,null,null,null,null,null,null,null,null,null,null,null,null,null,null,1210,1210,1180,1180,2440,2440,2360,2360,4860,4860,4710,4710,170,340,20,40,30,60,730,1460,2190,2920,3650,4380,5110]
[60,1340,2480,3620,null,null,570,1140,null,null,470,60,170,350,370,740,910,1820,2730,3640,4550,5460,6370,null,null,null,null,null,null,null,620,1230,null,null,450,900,null,null,null,null,null,null,null,null,null,null,null,null,null,null,null,null,null,null,1399,2798,null,null,null,null,null,null,null,null,null,null,null,null,null,null,null,null,null,null,null,null,null,null,null,null,null,1250,1220,2510,2430,5010,4860,null,null,null,null,null,null,null,null,null,null,null,null,null,null,null,null,null,null,null,null,null,null,null,null,1250,1250,1220,1220,2510,2510,2430,2430,5010,5010,4860,4860,200,400,40,90,60,130,1300,2600,3900,5210,6510,7810,9110]
[61,1340,2480,3620,null,null,570,1140,null,null,470,60,170,350,370,740,910,1820,2730,3640,4550,5460,6370,null,null,null,null,null,null,null,620,1230,null,null,450,900,null,null,null,null,null,null,null,null,null,null,null,null,null,null,null,null,null,null,1399,2798,null,null,null,null,null,null,null,null,null,null,null,null,null,null,null,null,null,null,null,null,null,null,null,null,null,1250,1220,2510,2430,5010,4860,null,null,null,null,null,null,null,null,null,null,null,null,null,null,null,null,null,null,null,null,null,null,null,null,1250,1250,1220,1220,2510,2510,2430,2430,5010,5010,4860,4860,200,400,40,90,60,130,1300,2600,3900,5210,6510,7810,9110]
[62,1340,2480,3620,null,null,570,1140,null,null,470,60,170,350,370,740,910,1820,2730,3640,4550,5460,6370,null,null,null,null,null,null,null,620,1230,null,null,450,900,null,null,null,null,null,null,null,null,null,null,null,null,null,null,null,null,null,null,1399,2798,null,null,null,null,null,null,null,null,null,null,null,null,null,null,null,null,null,null,null,null,null,null,null,null,null,1250,1220,2510,2430,5010,4860,null,null,null,null,null,null,null,null,null,null,null,null,null,null,null,null,null,null,null,null,null,null,null,null,1250,1250,1220,1220,2510,2510,2430,2430,5010,5010,4860,4860,200,400,40,90,60,130,1300,2600,3900,5210,6510,7810,9110]
[63,1340,2480,3620,null,null,570,1140,null,null,470,60,170,350,370,740,910,1820,2730,3640,4550,5460,6370,null,null,null,null,null,null,null,620,1230,null,null,450,900,null,null,null,null,null,null,null,null,null,null,null,null,null,null,null,null,null,null,1399,2798,null,null,null,null,null,null,null,null,null,null,null,null,null,null,null,null,null,null,null,null,null,null,null,null,null,1250,1220,2510,2430,5010,4860,null,null,null,null,null,null,null,null,null,null,null,null,null,null,null,null,null,null,null,null,null,null,null,null,1250,1250,1220,1220,2510,2510,2430,2430,5010,5010,4860,4860,200,400,40,90,60,130,1300,2600,3900,5210,6510,7810,9110]
[64,1340,2480,3620,null,null,570,1140,null,null,470,60,170,350,370,740,910,1820,2730,3640,4550,5460,6370,null,null,null,null,null,null,null,620,1230,null,null,450,900,null,null,null,null,null,null,null,null,null,null,null,null,null,null,null,null,null,null,1399,2798,null,null,null,null,null,null,null,null,null,null,null,null,null,null,null,null,null,null,null,null,null,null,null,null,null,1250,1220,2510,2430,5010,4860,null,null,null,null,null,null,null,null,null,null,null,null,null,null,null,null,null,null,null,null,null,null,null,null,1250,1250,1220,1220,2510,2510,2430,2430,5010,5010,4860,4860,200,400,40,90,60,130,1300,2600,3900,5210,6510,7810,9110]
[65,1760,3240,4720,null,null,760,1520,null,null,590,60,280,570,430,860,1220,2440,3660,4890,6110,7330,8550,null,null,null,null,null,null,null,770,1550,null,null,840,1690,null,null,null,null,null,null,null,null,null,null,null,null,null,null,null,null,null,null,null,null,null,null,null,null,null,null,null,null,null,null,null,null,null,null,null,null,null,null,null,null,null,null,null,null,null,1530,1490,3050,2980,6090,5940,null,null,null,null,null,null,null,null,null,null,null,null,null,null,null,null,null,null,null,null,null,null,null,null,1530,1530,1490,1490,3050,3050,2980,2980,6090,6090,5940,5940,220,440,100,200,150,300,1800,3600,5400,7200,9000,10800,12600]
[66,1760,3240,4720,null,null,760,1520,null,null,590,60,280,570,430,860,1220,2440,3660,4890,6110,7330,8550,null,null,null,null,null,null,null,770,1550,null,null,840,1690,null,null,null,null,null,null,null,null,null,null,null,null,null,null,null,null,null,null,null,null,null,null,null,null,null,null,null,null,null,null,null,null,null,null,null,null,null,null,null,null,null,null,null,null,null,1530,1490,3050,2980,6090,5940,null,null,null,null,null,null,null,null,null,null,null,null,null,null,null,null,null,null,null,null,null,null,null,null,1530,1530,1490,1490,3050,3050,2980,2980,6090,6090,5940,5940,220,440,100,200,150,300,1800,3600,5400,7200,9000,10800,12600]
[67,1760,3240,4720,null,null,760,1520,null,null,590,60,280,570,430,860,1220,2440,3660,4890,6110,7330,8550,null,null,null,null,null,null,null,770,1550,null,null,840,1690,null,null,null,null,null,null,null,null,null,null,null,null,null,null,null,null,null,null,null,null,null,null,null,null,null,null,null,null,null,null,null,null,null,null,null,null,null,null,null,null,null,null,null,null,null,1530,1490,3050,2980,6090,5940,null,null,null,null,null,null,null,null,null,null,null,null,null,null,null,null,null,null,null,null,null,null,null,null,1530,1530,1490,1490,3050,3050,2980,2980,6090,6090,5940,5940,220,440,100,200,150,300,1800,3600,5400,7200,9000,10800,12600]
[68,1760,3240,4720,null,null,760,1520,null,null,590,60,280,570,430,860,1220,2440,3660,4890,6110,7330,8550,null,null,null,null,null,null,null,770,1550,null,null,840,1690,null,null,null,null,null,null,null,null,null,null,null,null,null,null,null,null,null,null,null,null,null,null,null,null,null,null,null,null,null,null,null,null,null,null,null,null,null,null,null,null,null,null,null,null,null,1530,1490,3050,2980,6090,5940,null,null,null,null,null,null,null,null,null,null,null,null,null,null,null,null,null,null,null,null,null,null,null,null,1530,1530,1490,1490,3050,3050,2980,2980,6090,6090,5940,5940,220,440,100,200,150,300,1800,3600,5400,7200,9000,10800,12600]
[69,1760,3240,4720,null,null,760,1520,null,null,590,60,280,570,430,860,1220,2440,3660,4890,6110,7330,8550,null,null,null,null,null,null,null,770,1550,null,null,840,1690,null,null,null,null,null,null,null,null,null,null,null,null,null,null,null,null,null,null,null,null,null,null,null,null,null,null,null,null,null,null,null,null,null,null,null,null,null,null,null,null,null,null,null,null,null,1530,1490,3050,2980,6090,5940,null,null,null,null,null,null,null,null,null,null,null,null,null,null,null,null,null,null,null,null,null,null,null,null,1530,1530,1490,1490,3050,3050,2980,2980,6090,6090,5940,5940,220,440,100,200,150,300,1800,3600,5400,7200,9000,10800,12600]
[70,null,null,null,2180,3620,1130,2260,null,null,740,60,520,1050,570,1140,1570,3140,4710,6270,7840,9410,10980,null,null,null,null,null,null,null,950,1900,null,null,1580,3160,null,null,null,null,null,null,null,null,null,null,null,null,null,null,null,null,null,null,null,null,null,null,null,null,null,null,null,null,null,null,null,null,null,null,null,null,null,null,null,null,null,null,null,null,null,null,null,null,null,null,null,null,null,null,null,null,null,null,null,null,null,null,null,null,null,null,null,null,null,null,null,null,null,null,null,null,null,null,null,null,null,null,null,null,null,null,null,270,540,220,440,340,690,2340,4680,7020,9360,11700,14040,16380]
[71,null,null,null,2180,3620,1130,2260,null,null,740,60,520,1050,570,1140,1570,3140,4710,6270,7840,9410,10980,null,null,null,null,null,null,null,950,1900,null,null,1580,3160,null,null,null,null,null,null,null,null,null,null,null,null,null,null,null,null,null,null,null,null,null,null,null,null,null,null,null,null,null,null,null,null,null,null,null,null,null,null,null,null,null,null,null,null,null,null,null,null,null,null,null,null,null,null,null,null,null,null,null,null,null,null,null,null,null,null,null,null,null,null,null,null,null,null,null,null,null,null,null,null,null,null,null,null,null,null,null,270,540,220,440,340,690,2340,4680,7020,9360,11700,14040,16380]
[72,null,null,null,2180,3620,1130,2260,null,null,740,60,520,1050,570,1140,1570,3140,4710,6270,7840,9410,10980,null,null,null,null,null,null,null,950,1900,null,null,1580,3160,null,null,null,null,null,null,null,null,null,null,null,null,null,null,null,null,null,null,null,null,null,null,null,null,null,null,null,null,null,null,null,null,null,null,null,null,null,null,null,null,null,null,null,null,null,null,null,null,null,null,null,null,null,null,null,null,null,null,null,null,null,null,null,null,null,null,null,null,null,null,null,null,null,null,null,null,null,null,null,null,null,null,null,null,null,null,null,270,540,220,440,340,690,2340,4680,7020,9360,11700,14040,16380]
[73,null,null,null,2180,3620,1130,2260,null,null,740,60,520,1050,570,1140,1570,3140,4710,6270,7840,9410,10980,null,null,null,null,null,null,null,950,1900,null,null,1580,3160,null,null,null,null,null,null,null,null,null,null,null,null,null,null,null,null,null,null,null,null,null,null,null,null,null,null,null,null,null,null,null,null,null,null,null,null,null,null,null,null,null,null,null,null,null,null,null,null,null,null,null,null,null,null,null,null,null,null,null,null,null,null,null,null,null,null,null,null,null,null,null,null,null,null,null,null,null,null,null,null,null,null,null,null,null,null,null,270,540,220,440,340,690,2340,4680,7020,9360,11700,14040,16380]
[74,null,null,null,2180,3620,1130,2260,null,null,740,60,520,1050,570,1140,1570,3140,4710,6270,7840,9410,10980,null,null,null,null,null,null,null,950,1900,null,null,1580,3160,null,null,null,null,null,null,null,null,null,null,null,null,null,null,null,null,null,null,null,null,null,null,null,null,null,null,null,null,null,null,null,null,null,null,null,null,null,null,null,null,null,null,null,null,null,null,null,null,null,null,null,null,null,null,null,null,null,null,null,null,null,null,null,null,null,null,null,null,null,null,null,null,null,null,null,null,null,null,null,null,null,null,null,null,null,null,null,270,540,220,440,340,690,2340,4680,7020,9360,11700,14040,16380]
[75,null,null,null,2370,3940,1310,2620,null,null,760,60,770,1530,470,940,1580,3160,4740,6330,7910,9490,11070,null,null,null,null,null,null,null,1190,2380,null,null,2640,5270,null,null,null,null,null,null,null,null,null,null,null,null,null,null,null,null,null,null,null,null,null,null,null,null,null,null,null,null,null,null,null,null,null,null,null,null,null,null,null,null,null,null,null,null,null,null,null,null,null,null,null,null,null,null,null,null,null,null,null,null,null,null,null,null,null,null,null,null,null,null,null,null,null,null,null,null,null,null,null,null,null,null,null,null,null,null,null,190,370,480,960,760,1530,2560,5130,7690,10260,12820,15390,17950]
[76,null,null,null,2370,3940,1310,2620,null,null,760,60,770,1530,470,940,1580,3160,4740,6330,7910,9490,11070,null,null,null,null,null,null,null,1190,2380,null,null,2640,5270,null,null,null,null,null,null,null,null,null,null,null,null,null,null,null,null,null,null,null,null,null,null,null,null,null,null,null,null,null,null,null,null,null,null,null,null,null,null,null,null,null,null,null,null,null,null,null,null,null,null,null,null,null,null,null,null,null,null,null,null,null,null,null,null,null,null,null,null,null,null,null,null,null,null,null,null,null,null,null,null,null,null,null,null,null,null,null,190,370,480,960,760,1530,2560,5130,7690,10260,12820,15390,17950]
[77,null,null,null,2370,3940,1310,2620,null,null,760,60,770,1530,470,940,1580,3160,4740,6330,7910,9490,11070,null,null,null,null,null,null,null,1190,2380,null,null,2640,5270,null,null,null,null,null,null,null,null,null,null,null,null,null,null,null,null,null,null,null,null,null,null,null,null,null,null,null,null,null,null,null,null,null,null,null,null,null,null,null,null,null,null,null,null,null,null,null,null,null,null,null,null,null,null,null,null,null,null,null,null,null,null,null,null,null,null,null,null,null,null,null,null,null,null,null,null,null,null,null,null,null,null,null,null,null,null,null,190,370,480,960,760,1530,2560,5130,7690,10260,12820,15390,17950]
[78,null,null,null,2370,3940,1310,2620,null,null,760,60,770,1530,470,940,1580,3160,4740,6330,7910,9490,11070,null,null,null,null,null,null,null,1190,2380,null,null,2640,5270,null,null,null,null,null,null,null,null,null,null,null,null,null,null,null,null,null,null,null,null,null,null,null,null,null,null,null,null,null,null,null,null,null,null,null,null,null,null,null,null,null,null,null,null,null,null,null,null,null,null,null,null,null,null,null,null,null,null,null,null,null,null,null,null,null,null,null,null,null,null,null,null,null,null,null,null,null,null,null,null,null,null,null,null,null,null,null,190,370,480,960,760,1530,2560,5130,7690,10260,12820,15390,17950]
[79,null,null,null,2370,3940,1310,2620,null,null,760,60,770,1530,470,940,1580,3160,4740,6330,7910,9490,11070,null,null,null,null,null,null,null,1190,2380,null,null,2640,5270,null,null,null,null,null,null,null,null,null,null,null,null,null,null,null,null,null,null,null,null,null,null,null,null,null,null,null,null,null,null,null,null,null,null,null,null,null,null,null,null,null,null,null,null,null,null,null,null,null,null,null,null,null,null,null,null,null,null,null,null,null,null,null,null,null,null,null,null,null,null,null,null,null,null,null,null,null,null,null,null,null,null,null,null,null,null,null,190,370,480,960,760,1530,2560,5130,7690,10260,12820,15390,17950]
[80,null,null,null,2760,4610,1650,3300,null,null,940,60,900,1800,450,900,870,1740,2610,3470,4340,5210,6080,null,null,null,null,null,null,null,1040,2070,null,null,5490,10980,null,null,null,null,null,null,null,null,null,null,null,null,null,null,null,null,null,null,null,null,null,null,null,null,null,null,null,null,null,null,null,null,null,null,null,null,null,null,null,null,null,null,null,null,null,null,null,null,null,null,null,null,null,null,null,null,null,null,null,null,null,null,null,null,null,null,null,null,null,null,null,null,null,null,null,null,null,null,null,null,null,null,null,null,null,null,null,140,290,1220,2450,1980,3950,1990,3970,5960,7950,9940,11920,13910]
[81,null,null,null,2760,4610,1650,3300,null,null,940,60,900,1800,450,900,870,1740,2610,3470,4340,5210,6080,null,null,null,null,null,null,null,1040,2070,null,null,5490,10980,null,null,null,null,null,null,null,null,null,null,null,null,null,null,null,null,null,null,null,null,null,null,null,null,null,null,null,null,null,null,null,null,null,null,null,null,null,null,null,null,null,null,null,null,null,null,null,null,null,null,null,null,null,null,null,null,null,null,null,null,null,null,null,null,null,null,null,null,null,null,null,null,null,null,null,null,null,null,null,null,null,null,null,null,null,null,null,140,290,1220,2450,1980,3950,1990,3970,5960,7950,9940,11920,13910]
[82,null,null,null,2760,4610,1650,3300,null,null,940,60,900,1800,450,900,870,1740,2610,3470,4340,5210,6080,null,null,null,null,null,null,null,1040,2070,null,null,5490,10980,null,null,null,null,null,null,null,null,null,null,null,null,null,null,null,null,null,null,null,null,null,null,null,null,null,null,null,null,null,null,null,null,null,null,null,null,null,null,null,null,null,null,null,null,null,null,null,null,null,null,null,null,null,null,null,null,null,null,null,null,null,null,null,null,null,null,null,null,null,null,null,null,null,null,null,null,null,null,null,null,null,null,null,null,null,null,null,140,290,1220,2450,1980,3950,1990,3970,5960,7950,9940,11920,13910]
[83,null,null,null,2760,4610,1650,3300,null,null,940,60,900,1800,450,900,870,1740,2610,3470,4340,5210,6080,null,null,null,null,null,null,null,1040,2070,null,null,5490,10980,null,null,null,null,null,null,null,null,null,null,null,null,null,null,null,null,null,null,null,null,null,null,null,null,null,null,null,null,null,null,null,null,null,null,null,null,null,null,null,null,null,null,null,null,null,null,null,null,null,null,null,null,null,null,null,null,null,null,null,null,null,null,null,null,null,null,null,null,null,null,null,null,null,null,null,null,null,null,null,null,null,null,null,null,null,null,null,140,290,1220,2450,1980,3950,1990,3970,5960,7950,9940,11920,13910]
[84,null,null,null,2760,4610,1650,3300,null,null,940,60,900,1800,450,900,870,1740,2610,3470,4340,5210,6080,null,null,null,null,null,null,null,1040,2070,null,null,5490,10980,null,null,null,null,null,null,null,null,null,null,null,null,null,null,null,null,null,null,null,null,null,null,null,null,null,null,null,null,null,null,null,null,null,null,null,null,null,null,null,null,null,null,null,null,null,null,null,null,null,null,null,null,null,null,null,null,null,null,null,null,null,null,null,null,null,null,null,null,null,null,null,null,null,null,null,null,null,null,null,null,null,null,null,null,null,null,null,140,290,1220,2450,1980,3950,1990,3970,5960,7950,9940,11920,13910]
[85,null,null,null,3170,5280,2020,4040,null,null,960,60,1040,2070,520,1040,570,1130,1700,2270,2840,3400,3970,null,null,null,null,null,null,null,1010,2030,null,null,9360,18730,null,null,null,null,null,null,null,null,null,null,null,null,null,null,null,null,null,null,null,null,null,null,null,null,null,null,null,null,null,null,null,null,null,null,null,null,null,null,null,null,null,null,null,null,null,null,null,null,null,null,null,null,null,null,null,null,null,null,null,null,null,null,null,null,null,null,null,null,null,null,null,null,null,null,null,null,null,null,null,null,null,null,null,null,null,null,null,120,250,2640,5270,3990,7980,1770,3550,5320,7090,8860,10640,12410]
[86,null,null,null,3170,5280,2020,4040,null,null,960,60,1040,2070,520,1040,570,1130,1700,2270,2840,3400,3970,null,null,null,null,null,null,null,1010,2030,null,null,9360,18730,null,null,null,null,null,null,null,null,null,null,null,null,null,null,null,null,null,null,null,null,null,null,null,null,null,null,null,null,null,null,null,null,null,null,null,null,null,null,null,null,null,null,null,null,null,null,null,null,null,null,null,null,null,null,null,null,null,null,null,null,null,null,null,null,null,null,null,null,null,null,null,null,null,null,null,null,null,null,null,null,null,null,null,null,null,null,null,120,250,2640,5270,3990,7980,1770,3550,5320,7090,8860,10640,12410]
[87,null,null,null,3170,5280,2020,4040,null,null,960,60,1040,2070,520,1040,570,1130,1700,2270,2840,3400,3970,null,null,null,null,null,null,null,1010,2030,null,null,9360,18730,null,null,null,null,null,null,null,null,null,null,null,null,null,null,null,null,null,null,null,null,null,null,null,null,null,null,null,null,null,null,null,null,null,null,null,null,null,null,null,null,null,null,null,null,null,null,null,null,null,null,null,null,null,null,null,null,null,null,null,null,null,null,null,null,null,null,null,null,null,null,null,null,null,null,null,null,null,null,null,null,null,null,null,null,null,null,null,120,250,2640,5270,3990,7980,1770,3550,5320,7090,8860,10640,12410]
[88,null,null,null,3170,5280,2020,4040,null,null,960,60,1040,2070,520,1040,570,1130,1700,2270,2840,3400,3970,null,null,null,null,null,null,null,1010,2030,null,null,9360,18730,null,null,null,null,null,null,null,null,null,null,null,null,null,null,null,null,null,null,null,null,null,null,null,null,null,null,null,null,null,null,null,null,null,null,null,null,null,null,null,null,null,null,null,null,null,null,null,null,null,null,null,null,null,null,null,null,null,null,null,null,null,null,null,null,null,null,null,null,null,null,null,null,null,null,null,null,null,null,null,null,null,null,null,null,null,null,null,120,250,2640,5270,3990,7980,1770,3550,5320,7090,8860,10640,12410]
[89,null,null,null,3170,5280,2020,4040,null,null,960,60,1040,2070,520,1040,570,1130,1700,2270,2840,3400,3970,null,null,null,null,null,null,null,1010,2030,null,null,9360,18730,null,null,null,null,null,null,null,null,null,null,null,null,null,null,null,null,null,null,null,null,null,null,null,null,null,null,null,null,null,null,null,null,null,null,null,null,null,null,null,null,null,null,null,null,null,null,null,null,null,null,null,null,null,null,null,null,null,null,null,null,null,null,null,null,null,null,null,null,null,null,null,null,null,null,null,null,null,null,null,null,null,null,null,null,null,null,null,120,250,2640,5270,3990,7980,1770,3550,5320,7090,8860,10640,12410]
[90,null,null,null,3170,5280,2020,4040,null,null,960,60,1040,2070,520,1040,570,1130,1700,2270,2840,3400,3970,null,null,null,null,null,null,null,1010,2030,null,null,9360,18730,null,null,null,null,null,null,null,null,null,null,null,null,null,null,null,null,null,null,null,null,null,null,null,null,null,null,null,null,null,null,null,null,null,null,null,null,null,null,null,null,null,null,null,null,null,null,null,null,null,null,null,null,null,null,null,null,null,null,null,null,null,null,null,null,null,null,null,null,null,null,null,null,null,null,null,null,null,null,null,null,null,null,null,null,null,null,null,120,250,2640,5270,3990,7980,1770,3550,5320,7090,8860,10640,12410]
[91,null,null,null,3170,5280,2020,4040,null,null,960,60,1040,2070,520,1040,570,1130,1700,2270,2840,3400,3970,null,null,null,null,null,null,null,1010,2030,null,null,9360,18730,null,null,null,null,null,null,null,null,null,null,null,null,null,null,null,null,null,null,null,null,null,null,null,null,null,null,null,null,null,null,null,null,null,null,null,null,null,null,null,null,null,null,null,null,null,null,null,null,null,null,null,null,null,null,null,null,null,null,null,null,null,null,null,null,null,null,null,null,null,null,null,null,null,null,null,null,null,null,null,null,null,null,null,null,null,null,null,120,250,2640,5270,3990,7980,1770,3550,5320,7090,8860,10640,12410]
[92,null,null,null,3170,5280,2020,4040,null,null,960,60,1040,2070,520,1040,570,1130,1700,2270,2840,3400,3970,null,null,null,null,null,null,null,1010,2030,null,null,9360,18730,null,null,null,null,null,null,null,null,null,null,null,null,null,null,null,null,null,null,null,null,null,null,null,null,null,null,null,null,null,null,null,null,null,null,null,null,null,null,null,null,null,null,null,null,null,null,null,null,null,null,null,null,null,null,null,null,null,null,null,null,null,null,null,null,null,null,null,null,null,null,null,null,null,null,null,null,null,null,null,null,null,null,null,null,null,null,null,120,250,2640,5270,3990,7980,1770,3550,5320,7090,8860,10640,12410]
[93,null,null,null,3170,5280,2020,4040,null,null,960,60,1040,2070,520,1040,570,1130,1700,2270,2840,3400,3970,null,null,null,null,null,null,null,1010,2030,null,null,9360,18730,null,null,null,null,null,null,null,null,null,null,null,null,null,null,null,null,null,null,null,null,null,null,null,null,null,null,null,null,null,null,null,null,null,null,null,null,null,null,null,null,null,null,null,null,null,null,null,null,null,null,null,null,null,null,null,null,null,null,null,null,null,null,null,null,null,null,null,null,null,null,null,null,null,null,null,null,null,null,null,null,null,null,null,null,null,null,null,120,250,2640,5270,3990,7980,1770,3550,5320,7090,8860,10640,12410]
[94,null,null,null,3170,5280,2020,4040,null,null,960,60,1040,2070,520,1040,570,1130,1700,2270,2840,3400,3970,null,null,null,null,null,null,null,1010,2030,null,null,9360,18730,null,null,null,null,null,null,null,null,null,null,null,null,null,null,null,null,null,null,null,null,null,null,null,null,null,null,null,null,null,null,null,null,null,null,null,null,null,null,null,null,null,null,null,null,null,null,null,null,null,null,null,null,null,null,null,null,null,null,null,null,null,null,null,null,null,null,null,null,null,null,null,null,null,null,null,null,null,null,null,null,null,null,null,null,null,null,null,120,250,2640,5270,3990,7980,1770,3550,5320,7090,8860,10640,12410]
[95,null,null,null,3170,5280,2020,4040,null,null,960,60,1040,2070,520,1040,570,1130,1700,2270,2840,3400,3970,null,null,null,null,null,null,null,1010,2030,null,null,9360,18730,null,null,null,null,null,null,null,null,null,null,null,null,null,null,null,null,null,null,null,null,null,null,null,null,null,null,null,null,null,null,null,null,null,null,null,null,null,null,null,null,null,null,null,null,null,null,null,null,null,null,null,null,null,null,null,null,null,null,null,null,null,null,null,null,null,null,null,null,null,null,null,null,null,null,null,null,null,null,null,null,null,null,null,null,null,null,null,120,250,2640,5270,3990,7980,1770,3550,5320,7090,8860,10640,12410]
[96,null,null,null,3170,5280,2020,4040,null,null,960,60,1040,2070,520,1040,570,1130,1700,2270,2840,3400,3970,null,null,null,null,null,null,null,1010,2030,null,null,9360,18730,null,null,null,null,null,null,null,null,null,null,null,null,null,null,null,null,null,null,null,null,null,null,null,null,null,null,null,null,null,null,null,null,null,null,null,null,null,null,null,null,null,null,null,null,null,null,null,null,null,null,null,null,null,null,null,null,null,null,null,null,null,null,null,null,null,null,null,null,null,null,null,null,null,null,null,null,null,null,null,null,null,null,null,null,null,null,null,120,250,2640,5270,3990,7980,1770,3550,5320,7090,8860,10640,12410]
[97,null,null,null,3170,5280,2020,4040,null,null,960,60,1040,2070,520,1040,570,1130,1700,2270,2840,3400,3970,null,null,null,null,null,null,null,1010,2030,null,null,9360,18730,null,null,null,null,null,null,null,null,null,null,null,null,null,null,null,null,null,null,null,null,null,null,null,null,null,null,null,null,null,null,null,null,null,null,null,null,null,null,null,null,null,null,null,null,null,null,null,null,null,null,null,null,null,null,null,null,null,null,null,null,null,null,null,null,null,null,null,null,null,null,null,null,null,null,null,null,null,null,null,null,null,null,null,null,null,null,null,120,250,2640,5270,3990,7980,1770,3550,5320,7090,8860,10640,12410]
[98,null,null,null,3170,5280,2020,4040,null,null,960,60,1040,2070,520,1040,570,1130,1700,2270,2840,3400,3970,null,null,null,null,null,null,null,1010,2030,null,null,9360,18730,null,null,null,null,null,null,null,null,null,null,null,null,null,null,null,null,null,null,null,null,null,null,null,null,null,null,null,null,null,null,null,null,null,null,null,null,null,null,null,null,null,null,null,null,null,null,null,null,null,null,null,null,null,null,null,null,null,null,null,null,null,null,null,null,null,null,null,null,null,null,null,null,null,null,null,null,null,null,null,null,null,null,null,null,null,null,null,120,250,2640,5270,3990,7980,1770,3550,5320,7090,8860,10640,12410]
[99,null,null,null,3170,5280,2020,4040,null,null,960,60,1040,2070,520,1040,570,1130,1700,2270,2840,3400,3970,null,null,null,null,null,null,null,1010,2030,null,null,9360,18730,null,null,null,null,null,null,null,null,null,null,null,null,null,null,null,null,null,null,null,null,null,null,null,null,null,null,null,null,null,null,null,null,null,null,null,null,null,null,null,null,null,null,null,null,null,null,null,null,null,null,null,null,null,null,null,null,null,null,null,null,null,null,null,null,null,null,null,null,null,null,null,null,null,null,null,null,null,null,null,null,null,null,null,null,null,null,null,120,250,2640,5270,3990,7980,1770,3550,5320,7090,8860,10640,12410]
[100,null,null,null,3170,5280,2020,4040,null,null,960,60,1040,2070,520,1040,570,1130,1700,2270,2840,3400,3970,null,null,null,null,null,null,null,1010,2030,null,null,9360,18730,null,null,null,null,null,null,null,null,null,null,null,null,null,null,null,null,null,null,null,null,null,null,null,null,null,null,null,null,null,null,null,null,null,null,null,null,null,null,null,null,null,null,null,null,null,null,null,null,null,null,null,null,null,null,null,null,null,null,null,null,null,null,null,null,null,null,null,null,null,null,null,null,null,null,null,null,null,null,null,null,null,null,null,null,null,null,null,120,250,2640,5270,3990,7980,1770,3550,5320,7090,8860,10640,12410]
[101]
[102]
[103]
[104]
[105]
[106]
[107]
[108]
[109]
[110]

{"sheet":"年","index":7,"n_rows":2,"n_cols":1,"rows_kept":2,"cut":false,"hidden":true,"merged":[]}
["今年"]
[2025]

{"sheet":"元号","index":8,"n_rows":5,"n_cols":5,"rows_kept":5,"cut":false,"hidden":true,"merged":[]}
[null,"開始年月日","最終年月日","記号","元号"]
[2019,"1912-07-30","1926-12-24","T","大正"]
[null,"1926-12-25","1989-01-07","S","昭和"]
[null,"1989-01-08","2019-04-30","H","平成"]
[null,"2019-05-01","9999-12-31","R","令和"]